Report for Bot-BasicBot-Pluggable-0.98

Back
From: metabase:user:320bfe00-2aae-11df-837a-5e0a49663a4f
Subject: PASS Bot-BasicBot-Pluggable-0.98 v5.18.4 GNU/Linux
Date: 2016-01-17T19:36:39Z

This distribution has been tested as part of the CPAN Testers
project, supporting the Perl programming language.  See
http://wiki.cpantesters.org/ for more information or email
questions to cpan-testers-discuss@perl.org


--
Dear Mike Eldridge,

This is a computer-generated report for Bot-BasicBot-Pluggable-0.98
on perl 5.18.4, created by CPAN-Reporter-1.2015.

Thank you for uploading your work to CPAN.  Congratulations!
All tests were successful.

Sections of this report:

    * Tester comments
    * Program output
    * Prerequisites
    * Environment and other context

------------------------------
TESTER COMMENTS
------------------------------

Additional comments from tester:

this report is from an automated smoke testing program
and was not reviewed by a human for accuracy

------------------------------
PROGRAM OUTPUT
------------------------------

Output from './Build test':

t/00bootstrap.t ........... ok
t/01module_base.t ......... ok
Loading Auth from Bot/BasicBot/Pluggable/Module/Auth.pm at /tmp/loop_over_bdir-6964-4XXUBc/Bot-BasicBot-Pluggable-0.98-Cd6NXr/blib/lib/Bot/BasicBot/Pluggable.pm line 106.
t/02module_auth.t ......... ok
t/03store.t ............... ok
t/03store_dbi.t ........... ok
t/03store_deep.t .......... ok
t/03store_memory.t ........ ok
t/03store_storable.t ...... ok
Loading Karma from Bot/BasicBot/Pluggable/Module/Karma.pm at /tmp/loop_over_bdir-6964-4XXUBc/Bot-BasicBot-Pluggable-0.98-Cd6NXr/blib/lib/Bot/BasicBot/Pluggable.pm line 106.
Use of uninitialized value $param in substitution (s///) at /tmp/loop_over_bdir-6964-4XXUBc/Bot-BasicBot-Pluggable-0.98-Cd6NXr/blib/lib/Bot/BasicBot/Pluggable/Module/Karma.pm line 66.
t/04karma.t ............... ok
Loading Infobot from Bot/BasicBot/Pluggable/Module/Infobot.pm at /tmp/loop_over_bdir-6964-4XXUBc/Bot-BasicBot-Pluggable-0.98-Cd6NXr/blib/lib/Bot/BasicBot/Pluggable.pm line 106.
t/05infobot.t ............. ok
Loading Title from Bot/BasicBot/Pluggable/Module/Title.pm at /tmp/loop_over_bdir-6964-4XXUBc/Bot-BasicBot-Pluggable-0.98-Cd6NXr/blib/lib/Bot/BasicBot/Pluggable.pm line 106.
Loading Infobot from Bot/BasicBot/Pluggable/Module/Infobot.pm at /tmp/loop_over_bdir-6964-4XXUBc/Bot-BasicBot-Pluggable-0.98-Cd6NXr/blib/lib/Bot/BasicBot/Pluggable.pm line 106.
t/06title.t ............... ok
Loading Auth from Bot/BasicBot/Pluggable/Module/Auth.pm at /tmp/loop_over_bdir-6964-4XXUBc/Bot-BasicBot-Pluggable-0.98-Cd6NXr/blib/lib/Bot/BasicBot/Pluggable.pm line 106.
Loading Loader from Bot/BasicBot/Pluggable/Module/Loader.pm at /tmp/loop_over_bdir-6964-4XXUBc/Bot-BasicBot-Pluggable-0.98-Cd6NXr/blib/lib/Bot/BasicBot/Pluggable.pm line 106.
t/07app_defaults.t ........ ok
Loading Karma from Bot/BasicBot/Pluggable/Module/Karma.pm at /tmp/loop_over_bdir-6964-4XXUBc/Bot-BasicBot-Pluggable-0.98-Cd6NXr/blib/lib/Bot/BasicBot/Pluggable.pm line 106.
Loading Auth from Bot/BasicBot/Pluggable/Module/Auth.pm at /tmp/loop_over_bdir-6964-4XXUBc/Bot-BasicBot-Pluggable-0.98-Cd6NXr/blib/lib/Bot/BasicBot/Pluggable.pm line 106.
t/08app_commandline.t ..... ok
Loading Loader from Bot/BasicBot/Pluggable/Module/Loader.pm at /tmp/loop_over_bdir-6964-4XXUBc/Bot-BasicBot-Pluggable-0.98-Cd6NXr/blib/lib/Bot/BasicBot/Pluggable.pm line 106.
Loading Karma from Bot/BasicBot/Pluggable/Module/Karma.pm at /tmp/loop_over_bdir-6964-4XXUBc/Bot-BasicBot-Pluggable-0.98-Cd6NXr/blib/lib/Bot/BasicBot/Pluggable.pm line 106.
Loading Auth from Bot/BasicBot/Pluggable/Module/Auth.pm at /tmp/loop_over_bdir-6964-4XXUBc/Bot-BasicBot-Pluggable-0.98-Cd6NXr/blib/lib/Bot/BasicBot/Pluggable.pm line 106.
t/09app_configfile.t ...... ok
t/100critic.t ............. skipped: Author test.  Set $ENV{TEST_AUTHOR} to a true value to run.
t/101tidy.t ............... skipped: Author test.  Set $ENV{TEST_AUTHOR} to a true value to run.
Loading Foo from ./Foo.pm at /tmp/loop_over_bdir-6964-4XXUBc/Bot-BasicBot-Pluggable-0.98-Cd6NXr/blib/lib/Bot/BasicBot/Pluggable.pm line 106.
Loading Bar from ./modules/Bar.pm at /tmp/loop_over_bdir-6964-4XXUBc/Bot-BasicBot-Pluggable-0.98-Cd6NXr/blib/lib/Bot/BasicBot/Pluggable.pm line 106.
t/10modules_not_in_inc.t .. ok
t/release-pod-coverage.t .. skipped: these tests are for release candidate testing
t/release-pod-syntax.t .... skipped: these tests are for release candidate testing
All tests successful.
Files=19, Tests=248, 10 wallclock secs ( 0.08 usr  0.13 sys +  5.37 cusr  0.91 csys =  6.49 CPU)
Result: PASS

------------------------------
PREREQUISITES
------------------------------

Prerequisite modules loaded:

requires:

    Module                       Need   Have        
    ---------------------------- ------ ------------
    base                         0      2.18        
    Bot::BasicBot                0.60   0.89        
    Carp                         0      1.29        
    CGI                          0      4.25        
    Config::Find                 0      0.31        
    Crypt::SaltedHash            0.06   0.09        
    Data::Dumper                 0      2.154       
    DBI                          0      1.634       
    DBM::Deep                    0      2.0013      
    File::Copy                   0      2.26        
    File::Spec                   0      3.62        
    File::Temp                   0      0.2304      
    List::MoreUtils              0      0.413       
    Log::Log4perl                1.11   1.46        
    Log::Log4perl::Level         0      0           
    LWP::UserAgent               0      6.15        
    Module::Load                 0      0.24        
    Module::Pluggable            0      5.2         
    Moose                        0      2.1604      
    Moose::Util::TypeConstraints 0      2.1604      
    MooseX::Getopt::Dashes       0      0.68        
    MooseX::SimpleConfig         0      0.11        
    perl                         v5.8.0 5.018004    
    POE                          0      1.367       
    Socket                       0      2.021       
    Storable                     0      2.51        
    strict                       0      1.07        
    Text::Unidecode              0      1.27        
    Try::Tiny                    0      0.24        
    URI                          0      1.71        
    URI::Find::Simple            0      1.06        
    URI::Title                   0      1.900       
    warnings                     0      1.18        
    XML::Feed                    0      0.53        

build_requires:

    Module                       Need   Have        
    ---------------------------- ------ ------------
    DBD::SQLite                  0      1.49_06     
    FindBin                      0      1.51        
    Module::Build                0.3601 0.4214      
    Test::More                   0      1.302013_011
    YAML::XS                     0      0.59        

configure_requires:

    Module                       Need   Have        
    ---------------------------- ------ ------------
    ExtUtils::MakeMaker          6.30   7.10        
    Module::Build                0.3601 0.4214      


------------------------------
ENVIRONMENT AND OTHER CONTEXT
------------------------------

Environment variables:

    AUTOMATED_TESTING = 1
    LANG = en_US.UTF-8
    LANGUAGE = en_US:en
    PATH = /home/sand/bin:/usr/local/bin:/usr/bin:/bin:/usr/games:/usr/local/perl/bin:/usr/X11/bin:/sbin:/usr/sbin
    PERL5LIB = 
    PERL5OPT = 
    PERL5_CPANPLUS_IS_RUNNING = 6974
    PERL5_CPAN_IS_RUNNING = 6974
    PERL_MM_USE_DEFAULT = 1
    SHELL = /usr/bin/zsh
    TERM = screen

Perl special variables (and OS-specific diagnostics, for MSWin32):

    $^X = /home/sand/src/perl/repoperls/installed-perls/perl/v5.18.4/79cc/bin/perl
    $UID/$EUID = 1005 / 1005
    $GID = 1005 1005
    $EGID = 1005 1005

Perl module toolchain versions installed:

    Module              Have        
    ------------------- ------------
    CPAN                2.10        
    CPAN::Meta          2.150005    
    Cwd                 3.62        
    ExtUtils::CBuilder  0.280224    
    ExtUtils::Command   7.10        
    ExtUtils::Install   1.59        
    ExtUtils::MakeMaker 7.10        
    ExtUtils::Manifest  1.70        
    ExtUtils::ParseXS   3.30        
    File::Spec          3.62        
    JSON                2.90        
    JSON::PP            2.27300     
    Module::Build       0.4214      
    Module::Signature   0.79        
    Parse::CPAN::Meta   1.4417      
    Test::Harness       3.36        
    Test::More          1.302013_011
    YAML                1.15        
    YAML::Syck          1.29        
    version             0.9912_02   


--

Summary of my perl5 (revision 5 version 18 subversion 4) configuration:
  Derived from: 51202371ba68f3f52f13124a3ea1bc3c171e0ee2
  Platform:
    osname=linux, osvers=4.3.0-1-amd64, archname=x86_64-linux
    uname='linux k83 4.3.0-1-amd64 #1 smp debian 4.3.3-2 (2015-12-17) x86_64 gnulinux '
    config_args='-Dprefix=/home/sand/src/perl/repoperls/installed-perls/perl/v5.18.4/79cc -Dmyhostname=k83 -Dinstallusrbinperl=n -Uversiononly -Dusedevel -des -Ui_db -Dlibswanted=cl pthread socket inet nsl gdbm dbm malloc dl ld sun m crypt sec util c cposix posix ucb BSD gdbm_compat -Uuseithreads -Uuselongdouble -DDEBUGGING=-g'
    hint=recommended, useposix=true, d_sigaction=define
    useithreads=undef, usemultiplicity=undef
    useperlio=define, d_sfio=undef, uselargefiles=define, usesocks=undef
    use64bitint=define, use64bitall=define, uselongdouble=undef
    usemymalloc=n, bincompat5005=undef
  Compiler:
    cc='cc', ccflags ='-fno-strict-aliasing -pipe -fstack-protector -I/usr/local/include -D_LARGEFILE_SOURCE -D_FILE_OFFSET_BITS=64',
    optimize='-O2 -g',
    cppflags='-fno-strict-aliasing -pipe -fstack-protector -I/usr/local/include'
    ccversion='', gccversion='5.3.1 20160101', gccosandvers=''
    intsize=4, longsize=8, ptrsize=8, doublesize=8, byteorder=12345678
    d_longlong=define, longlongsize=8, d_longdbl=define, longdblsize=16
    ivtype='long', ivsize=8, nvtype='double', nvsize=8, Off_t='off_t', lseeksize=8
    alignbytes=8, prototype=define
  Linker and Libraries:
    ld='cc', ldflags =' -fstack-protector -L/usr/local/lib'
    libpth=/usr/local/lib /lib/x86_64-linux-gnu /lib/../lib /usr/lib/x86_64-linux-gnu /usr/lib/../lib /lib /usr/lib
    libs=-lpthread -lnsl -lgdbm -ldl -lm -lcrypt -lutil -lc -lgdbm_compat
    perllibs=-lpthread -lnsl -ldl -lm -lcrypt -lutil -lc
    libc=libc-2.21.so, so=so, useshrplib=false, libperl=libperl.a
    gnulibc_version='2.21'
  Dynamic Linking:
    dlsrc=dl_dlopen.xs, dlext=so, d_dlsymun=undef, ccdlflags='-Wl,-E'
    cccdlflags='-fPIC', lddlflags='-shared -O2 -g -L/usr/local/lib -fstack-protector'


Characteristics of this binary (from libperl): 
  Compile-time options: HAS_TIMES PERLIO_LAYERS PERL_DONT_CREATE_GVSV
                        PERL_HASH_FUNC_ONE_AT_A_TIME_HARD PERL_MALLOC_WRAP
                        PERL_PRESERVE_IVUV PERL_SAWAMPERSAND PERL_USE_DEVEL
                        USE_64_BIT_ALL USE_64_BIT_INT USE_LARGE_FILES
                        USE_LOCALE USE_LOCALE_COLLATE USE_LOCALE_CTYPE
                        USE_LOCALE_NUMERIC USE_PERLIO USE_PERL_ATOF
  Locally applied patches:
	uncommitted-changes
	Devel::PatchPerl 1.38
  Built under linux
  Compiled at Jan  6 2016 05:46:25
  %ENV:
    PERL5LIB=""
    PERL5OPT=""
    PERL5_CPANPLUS_IS_RUNNING="6974"
    PERL5_CPAN_IS_RUNNING="6974"
    PERL_MM_USE_DEFAULT="1"
  @INC:
    /home/sand/src/perl/repoperls/installed-perls/perl/v5.18.4/79cc/lib/site_perl/5.18.4/x86_64-linux
    /home/sand/src/perl/repoperls/installed-perls/perl/v5.18.4/79cc/lib/site_perl/5.18.4
    /home/sand/src/perl/repoperls/installed-perls/perl/v5.18.4/79cc/lib/5.18.4/x86_64-linux
    /home/sand/src/perl/repoperls/installed-perls/perl/v5.18.4/79cc/lib/5.18.4
    .