Report for Carp-Diagnostics-0.05.3

Back
From: metabase:user:0b91ce32-3676-11e1-a1bc-bfed0df65b4f
Subject: PASS Carp-Diagnostics-0.05.3 v5.17.0 GNU/Linux
Date: 2012-07-17T18:02:53Z

This distribution has been tested as part of the CPAN Testers
project, supporting the Perl programming language.  See
http://wiki.cpantesters.org/ for more information or email
questions to cpan-testers-discuss@perl.org


--
Dear Nadim Ibn Hamouda El Khemir,

This is a computer-generated report for Carp-Diagnostics-0.05.3
on perl 5.17.0, created by CPAN-Reporter-1.2006.

Thank you for uploading your work to CPAN.  Congratulations!
All tests were successful.

Sections of this report:

    * Tester comments
    * Program output
    * Prerequisites
    * Environment and other context

------------------------------
TESTER COMMENTS
------------------------------

Additional comments from tester:

this report is from an automated smoke testing program
and was not reviewed by a human for accuracy

------------------------------
PROGRAM OUTPUT
------------------------------

Output from '/usr/bin/make test':

/opt/perl-5.17.0/bin/perl Build --makefile_env_macros 1 test
[11:02:48] t/001_load.t ......... 
ok 1 - use Carp::Diagnostics;
ok 2 - no warnings
1..2
ok     1522 ms
[11:02:48] t/004_diagnostics.t .. 
ok 1 - cluck
ok 2 - carp
ok 3 - croak
ok 4 - confess
ok 5 - short cluck
ok 6 - short carp
ok 7 - short croak
ok 8 - short confess
ok 9 - pod is converted to text
ok 10 - non pod is used verbatime
ok 11 - no warnings
1..11
ok      492 ms
[11:02:49] t/005_arguments.t .... 
ok 1 - cluck
ok 2 - carp
ok 3 - croak
ok 4 - confess
ok 5 - cluck
ok 6 - carp
ok 7 - croak
ok 8 - confess
ok 9 - pod is converted to text for single argument
ok 10 - non pod is used verbatime
ok 11 - no warnings
1..11
ok      571 ms
[11:02:49]
All tests successful.
Files=3, Tests=24,  3 wallclock secs ( 0.13 usr  0.03 sys +  1.14 cusr  0.13 csys =  1.43 CPU)
Result: PASS

------------------------------
PREREQUISITES
------------------------------

Prerequisite modules loaded:

requires:

    Module           Need Have 
    ---------------- ---- -----
    IO::String       0    1.08 
    Pod::Text        0    3.16 
    Readonly         0    1.03 
    Sub::Exporter    0    0.984
    Term::Size       0.2  0.207
    Test::Block      0    0.13 
    Test::Exception  0    0.31 
    Test::NoWarnings 0    1.04 
    Test::Warn       0    0.24 


------------------------------
ENVIRONMENT AND OTHER CONTEXT
------------------------------

Environment variables:

    AUTHOR_TESTING = 1
    AUTOMATED_TESTING = 1
    LANG = en_US.UTF-8
    PATH = /usr/kerberos/sbin:/usr/kerberos/bin:/usr/local/sbin:/usr/local/bin:/sbin:/bin:/usr/sbin:/usr/bin:/opt/real/RealPlayer:/root/bin:/opt/real/RealPlayer
    PERL5LIB = 
    PERL5OPT = 
    PERL5_CPANPLUS_IS_RUNNING = 2477
    PERL5_CPAN_IS_RUNNING = 2477
    PERL_AUTOINSTALL_PREFER_CPAN = 1
    PERL_EXTUTILS_AUTOINSTALL = -defaultdeps
    PERL_MM_USE_DEFAULT = 1
    PERL_TEST_HARNESS_DUMP_TAP = 1
    SHELL = /bin/bash
    TERM = xterm

Perl special variables (and OS-specific diagnostics, for MSWin32):

    $^X = /opt/perl-5.17.0/bin/perl
    $UID/$EUID = 0 / 0
    $GID = 0 0 1 2 3 4 6 10
    $EGID = 0 0 1 2 3 4 6 10

Perl module toolchain versions installed:

    Module              Have    
    ------------------- --------
    CPAN                1.9800  
    CPAN::Meta          2.120921
    Cwd                 3.33    
    ExtUtils::CBuilder  0.280205
    ExtUtils::Command   1.17    
    ExtUtils::Install   1.54    
    ExtUtils::MakeMaker 6.62    
    ExtUtils::Manifest  1.60    
    ExtUtils::ParseXS   3.15    
    File::Spec          3.33    
    JSON                2.53    
    JSON::PP            2.27200 
    Module::Build       0.4001  
    Module::Signature   0.68    
    Parse::CPAN::Meta   1.4404  
    Test::Harness       3.25    
    Test::More          0.98    
    YAML                0.84    
    YAML::Syck          1.20    
    version             0.99    


--

Summary of my perl5 (revision 5 version 17 subversion 0) configuration:
   
  Platform:
    osname=linux, osvers=2.6.18-1.2798.fc6, archname=i686-linux-thread-multi-64int-ld
    uname='linux localhost.localdomain 2.6.18-1.2798.fc6 #1 smp mon oct 16 14:37:32 edt 2006 i686 i686 i386 gnulinux '
    config_args='-Dcc=gcc -Dprefix=/opt/perl-5.17.0 -DDEBUGGING'
    hint=recommended, useposix=true, d_sigaction=define
    useithreads=define, usemultiplicity=define
    useperlio=define, d_sfio=undef, uselargefiles=define, usesocks=undef
    use64bitint=define, use64bitall=undef, uselongdouble=define
    usemymalloc=y, bincompat5005=undef
  Compiler:
    cc='gcc', ccflags ='-D_REENTRANT -D_GNU_SOURCE -DDEBUGGING -fno-strict-aliasing -pipe -fstack-protector -I/usr/local/include -D_LARGEFILE_SOURCE -D_FILE_OFFSET_BITS=64',
    optimize='-O2 -g',
    cppflags='-D_REENTRANT -D_GNU_SOURCE -DDEBUGGING -fno-strict-aliasing -pipe -fstack-protector -I/usr/local/include'
    ccversion='', gccversion='4.1.1 20061011 (Red Hat 4.1.1-30)', gccosandvers=''
    intsize=4, longsize=4, ptrsize=4, doublesize=8, byteorder=12345678
    d_longlong=define, longlongsize=8, d_longdbl=define, longdblsize=12
    ivtype='long long', ivsize=8, nvtype='long double', nvsize=12, Off_t='off_t', lseeksize=8
    alignbytes=4, prototype=define
  Linker and Libraries:
    ld='gcc', ldflags =' -fstack-protector -L/usr/local/lib'
    libpth=/usr/local/lib /lib /usr/lib
    libs=-lnsl -lgdbm -ldb -ldl -lm -lcrypt -lutil -lpthread -lc
    perllibs=-lnsl -ldl -lm -lcrypt -lutil -lpthread -lc
    libc=/lib/libc-2.5.so, so=so, useshrplib=true, libperl=libperl.so
    gnulibc_version='2.5'
  Dynamic Linking:
    dlsrc=dl_dlopen.xs, dlext=so, d_dlsymun=undef, ccdlflags='-Wl,-E -Wl,-rpath,/opt/perl-5.17.0/lib/5.17.0/i686-linux-thread-multi-64int-ld/CORE'
    cccdlflags='-fPIC', lddlflags='-shared -O2 -g -L/usr/local/lib -fstack-protector'


Characteristics of this binary (from libperl): 
  Compile-time options: DEBUGGING HAS_TIMES MULTIPLICITY MYMALLOC
                        PERLIO_LAYERS PERL_DONT_CREATE_GVSV
                        PERL_IMPLICIT_CONTEXT PERL_MALLOC_WRAP
                        PERL_PRESERVE_IVUV PERL_TRACK_MEMPOOL USE_64_BIT_INT
                        USE_FAST_STDIO USE_ITHREADS USE_LARGE_FILES
                        USE_LOCALE USE_LOCALE_COLLATE USE_LOCALE_CTYPE
                        USE_LOCALE_NUMERIC USE_LONG_DOUBLE USE_PERLIO
                        USE_PERL_ATOF USE_REENTRANT_API
  Built under linux
  Compiled at May 28 2012 07:04:07
  %ENV:
    PERL5LIB=""
    PERL5OPT=""
    PERL5_CPANPLUS_IS_RUNNING="2477"
    PERL5_CPAN_IS_RUNNING="2477"
    PERL_AUTOINSTALL_PREFER_CPAN="1"
    PERL_EXTUTILS_AUTOINSTALL="-defaultdeps"
    PERL_MM_USE_DEFAULT="1"
    PERL_TEST_HARNESS_DUMP_TAP="1"
  @INC:
    /opt/perl-5.17.0/lib/site_perl/5.17.0/i686-linux-thread-multi-64int-ld
    /opt/perl-5.17.0/lib/site_perl/5.17.0
    /opt/perl-5.17.0/lib/5.17.0/i686-linux-thread-multi-64int-ld
    /opt/perl-5.17.0/lib/5.17.0
    .