MRS-Client v1.0.1 Perl 5 v5.24.4 x86_64-linux-ld
- Status
- Pass
- From
- Andreas J. König (ANDK)
- Dist
-
MRS-Client v1.0.1
- Platform
- Perl 5 v5.24.4 x86_64-linux-ld
- Date
- 2018-12-10 11:56:29
- ID
- a13c080c-fc72-11e8-8f9c-e871c2e94355
This distribution has been tested as part of the CPAN Testers
project, supporting the Perl programming language. See
http://wiki.cpantesters.org/ for more information or email
questions to cpan-testers-discuss@perl.org
--
Dear Martin Senger,
This is a computer-generated report for MRS-Client-1.0.1
on perl 5.24.4, created by CPAN-Reporter-1.2018.
Thank you for uploading your work to CPAN. Congratulations!
All tests were successful.
Sections of this report:
* Tester comments
* Program output
* Prerequisites
* Environment and other context
------------------------------
TESTER COMMENTS
------------------------------
Additional comments from tester:
this report is from an automated smoke testing program
and was not reviewed by a human for accuracy
------------------------------
PROGRAM OUTPUT
------------------------------
Output from '/usr/bin/make test':
PERL_DL_NONLAZY=1 "/home/sand/src/perl/repoperls/installed-perls/host/k93msid/v5.24.4/fc43/bin/perl" "-MExtUtils::Command::MM" "-MTest::Harness" "-e" "undef *Test::Harness::Switches; test_harness(0, 'blib/lib', 'blib/arch')" t/*.t
Possible precedence issue with control flow operator at lib/MRS/Client/Blast.pm line 269.
Unescaped left brace in regex is deprecated, passed through in regex; marked by <-- HERE in m/\${ <-- HERE JOBID}/ at lib/MRS/Client/Blast.pm line 409.
Unescaped left brace in regex is deprecated, passed through in regex; marked by <-- HERE in m/\${ <-- HERE SEQDESC}/ at lib/MRS/Client/Blast.pm line 411.
Unescaped left brace in regex is deprecated, passed through in regex; marked by <-- HERE in m/\${ <-- HERE SEQDESC}/ at lib/MRS/Client/Blast.pm line 413.
Unescaped left brace in regex is deprecated, passed through in regex; marked by <-- HERE in m/\${ <-- HERE SEQDESC}/ at lib/MRS/Client/Blast.pm line 415.
Unescaped left brace in regex is deprecated, passed through in regex; marked by <-- HERE in m/\${ <-- HERE DB}/ at lib/MRS/Client/Blast.pm line 417.
Unescaped left brace in regex is deprecated, passed through in regex; marked by <-- HERE in m/\${ <-- HERE SEQLEN}/ at lib/MRS/Client/Blast.pm line 418.
Unescaped left brace in regex is deprecated, passed through in regex; marked by <-- HERE in m/\${ <-- HERE PARMATRIX}/ at lib/MRS/Client/Blast.pm line 419.
Unescaped left brace in regex is deprecated, passed through in regex; marked by <-- HERE in m/\${ <-- HERE PAREXPECT}/ at lib/MRS/Client/Blast.pm line 420.
Unescaped left brace in regex is deprecated, passed through in regex; marked by <-- HERE in m/\${ <-- HERE PARGAPOPEN}/ at lib/MRS/Client/Blast.pm line 421.
Unescaped left brace in regex is deprecated, passed through in regex; marked by <-- HERE in m/\${ <-- HERE PARGAPEXTEND}/ at lib/MRS/Client/Blast.pm line 422.
Unescaped left brace in regex is deprecated, passed through in regex; marked by <-- HERE in m/\${ <-- HERE PARFILTER}/ at lib/MRS/Client/Blast.pm line 423.
Unescaped left brace in regex is deprecated, passed through in regex; marked by <-- HERE in m/\${ <-- HERE DBCOUNT}/ at lib/MRS/Client/Blast.pm line 425.
Unescaped left brace in regex is deprecated, passed through in regex; marked by <-- HERE in m/\${ <-- HERE DBLENGTH}/ at lib/MRS/Client/Blast.pm line 426.
Unescaped left brace in regex is deprecated, passed through in regex; marked by <-- HERE in m/\${ <-- HERE DBSPACE}/ at lib/MRS/Client/Blast.pm line 427.
Unescaped left brace in regex is deprecated, passed through in regex; marked by <-- HERE in m/\${ <-- HERE KAPPA}/ at lib/MRS/Client/Blast.pm line 428.
Unescaped left brace in regex is deprecated, passed through in regex; marked by <-- HERE in m/\${ <-- HERE LAMBDA}/ at lib/MRS/Client/Blast.pm line 429.
Unescaped left brace in regex is deprecated, passed through in regex; marked by <-- HERE in m/\${ <-- HERE ENTROPY}/ at lib/MRS/Client/Blast.pm line 430.
Unescaped left brace in regex is deprecated, passed through in regex; marked by <-- HERE in m/\${ <-- HERE HITNR}/ at lib/MRS/Client/Blast.pm line 439.
Unescaped left brace in regex is deprecated, passed through in regex; marked by <-- HERE in m/\${ <-- HERE HITID}/ at lib/MRS/Client/Blast.pm line 440.
Unescaped left brace in regex is deprecated, passed through in regex; marked by <-- HERE in m/\${ <-- HERE HITSEQID}/ at lib/MRS/Client/Blast.pm line 442.
Unescaped left brace in regex is deprecated, passed through in regex; marked by <-- HERE in m/\${ <-- HERE HITSEQID}/ at lib/MRS/Client/Blast.pm line 444.
Unescaped left brace in regex is deprecated, passed through in regex; marked by <-- HERE in m/\${ <-- HERE HITSUBLEN}/ at lib/MRS/Client/Blast.pm line 447.
Unescaped left brace in regex is deprecated, passed through in regex; marked by <-- HERE in m/\${ <-- HERE HSPNR}/ at lib/MRS/Client/Blast.pm line 456.
Unescaped left brace in regex is deprecated, passed through in regex; marked by <-- HERE in m/\${ <-- HERE HSPBITSCORE}/ at lib/MRS/Client/Blast.pm line 457.
Unescaped left brace in regex is deprecated, passed through in regex; marked by <-- HERE in m/\${ <-- HERE HSPSCORE}/ at lib/MRS/Client/Blast.pm line 458.
Unescaped left brace in regex is deprecated, passed through in regex; marked by <-- HERE in m/\${ <-- HERE HSPEXPECT}/ at lib/MRS/Client/Blast.pm line 459.
Unescaped left brace in regex is deprecated, passed through in regex; marked by <-- HERE in m/\${ <-- HERE HSPIDENTITY}/ at lib/MRS/Client/Blast.pm line 460.
Unescaped left brace in regex is deprecated, passed through in regex; marked by <-- HERE in m/\${ <-- HERE HSPPOSITIVE}/ at lib/MRS/Client/Blast.pm line 461.
Unescaped left brace in regex is deprecated, passed through in regex; marked by <-- HERE in m/\${ <-- HERE HSPMIDLINE}/ at lib/MRS/Client/Blast.pm line 462.
Unescaped left brace in regex is deprecated, passed through in regex; marked by <-- HERE in m/\${ <-- HERE HSPQFROM}/ at lib/MRS/Client/Blast.pm line 484.
Unescaped left brace in regex is deprecated, passed through in regex; marked by <-- HERE in m/\${ <-- HERE HSPQTO}/ at lib/MRS/Client/Blast.pm line 485.
Unescaped left brace in regex is deprecated, passed through in regex; marked by <-- HERE in m/\${ <-- HERE HSPHFROM}/ at lib/MRS/Client/Blast.pm line 486.
Unescaped left brace in regex is deprecated, passed through in regex; marked by <-- HERE in m/\${ <-- HERE HSPHTO}/ at lib/MRS/Client/Blast.pm line 487.
Unescaped left brace in regex is deprecated, passed through in regex; marked by <-- HERE in m/\${ <-- HERE HSPALIGNLEN}/ at lib/MRS/Client/Blast.pm line 488.
Unescaped left brace in regex is deprecated, passed through in regex; marked by <-- HERE in m/\${ <-- HERE HSPQALIGN}/ at lib/MRS/Client/Blast.pm line 489.
Unescaped left brace in regex is deprecated, passed through in regex; marked by <-- HERE in m/\${ <-- HERE HSPSUBALIGN}/ at lib/MRS/Client/Blast.pm line 490.
Unescaped left brace in regex is deprecated, passed through in regex; marked by <-- HERE in m/\${ <-- HERE LOCATION}/ at lib/MRS/Client.pm line 221.
Unescaped left brace in regex is deprecated, passed through in regex; marked by <-- HERE in m/\${ <-- HERE SERVICE}/ at lib/MRS/Client.pm line 222.
Possible precedence issue with control flow operator at lib/MRS/Client/Blast.pm line 269.
Unescaped left brace in regex is deprecated, passed through in regex; marked by <-- HERE in m/\${ <-- HERE JOBID}/ at lib/MRS/Client/Blast.pm line 409.
Unescaped left brace in regex is deprecated, passed through in regex; marked by <-- HERE in m/\${ <-- HERE SEQDESC}/ at lib/MRS/Client/Blast.pm line 411.
Unescaped left brace in regex is deprecated, passed through in regex; marked by <-- HERE in m/\${ <-- HERE SEQDESC}/ at lib/MRS/Client/Blast.pm line 413.
Unescaped left brace in regex is deprecated, passed through in regex; marked by <-- HERE in m/\${ <-- HERE SEQDESC}/ at lib/MRS/Client/Blast.pm line 415.
Unescaped left brace in regex is deprecated, passed through in regex; marked by <-- HERE in m/\${ <-- HERE DB}/ at lib/MRS/Client/Blast.pm line 417.
Unescaped left brace in regex is deprecated, passed through in regex; marked by <-- HERE in m/\${ <-- HERE SEQLEN}/ at lib/MRS/Client/Blast.pm line 418.
Unescaped left brace in regex is deprecated, passed through in regex; marked by <-- HERE in m/\${ <-- HERE PARMATRIX}/ at lib/MRS/Client/Blast.pm line 419.
Unescaped left brace in regex is deprecated, passed through in regex; marked by <-- HERE in m/\${ <-- HERE PAREXPECT}/ at lib/MRS/Client/Blast.pm line 420.
Unescaped left brace in regex is deprecated, passed through in regex; marked by <-- HERE in m/\${ <-- HERE PARGAPOPEN}/ at lib/MRS/Client/Blast.pm line 421.
Unescaped left brace in regex is deprecated, passed through in regex; marked by <-- HERE in m/\${ <-- HERE PARGAPEXTEND}/ at lib/MRS/Client/Blast.pm line 422.
Unescaped left brace in regex is deprecated, passed through in regex; marked by <-- HERE in m/\${ <-- HERE PARFILTER}/ at lib/MRS/Client/Blast.pm line 423.
Unescaped left brace in regex is deprecated, passed through in regex; marked by <-- HERE in m/\${ <-- HERE DBCOUNT}/ at lib/MRS/Client/Blast.pm line 425.
Unescaped left brace in regex is deprecated, passed through in regex; marked by <-- HERE in m/\${ <-- HERE DBLENGTH}/ at lib/MRS/Client/Blast.pm line 426.
Unescaped left brace in regex is deprecated, passed through in regex; marked by <-- HERE in m/\${ <-- HERE DBSPACE}/ at lib/MRS/Client/Blast.pm line 427.
Unescaped left brace in regex is deprecated, passed through in regex; marked by <-- HERE in m/\${ <-- HERE KAPPA}/ at lib/MRS/Client/Blast.pm line 428.
Unescaped left brace in regex is deprecated, passed through in regex; marked by <-- HERE in m/\${ <-- HERE LAMBDA}/ at lib/MRS/Client/Blast.pm line 429.
Unescaped left brace in regex is deprecated, passed through in regex; marked by <-- HERE in m/\${ <-- HERE ENTROPY}/ at lib/MRS/Client/Blast.pm line 430.
Unescaped left brace in regex is deprecated, passed through in regex; marked by <-- HERE in m/\${ <-- HERE HITNR}/ at lib/MRS/Client/Blast.pm line 439.
Unescaped left brace in regex is deprecated, passed through in regex; marked by <-- HERE in m/\${ <-- HERE HITID}/ at lib/MRS/Client/Blast.pm line 440.
Unescaped left brace in regex is deprecated, passed through in regex; marked by <-- HERE in m/\${ <-- HERE HITSEQID}/ at lib/MRS/Client/Blast.pm line 442.
Unescaped left brace in regex is deprecated, passed through in regex; marked by <-- HERE in m/\${ <-- HERE HITSEQID}/ at lib/MRS/Client/Blast.pm line 444.
Unescaped left brace in regex is deprecated, passed through in regex; marked by <-- HERE in m/\${ <-- HERE HITSUBLEN}/ at lib/MRS/Client/Blast.pm line 447.
Unescaped left brace in regex is deprecated, passed through in regex; marked by <-- HERE in m/\${ <-- HERE HSPNR}/ at lib/MRS/Client/Blast.pm line 456.
Unescaped left brace in regex is deprecated, passed through in regex; marked by <-- HERE in m/\${ <-- HERE HSPBITSCORE}/ at lib/MRS/Client/Blast.pm line 457.
Unescaped left brace in regex is deprecated, passed through in regex; marked by <-- HERE in m/\${ <-- HERE HSPSCORE}/ at lib/MRS/Client/Blast.pm line 458.
Unescaped left brace in regex is deprecated, passed through in regex; marked by <-- HERE in m/\${ <-- HERE HSPEXPECT}/ at lib/MRS/Client/Blast.pm line 459.
Unescaped left brace in regex is deprecated, passed through in regex; marked by <-- HERE in m/\${ <-- HERE HSPIDENTITY}/ at lib/MRS/Client/Blast.pm line 460.
Unescaped left brace in regex is deprecated, passed through in regex; marked by <-- HERE in m/\${ <-- HERE HSPPOSITIVE}/ at lib/MRS/Client/Blast.pm line 461.
Unescaped left brace in regex is deprecated, passed through in regex; marked by <-- HERE in m/\${ <-- HERE HSPMIDLINE}/ at lib/MRS/Client/Blast.pm line 462.
Unescaped left brace in regex is deprecated, passed through in regex; marked by <-- HERE in m/\${ <-- HERE HSPQFROM}/ at lib/MRS/Client/Blast.pm line 484.
Unescaped left brace in regex is deprecated, passed through in regex; marked by <-- HERE in m/\${ <-- HERE HSPQTO}/ at lib/MRS/Client/Blast.pm line 485.
Unescaped left brace in regex is deprecated, passed through in regex; marked by <-- HERE in m/\${ <-- HERE HSPHFROM}/ at lib/MRS/Client/Blast.pm line 486.
Unescaped left brace in regex is deprecated, passed through in regex; marked by <-- HERE in m/\${ <-- HERE HSPHTO}/ at lib/MRS/Client/Blast.pm line 487.
Unescaped left brace in regex is deprecated, passed through in regex; marked by <-- HERE in m/\${ <-- HERE HSPALIGNLEN}/ at lib/MRS/Client/Blast.pm line 488.
Unescaped left brace in regex is deprecated, passed through in regex; marked by <-- HERE in m/\${ <-- HERE HSPQALIGN}/ at lib/MRS/Client/Blast.pm line 489.
Unescaped left brace in regex is deprecated, passed through in regex; marked by <-- HERE in m/\${ <-- HERE HSPSUBALIGN}/ at lib/MRS/Client/Blast.pm line 490.
t/00-compile.t .......... ok
Possible precedence issue with control flow operator at /tmp/loop_over_bdir-23675-iIEsmF/MRS-Client-1.0.1-0/blib/lib/MRS/Client/Blast.pm line 269.
Unescaped left brace in regex is deprecated, passed through in regex; marked by <-- HERE in m/\${ <-- HERE JOBID}/ at /tmp/loop_over_bdir-23675-iIEsmF/MRS-Client-1.0.1-0/blib/lib/MRS/Client/Blast.pm line 409.
Unescaped left brace in regex is deprecated, passed through in regex; marked by <-- HERE in m/\${ <-- HERE SEQDESC}/ at /tmp/loop_over_bdir-23675-iIEsmF/MRS-Client-1.0.1-0/blib/lib/MRS/Client/Blast.pm line 411.
Unescaped left brace in regex is deprecated, passed through in regex; marked by <-- HERE in m/\${ <-- HERE SEQDESC}/ at /tmp/loop_over_bdir-23675-iIEsmF/MRS-Client-1.0.1-0/blib/lib/MRS/Client/Blast.pm line 413.
Unescaped left brace in regex is deprecated, passed through in regex; marked by <-- HERE in m/\${ <-- HERE SEQDESC}/ at /tmp/loop_over_bdir-23675-iIEsmF/MRS-Client-1.0.1-0/blib/lib/MRS/Client/Blast.pm line 415.
Unescaped left brace in regex is deprecated, passed through in regex; marked by <-- HERE in m/\${ <-- HERE DB}/ at /tmp/loop_over_bdir-23675-iIEsmF/MRS-Client-1.0.1-0/blib/lib/MRS/Client/Blast.pm line 417.
Unescaped left brace in regex is deprecated, passed through in regex; marked by <-- HERE in m/\${ <-- HERE SEQLEN}/ at /tmp/loop_over_bdir-23675-iIEsmF/MRS-Client-1.0.1-0/blib/lib/MRS/Client/Blast.pm line 418.
Unescaped left brace in regex is deprecated, passed through in regex; marked by <-- HERE in m/\${ <-- HERE PARMATRIX}/ at /tmp/loop_over_bdir-23675-iIEsmF/MRS-Client-1.0.1-0/blib/lib/MRS/Client/Blast.pm line 419.
Unescaped left brace in regex is deprecated, passed through in regex; marked by <-- HERE in m/\${ <-- HERE PAREXPECT}/ at /tmp/loop_over_bdir-23675-iIEsmF/MRS-Client-1.0.1-0/blib/lib/MRS/Client/Blast.pm line 420.
Unescaped left brace in regex is deprecated, passed through in regex; marked by <-- HERE in m/\${ <-- HERE PARGAPOPEN}/ at /tmp/loop_over_bdir-23675-iIEsmF/MRS-Client-1.0.1-0/blib/lib/MRS/Client/Blast.pm line 421.
Unescaped left brace in regex is deprecated, passed through in regex; marked by <-- HERE in m/\${ <-- HERE PARGAPEXTEND}/ at /tmp/loop_over_bdir-23675-iIEsmF/MRS-Client-1.0.1-0/blib/lib/MRS/Client/Blast.pm line 422.
Unescaped left brace in regex is deprecated, passed through in regex; marked by <-- HERE in m/\${ <-- HERE PARFILTER}/ at /tmp/loop_over_bdir-23675-iIEsmF/MRS-Client-1.0.1-0/blib/lib/MRS/Client/Blast.pm line 423.
Unescaped left brace in regex is deprecated, passed through in regex; marked by <-- HERE in m/\${ <-- HERE DBCOUNT}/ at /tmp/loop_over_bdir-23675-iIEsmF/MRS-Client-1.0.1-0/blib/lib/MRS/Client/Blast.pm line 425.
Unescaped left brace in regex is deprecated, passed through in regex; marked by <-- HERE in m/\${ <-- HERE DBLENGTH}/ at /tmp/loop_over_bdir-23675-iIEsmF/MRS-Client-1.0.1-0/blib/lib/MRS/Client/Blast.pm line 426.
Unescaped left brace in regex is deprecated, passed through in regex; marked by <-- HERE in m/\${ <-- HERE DBSPACE}/ at /tmp/loop_over_bdir-23675-iIEsmF/MRS-Client-1.0.1-0/blib/lib/MRS/Client/Blast.pm line 427.
Unescaped left brace in regex is deprecated, passed through in regex; marked by <-- HERE in m/\${ <-- HERE KAPPA}/ at /tmp/loop_over_bdir-23675-iIEsmF/MRS-Client-1.0.1-0/blib/lib/MRS/Client/Blast.pm line 428.
Unescaped left brace in regex is deprecated, passed through in regex; marked by <-- HERE in m/\${ <-- HERE LAMBDA}/ at /tmp/loop_over_bdir-23675-iIEsmF/MRS-Client-1.0.1-0/blib/lib/MRS/Client/Blast.pm line 429.
Unescaped left brace in regex is deprecated, passed through in regex; marked by <-- HERE in m/\${ <-- HERE ENTROPY}/ at /tmp/loop_over_bdir-23675-iIEsmF/MRS-Client-1.0.1-0/blib/lib/MRS/Client/Blast.pm line 430.
Unescaped left brace in regex is deprecated, passed through in regex; marked by <-- HERE in m/\${ <-- HERE HITNR}/ at /tmp/loop_over_bdir-23675-iIEsmF/MRS-Client-1.0.1-0/blib/lib/MRS/Client/Blast.pm line 439.
Unescaped left brace in regex is deprecated, passed through in regex; marked by <-- HERE in m/\${ <-- HERE HITID}/ at /tmp/loop_over_bdir-23675-iIEsmF/MRS-Client-1.0.1-0/blib/lib/MRS/Client/Blast.pm line 440.
Unescaped left brace in regex is deprecated, passed through in regex; marked by <-- HERE in m/\${ <-- HERE HITSEQID}/ at /tmp/loop_over_bdir-23675-iIEsmF/MRS-Client-1.0.1-0/blib/lib/MRS/Client/Blast.pm line 442.
Unescaped left brace in regex is deprecated, passed through in regex; marked by <-- HERE in m/\${ <-- HERE HITSEQID}/ at /tmp/loop_over_bdir-23675-iIEsmF/MRS-Client-1.0.1-0/blib/lib/MRS/Client/Blast.pm line 444.
Unescaped left brace in regex is deprecated, passed through in regex; marked by <-- HERE in m/\${ <-- HERE HITSUBLEN}/ at /tmp/loop_over_bdir-23675-iIEsmF/MRS-Client-1.0.1-0/blib/lib/MRS/Client/Blast.pm line 447.
Unescaped left brace in regex is deprecated, passed through in regex; marked by <-- HERE in m/\${ <-- HERE HSPNR}/ at /tmp/loop_over_bdir-23675-iIEsmF/MRS-Client-1.0.1-0/blib/lib/MRS/Client/Blast.pm line 456.
Unescaped left brace in regex is deprecated, passed through in regex; marked by <-- HERE in m/\${ <-- HERE HSPBITSCORE}/ at /tmp/loop_over_bdir-23675-iIEsmF/MRS-Client-1.0.1-0/blib/lib/MRS/Client/Blast.pm line 457.
Unescaped left brace in regex is deprecated, passed through in regex; marked by <-- HERE in m/\${ <-- HERE HSPSCORE}/ at /tmp/loop_over_bdir-23675-iIEsmF/MRS-Client-1.0.1-0/blib/lib/MRS/Client/Blast.pm line 458.
Unescaped left brace in regex is deprecated, passed through in regex; marked by <-- HERE in m/\${ <-- HERE HSPEXPECT}/ at /tmp/loop_over_bdir-23675-iIEsmF/MRS-Client-1.0.1-0/blib/lib/MRS/Client/Blast.pm line 459.
Unescaped left brace in regex is deprecated, passed through in regex; marked by <-- HERE in m/\${ <-- HERE HSPIDENTITY}/ at /tmp/loop_over_bdir-23675-iIEsmF/MRS-Client-1.0.1-0/blib/lib/MRS/Client/Blast.pm line 460.
Unescaped left brace in regex is deprecated, passed through in regex; marked by <-- HERE in m/\${ <-- HERE HSPPOSITIVE}/ at /tmp/loop_over_bdir-23675-iIEsmF/MRS-Client-1.0.1-0/blib/lib/MRS/Client/Blast.pm line 461.
Unescaped left brace in regex is deprecated, passed through in regex; marked by <-- HERE in m/\${ <-- HERE HSPMIDLINE}/ at /tmp/loop_over_bdir-23675-iIEsmF/MRS-Client-1.0.1-0/blib/lib/MRS/Client/Blast.pm line 462.
Unescaped left brace in regex is deprecated, passed through in regex; marked by <-- HERE in m/\${ <-- HERE HSPQFROM}/ at /tmp/loop_over_bdir-23675-iIEsmF/MRS-Client-1.0.1-0/blib/lib/MRS/Client/Blast.pm line 484.
Unescaped left brace in regex is deprecated, passed through in regex; marked by <-- HERE in m/\${ <-- HERE HSPQTO}/ at /tmp/loop_over_bdir-23675-iIEsmF/MRS-Client-1.0.1-0/blib/lib/MRS/Client/Blast.pm line 485.
Unescaped left brace in regex is deprecated, passed through in regex; marked by <-- HERE in m/\${ <-- HERE HSPHFROM}/ at /tmp/loop_over_bdir-23675-iIEsmF/MRS-Client-1.0.1-0/blib/lib/MRS/Client/Blast.pm line 486.
Unescaped left brace in regex is deprecated, passed through in regex; marked by <-- HERE in m/\${ <-- HERE HSPHTO}/ at /tmp/loop_over_bdir-23675-iIEsmF/MRS-Client-1.0.1-0/blib/lib/MRS/Client/Blast.pm line 487.
Unescaped left brace in regex is deprecated, passed through in regex; marked by <-- HERE in m/\${ <-- HERE HSPALIGNLEN}/ at /tmp/loop_over_bdir-23675-iIEsmF/MRS-Client-1.0.1-0/blib/lib/MRS/Client/Blast.pm line 488.
Unescaped left brace in regex is deprecated, passed through in regex; marked by <-- HERE in m/\${ <-- HERE HSPQALIGN}/ at /tmp/loop_over_bdir-23675-iIEsmF/MRS-Client-1.0.1-0/blib/lib/MRS/Client/Blast.pm line 489.
Unescaped left brace in regex is deprecated, passed through in regex; marked by <-- HERE in m/\${ <-- HERE HSPSUBALIGN}/ at /tmp/loop_over_bdir-23675-iIEsmF/MRS-Client-1.0.1-0/blib/lib/MRS/Client/Blast.pm line 490.
Unescaped left brace in regex is deprecated, passed through in regex; marked by <-- HERE in m/\${ <-- HERE LOCATION}/ at /tmp/loop_over_bdir-23675-iIEsmF/MRS-Client-1.0.1-0/blib/lib/MRS/Client.pm line 221.
Unescaped left brace in regex is deprecated, passed through in regex; marked by <-- HERE in m/\${ <-- HERE SERVICE}/ at /tmp/loop_over_bdir-23675-iIEsmF/MRS-Client-1.0.1-0/blib/lib/MRS/Client.pm line 222.
# Testing MRS::Client 1.0.1, Perl v5.24.4, /home/sand/src/perl/repoperls/installed-perls/host/k93msid/v5.24.4/fc43/bin/perl
t/00-load.t ............. ok
Possible precedence issue with control flow operator at /tmp/loop_over_bdir-23675-iIEsmF/MRS-Client-1.0.1-0/blib/lib/MRS/Client/Blast.pm line 269.
Unescaped left brace in regex is deprecated, passed through in regex; marked by <-- HERE in m/\${ <-- HERE JOBID}/ at /tmp/loop_over_bdir-23675-iIEsmF/MRS-Client-1.0.1-0/blib/lib/MRS/Client/Blast.pm line 409.
Unescaped left brace in regex is deprecated, passed through in regex; marked by <-- HERE in m/\${ <-- HERE SEQDESC}/ at /tmp/loop_over_bdir-23675-iIEsmF/MRS-Client-1.0.1-0/blib/lib/MRS/Client/Blast.pm line 411.
Unescaped left brace in regex is deprecated, passed through in regex; marked by <-- HERE in m/\${ <-- HERE SEQDESC}/ at /tmp/loop_over_bdir-23675-iIEsmF/MRS-Client-1.0.1-0/blib/lib/MRS/Client/Blast.pm line 413.
Unescaped left brace in regex is deprecated, passed through in regex; marked by <-- HERE in m/\${ <-- HERE SEQDESC}/ at /tmp/loop_over_bdir-23675-iIEsmF/MRS-Client-1.0.1-0/blib/lib/MRS/Client/Blast.pm line 415.
Unescaped left brace in regex is deprecated, passed through in regex; marked by <-- HERE in m/\${ <-- HERE DB}/ at /tmp/loop_over_bdir-23675-iIEsmF/MRS-Client-1.0.1-0/blib/lib/MRS/Client/Blast.pm line 417.
Unescaped left brace in regex is deprecated, passed through in regex; marked by <-- HERE in m/\${ <-- HERE SEQLEN}/ at /tmp/loop_over_bdir-23675-iIEsmF/MRS-Client-1.0.1-0/blib/lib/MRS/Client/Blast.pm line 418.
Unescaped left brace in regex is deprecated, passed through in regex; marked by <-- HERE in m/\${ <-- HERE PARMATRIX}/ at /tmp/loop_over_bdir-23675-iIEsmF/MRS-Client-1.0.1-0/blib/lib/MRS/Client/Blast.pm line 419.
Unescaped left brace in regex is deprecated, passed through in regex; marked by <-- HERE in m/\${ <-- HERE PAREXPECT}/ at /tmp/loop_over_bdir-23675-iIEsmF/MRS-Client-1.0.1-0/blib/lib/MRS/Client/Blast.pm line 420.
Unescaped left brace in regex is deprecated, passed through in regex; marked by <-- HERE in m/\${ <-- HERE PARGAPOPEN}/ at /tmp/loop_over_bdir-23675-iIEsmF/MRS-Client-1.0.1-0/blib/lib/MRS/Client/Blast.pm line 421.
Unescaped left brace in regex is deprecated, passed through in regex; marked by <-- HERE in m/\${ <-- HERE PARGAPEXTEND}/ at /tmp/loop_over_bdir-23675-iIEsmF/MRS-Client-1.0.1-0/blib/lib/MRS/Client/Blast.pm line 422.
Unescaped left brace in regex is deprecated, passed through in regex; marked by <-- HERE in m/\${ <-- HERE PARFILTER}/ at /tmp/loop_over_bdir-23675-iIEsmF/MRS-Client-1.0.1-0/blib/lib/MRS/Client/Blast.pm line 423.
Unescaped left brace in regex is deprecated, passed through in regex; marked by <-- HERE in m/\${ <-- HERE DBCOUNT}/ at /tmp/loop_over_bdir-23675-iIEsmF/MRS-Client-1.0.1-0/blib/lib/MRS/Client/Blast.pm line 425.
Unescaped left brace in regex is deprecated, passed through in regex; marked by <-- HERE in m/\${ <-- HERE DBLENGTH}/ at /tmp/loop_over_bdir-23675-iIEsmF/MRS-Client-1.0.1-0/blib/lib/MRS/Client/Blast.pm line 426.
Unescaped left brace in regex is deprecated, passed through in regex; marked by <-- HERE in m/\${ <-- HERE DBSPACE}/ at /tmp/loop_over_bdir-23675-iIEsmF/MRS-Client-1.0.1-0/blib/lib/MRS/Client/Blast.pm line 427.
Unescaped left brace in regex is deprecated, passed through in regex; marked by <-- HERE in m/\${ <-- HERE KAPPA}/ at /tmp/loop_over_bdir-23675-iIEsmF/MRS-Client-1.0.1-0/blib/lib/MRS/Client/Blast.pm line 428.
Unescaped left brace in regex is deprecated, passed through in regex; marked by <-- HERE in m/\${ <-- HERE LAMBDA}/ at /tmp/loop_over_bdir-23675-iIEsmF/MRS-Client-1.0.1-0/blib/lib/MRS/Client/Blast.pm line 429.
Unescaped left brace in regex is deprecated, passed through in regex; marked by <-- HERE in m/\${ <-- HERE ENTROPY}/ at /tmp/loop_over_bdir-23675-iIEsmF/MRS-Client-1.0.1-0/blib/lib/MRS/Client/Blast.pm line 430.
Unescaped left brace in regex is deprecated, passed through in regex; marked by <-- HERE in m/\${ <-- HERE HITNR}/ at /tmp/loop_over_bdir-23675-iIEsmF/MRS-Client-1.0.1-0/blib/lib/MRS/Client/Blast.pm line 439.
Unescaped left brace in regex is deprecated, passed through in regex; marked by <-- HERE in m/\${ <-- HERE HITID}/ at /tmp/loop_over_bdir-23675-iIEsmF/MRS-Client-1.0.1-0/blib/lib/MRS/Client/Blast.pm line 440.
Unescaped left brace in regex is deprecated, passed through in regex; marked by <-- HERE in m/\${ <-- HERE HITSEQID}/ at /tmp/loop_over_bdir-23675-iIEsmF/MRS-Client-1.0.1-0/blib/lib/MRS/Client/Blast.pm line 442.
Unescaped left brace in regex is deprecated, passed through in regex; marked by <-- HERE in m/\${ <-- HERE HITSEQID}/ at /tmp/loop_over_bdir-23675-iIEsmF/MRS-Client-1.0.1-0/blib/lib/MRS/Client/Blast.pm line 444.
Unescaped left brace in regex is deprecated, passed through in regex; marked by <-- HERE in m/\${ <-- HERE HITSUBLEN}/ at /tmp/loop_over_bdir-23675-iIEsmF/MRS-Client-1.0.1-0/blib/lib/MRS/Client/Blast.pm line 447.
Unescaped left brace in regex is deprecated, passed through in regex; marked by <-- HERE in m/\${ <-- HERE HSPNR}/ at /tmp/loop_over_bdir-23675-iIEsmF/MRS-Client-1.0.1-0/blib/lib/MRS/Client/Blast.pm line 456.
Unescaped left brace in regex is deprecated, passed through in regex; marked by <-- HERE in m/\${ <-- HERE HSPBITSCORE}/ at /tmp/loop_over_bdir-23675-iIEsmF/MRS-Client-1.0.1-0/blib/lib/MRS/Client/Blast.pm line 457.
Unescaped left brace in regex is deprecated, passed through in regex; marked by <-- HERE in m/\${ <-- HERE HSPSCORE}/ at /tmp/loop_over_bdir-23675-iIEsmF/MRS-Client-1.0.1-0/blib/lib/MRS/Client/Blast.pm line 458.
Unescaped left brace in regex is deprecated, passed through in regex; marked by <-- HERE in m/\${ <-- HERE HSPEXPECT}/ at /tmp/loop_over_bdir-23675-iIEsmF/MRS-Client-1.0.1-0/blib/lib/MRS/Client/Blast.pm line 459.
Unescaped left brace in regex is deprecated, passed through in regex; marked by <-- HERE in m/\${ <-- HERE HSPIDENTITY}/ at /tmp/loop_over_bdir-23675-iIEsmF/MRS-Client-1.0.1-0/blib/lib/MRS/Client/Blast.pm line 460.
Unescaped left brace in regex is deprecated, passed through in regex; marked by <-- HERE in m/\${ <-- HERE HSPPOSITIVE}/ at /tmp/loop_over_bdir-23675-iIEsmF/MRS-Client-1.0.1-0/blib/lib/MRS/Client/Blast.pm line 461.
Unescaped left brace in regex is deprecated, passed through in regex; marked by <-- HERE in m/\${ <-- HERE HSPMIDLINE}/ at /tmp/loop_over_bdir-23675-iIEsmF/MRS-Client-1.0.1-0/blib/lib/MRS/Client/Blast.pm line 462.
Unescaped left brace in regex is deprecated, passed through in regex; marked by <-- HERE in m/\${ <-- HERE HSPQFROM}/ at /tmp/loop_over_bdir-23675-iIEsmF/MRS-Client-1.0.1-0/blib/lib/MRS/Client/Blast.pm line 484.
Unescaped left brace in regex is deprecated, passed through in regex; marked by <-- HERE in m/\${ <-- HERE HSPQTO}/ at /tmp/loop_over_bdir-23675-iIEsmF/MRS-Client-1.0.1-0/blib/lib/MRS/Client/Blast.pm line 485.
Unescaped left brace in regex is deprecated, passed through in regex; marked by <-- HERE in m/\${ <-- HERE HSPHFROM}/ at /tmp/loop_over_bdir-23675-iIEsmF/MRS-Client-1.0.1-0/blib/lib/MRS/Client/Blast.pm line 486.
Unescaped left brace in regex is deprecated, passed through in regex; marked by <-- HERE in m/\${ <-- HERE HSPHTO}/ at /tmp/loop_over_bdir-23675-iIEsmF/MRS-Client-1.0.1-0/blib/lib/MRS/Client/Blast.pm line 487.
Unescaped left brace in regex is deprecated, passed through in regex; marked by <-- HERE in m/\${ <-- HERE HSPALIGNLEN}/ at /tmp/loop_over_bdir-23675-iIEsmF/MRS-Client-1.0.1-0/blib/lib/MRS/Client/Blast.pm line 488.
Unescaped left brace in regex is deprecated, passed through in regex; marked by <-- HERE in m/\${ <-- HERE HSPQALIGN}/ at /tmp/loop_over_bdir-23675-iIEsmF/MRS-Client-1.0.1-0/blib/lib/MRS/Client/Blast.pm line 489.
Unescaped left brace in regex is deprecated, passed through in regex; marked by <-- HERE in m/\${ <-- HERE HSPSUBALIGN}/ at /tmp/loop_over_bdir-23675-iIEsmF/MRS-Client-1.0.1-0/blib/lib/MRS/Client/Blast.pm line 490.
Unescaped left brace in regex is deprecated, passed through in regex; marked by <-- HERE in m/\${ <-- HERE LOCATION}/ at /tmp/loop_over_bdir-23675-iIEsmF/MRS-Client-1.0.1-0/blib/lib/MRS/Client.pm line 221.
Unescaped left brace in regex is deprecated, passed through in regex; marked by <-- HERE in m/\${ <-- HERE SERVICE}/ at /tmp/loop_over_bdir-23675-iIEsmF/MRS-Client-1.0.1-0/blib/lib/MRS/Client.pm line 222.
# Data manipulation
t/01-data.t ............. ok
Possible precedence issue with control flow operator at /tmp/loop_over_bdir-23675-iIEsmF/MRS-Client-1.0.1-0/blib/lib/MRS/Client/Blast.pm line 269.
Unescaped left brace in regex is deprecated, passed through in regex; marked by <-- HERE in m/\${ <-- HERE JOBID}/ at /tmp/loop_over_bdir-23675-iIEsmF/MRS-Client-1.0.1-0/blib/lib/MRS/Client/Blast.pm line 409.
Unescaped left brace in regex is deprecated, passed through in regex; marked by <-- HERE in m/\${ <-- HERE SEQDESC}/ at /tmp/loop_over_bdir-23675-iIEsmF/MRS-Client-1.0.1-0/blib/lib/MRS/Client/Blast.pm line 411.
Unescaped left brace in regex is deprecated, passed through in regex; marked by <-- HERE in m/\${ <-- HERE SEQDESC}/ at /tmp/loop_over_bdir-23675-iIEsmF/MRS-Client-1.0.1-0/blib/lib/MRS/Client/Blast.pm line 413.
Unescaped left brace in regex is deprecated, passed through in regex; marked by <-- HERE in m/\${ <-- HERE SEQDESC}/ at /tmp/loop_over_bdir-23675-iIEsmF/MRS-Client-1.0.1-0/blib/lib/MRS/Client/Blast.pm line 415.
Unescaped left brace in regex is deprecated, passed through in regex; marked by <-- HERE in m/\${ <-- HERE DB}/ at /tmp/loop_over_bdir-23675-iIEsmF/MRS-Client-1.0.1-0/blib/lib/MRS/Client/Blast.pm line 417.
Unescaped left brace in regex is deprecated, passed through in regex; marked by <-- HERE in m/\${ <-- HERE SEQLEN}/ at /tmp/loop_over_bdir-23675-iIEsmF/MRS-Client-1.0.1-0/blib/lib/MRS/Client/Blast.pm line 418.
Unescaped left brace in regex is deprecated, passed through in regex; marked by <-- HERE in m/\${ <-- HERE PARMATRIX}/ at /tmp/loop_over_bdir-23675-iIEsmF/MRS-Client-1.0.1-0/blib/lib/MRS/Client/Blast.pm line 419.
Unescaped left brace in regex is deprecated, passed through in regex; marked by <-- HERE in m/\${ <-- HERE PAREXPECT}/ at /tmp/loop_over_bdir-23675-iIEsmF/MRS-Client-1.0.1-0/blib/lib/MRS/Client/Blast.pm line 420.
Unescaped left brace in regex is deprecated, passed through in regex; marked by <-- HERE in m/\${ <-- HERE PARGAPOPEN}/ at /tmp/loop_over_bdir-23675-iIEsmF/MRS-Client-1.0.1-0/blib/lib/MRS/Client/Blast.pm line 421.
Unescaped left brace in regex is deprecated, passed through in regex; marked by <-- HERE in m/\${ <-- HERE PARGAPEXTEND}/ at /tmp/loop_over_bdir-23675-iIEsmF/MRS-Client-1.0.1-0/blib/lib/MRS/Client/Blast.pm line 422.
Unescaped left brace in regex is deprecated, passed through in regex; marked by <-- HERE in m/\${ <-- HERE PARFILTER}/ at /tmp/loop_over_bdir-23675-iIEsmF/MRS-Client-1.0.1-0/blib/lib/MRS/Client/Blast.pm line 423.
Unescaped left brace in regex is deprecated, passed through in regex; marked by <-- HERE in m/\${ <-- HERE DBCOUNT}/ at /tmp/loop_over_bdir-23675-iIEsmF/MRS-Client-1.0.1-0/blib/lib/MRS/Client/Blast.pm line 425.
Unescaped left brace in regex is deprecated, passed through in regex; marked by <-- HERE in m/\${ <-- HERE DBLENGTH}/ at /tmp/loop_over_bdir-23675-iIEsmF/MRS-Client-1.0.1-0/blib/lib/MRS/Client/Blast.pm line 426.
Unescaped left brace in regex is deprecated, passed through in regex; marked by <-- HERE in m/\${ <-- HERE DBSPACE}/ at /tmp/loop_over_bdir-23675-iIEsmF/MRS-Client-1.0.1-0/blib/lib/MRS/Client/Blast.pm line 427.
Unescaped left brace in regex is deprecated, passed through in regex; marked by <-- HERE in m/\${ <-- HERE KAPPA}/ at /tmp/loop_over_bdir-23675-iIEsmF/MRS-Client-1.0.1-0/blib/lib/MRS/Client/Blast.pm line 428.
Unescaped left brace in regex is deprecated, passed through in regex; marked by <-- HERE in m/\${ <-- HERE LAMBDA}/ at /tmp/loop_over_bdir-23675-iIEsmF/MRS-Client-1.0.1-0/blib/lib/MRS/Client/Blast.pm line 429.
Unescaped left brace in regex is deprecated, passed through in regex; marked by <-- HERE in m/\${ <-- HERE ENTROPY}/ at /tmp/loop_over_bdir-23675-iIEsmF/MRS-Client-1.0.1-0/blib/lib/MRS/Client/Blast.pm line 430.
Unescaped left brace in regex is deprecated, passed through in regex; marked by <-- HERE in m/\${ <-- HERE HITNR}/ at /tmp/loop_over_bdir-23675-iIEsmF/MRS-Client-1.0.1-0/blib/lib/MRS/Client/Blast.pm line 439.
Unescaped left brace in regex is deprecated, passed through in regex; marked by <-- HERE in m/\${ <-- HERE HITID}/ at /tmp/loop_over_bdir-23675-iIEsmF/MRS-Client-1.0.1-0/blib/lib/MRS/Client/Blast.pm line 440.
Unescaped left brace in regex is deprecated, passed through in regex; marked by <-- HERE in m/\${ <-- HERE HITSEQID}/ at /tmp/loop_over_bdir-23675-iIEsmF/MRS-Client-1.0.1-0/blib/lib/MRS/Client/Blast.pm line 442.
Unescaped left brace in regex is deprecated, passed through in regex; marked by <-- HERE in m/\${ <-- HERE HITSEQID}/ at /tmp/loop_over_bdir-23675-iIEsmF/MRS-Client-1.0.1-0/blib/lib/MRS/Client/Blast.pm line 444.
Unescaped left brace in regex is deprecated, passed through in regex; marked by <-- HERE in m/\${ <-- HERE HITSUBLEN}/ at /tmp/loop_over_bdir-23675-iIEsmF/MRS-Client-1.0.1-0/blib/lib/MRS/Client/Blast.pm line 447.
Unescaped left brace in regex is deprecated, passed through in regex; marked by <-- HERE in m/\${ <-- HERE HSPNR}/ at /tmp/loop_over_bdir-23675-iIEsmF/MRS-Client-1.0.1-0/blib/lib/MRS/Client/Blast.pm line 456.
Unescaped left brace in regex is deprecated, passed through in regex; marked by <-- HERE in m/\${ <-- HERE HSPBITSCORE}/ at /tmp/loop_over_bdir-23675-iIEsmF/MRS-Client-1.0.1-0/blib/lib/MRS/Client/Blast.pm line 457.
Unescaped left brace in regex is deprecated, passed through in regex; marked by <-- HERE in m/\${ <-- HERE HSPSCORE}/ at /tmp/loop_over_bdir-23675-iIEsmF/MRS-Client-1.0.1-0/blib/lib/MRS/Client/Blast.pm line 458.
Unescaped left brace in regex is deprecated, passed through in regex; marked by <-- HERE in m/\${ <-- HERE HSPEXPECT}/ at /tmp/loop_over_bdir-23675-iIEsmF/MRS-Client-1.0.1-0/blib/lib/MRS/Client/Blast.pm line 459.
Unescaped left brace in regex is deprecated, passed through in regex; marked by <-- HERE in m/\${ <-- HERE HSPIDENTITY}/ at /tmp/loop_over_bdir-23675-iIEsmF/MRS-Client-1.0.1-0/blib/lib/MRS/Client/Blast.pm line 460.
Unescaped left brace in regex is deprecated, passed through in regex; marked by <-- HERE in m/\${ <-- HERE HSPPOSITIVE}/ at /tmp/loop_over_bdir-23675-iIEsmF/MRS-Client-1.0.1-0/blib/lib/MRS/Client/Blast.pm line 461.
Unescaped left brace in regex is deprecated, passed through in regex; marked by <-- HERE in m/\${ <-- HERE HSPMIDLINE}/ at /tmp/loop_over_bdir-23675-iIEsmF/MRS-Client-1.0.1-0/blib/lib/MRS/Client/Blast.pm line 462.
Unescaped left brace in regex is deprecated, passed through in regex; marked by <-- HERE in m/\${ <-- HERE HSPQFROM}/ at /tmp/loop_over_bdir-23675-iIEsmF/MRS-Client-1.0.1-0/blib/lib/MRS/Client/Blast.pm line 484.
Unescaped left brace in regex is deprecated, passed through in regex; marked by <-- HERE in m/\${ <-- HERE HSPQTO}/ at /tmp/loop_over_bdir-23675-iIEsmF/MRS-Client-1.0.1-0/blib/lib/MRS/Client/Blast.pm line 485.
Unescaped left brace in regex is deprecated, passed through in regex; marked by <-- HERE in m/\${ <-- HERE HSPHFROM}/ at /tmp/loop_over_bdir-23675-iIEsmF/MRS-Client-1.0.1-0/blib/lib/MRS/Client/Blast.pm line 486.
Unescaped left brace in regex is deprecated, passed through in regex; marked by <-- HERE in m/\${ <-- HERE HSPHTO}/ at /tmp/loop_over_bdir-23675-iIEsmF/MRS-Client-1.0.1-0/blib/lib/MRS/Client/Blast.pm line 487.
Unescaped left brace in regex is deprecated, passed through in regex; marked by <-- HERE in m/\${ <-- HERE HSPALIGNLEN}/ at /tmp/loop_over_bdir-23675-iIEsmF/MRS-Client-1.0.1-0/blib/lib/MRS/Client/Blast.pm line 488.
Unescaped left brace in regex is deprecated, passed through in regex; marked by <-- HERE in m/\${ <-- HERE HSPQALIGN}/ at /tmp/loop_over_bdir-23675-iIEsmF/MRS-Client-1.0.1-0/blib/lib/MRS/Client/Blast.pm line 489.
Unescaped left brace in regex is deprecated, passed through in regex; marked by <-- HERE in m/\${ <-- HERE HSPSUBALIGN}/ at /tmp/loop_over_bdir-23675-iIEsmF/MRS-Client-1.0.1-0/blib/lib/MRS/Client/Blast.pm line 490.
Unescaped left brace in regex is deprecated, passed through in regex; marked by <-- HERE in m/\${ <-- HERE LOCATION}/ at /tmp/loop_over_bdir-23675-iIEsmF/MRS-Client-1.0.1-0/blib/lib/MRS/Client.pm line 221.
Unescaped left brace in regex is deprecated, passed through in regex; marked by <-- HERE in m/\${ <-- HERE SERVICE}/ at /tmp/loop_over_bdir-23675-iIEsmF/MRS-Client-1.0.1-0/blib/lib/MRS/Client.pm line 222.
# Setting host and endpoints
t/02-endpoint.t ......... ok
t/03-network.t .......... skipped: these tests are for testing by the author (when AUTHOR_TESTING=1)
Possible precedence issue with control flow operator at /tmp/loop_over_bdir-23675-iIEsmF/MRS-Client-1.0.1-0/blib/lib/MRS/Client/Blast.pm line 269.
Unescaped left brace in regex is deprecated, passed through in regex; marked by <-- HERE in m/\${ <-- HERE JOBID}/ at /tmp/loop_over_bdir-23675-iIEsmF/MRS-Client-1.0.1-0/blib/lib/MRS/Client/Blast.pm line 409.
Unescaped left brace in regex is deprecated, passed through in regex; marked by <-- HERE in m/\${ <-- HERE SEQDESC}/ at /tmp/loop_over_bdir-23675-iIEsmF/MRS-Client-1.0.1-0/blib/lib/MRS/Client/Blast.pm line 411.
Unescaped left brace in regex is deprecated, passed through in regex; marked by <-- HERE in m/\${ <-- HERE SEQDESC}/ at /tmp/loop_over_bdir-23675-iIEsmF/MRS-Client-1.0.1-0/blib/lib/MRS/Client/Blast.pm line 413.
Unescaped left brace in regex is deprecated, passed through in regex; marked by <-- HERE in m/\${ <-- HERE SEQDESC}/ at /tmp/loop_over_bdir-23675-iIEsmF/MRS-Client-1.0.1-0/blib/lib/MRS/Client/Blast.pm line 415.
Unescaped left brace in regex is deprecated, passed through in regex; marked by <-- HERE in m/\${ <-- HERE DB}/ at /tmp/loop_over_bdir-23675-iIEsmF/MRS-Client-1.0.1-0/blib/lib/MRS/Client/Blast.pm line 417.
Unescaped left brace in regex is deprecated, passed through in regex; marked by <-- HERE in m/\${ <-- HERE SEQLEN}/ at /tmp/loop_over_bdir-23675-iIEsmF/MRS-Client-1.0.1-0/blib/lib/MRS/Client/Blast.pm line 418.
Unescaped left brace in regex is deprecated, passed through in regex; marked by <-- HERE in m/\${ <-- HERE PARMATRIX}/ at /tmp/loop_over_bdir-23675-iIEsmF/MRS-Client-1.0.1-0/blib/lib/MRS/Client/Blast.pm line 419.
Unescaped left brace in regex is deprecated, passed through in regex; marked by <-- HERE in m/\${ <-- HERE PAREXPECT}/ at /tmp/loop_over_bdir-23675-iIEsmF/MRS-Client-1.0.1-0/blib/lib/MRS/Client/Blast.pm line 420.
Unescaped left brace in regex is deprecated, passed through in regex; marked by <-- HERE in m/\${ <-- HERE PARGAPOPEN}/ at /tmp/loop_over_bdir-23675-iIEsmF/MRS-Client-1.0.1-0/blib/lib/MRS/Client/Blast.pm line 421.
Unescaped left brace in regex is deprecated, passed through in regex; marked by <-- HERE in m/\${ <-- HERE PARGAPEXTEND}/ at /tmp/loop_over_bdir-23675-iIEsmF/MRS-Client-1.0.1-0/blib/lib/MRS/Client/Blast.pm line 422.
Unescaped left brace in regex is deprecated, passed through in regex; marked by <-- HERE in m/\${ <-- HERE PARFILTER}/ at /tmp/loop_over_bdir-23675-iIEsmF/MRS-Client-1.0.1-0/blib/lib/MRS/Client/Blast.pm line 423.
Unescaped left brace in regex is deprecated, passed through in regex; marked by <-- HERE in m/\${ <-- HERE DBCOUNT}/ at /tmp/loop_over_bdir-23675-iIEsmF/MRS-Client-1.0.1-0/blib/lib/MRS/Client/Blast.pm line 425.
Unescaped left brace in regex is deprecated, passed through in regex; marked by <-- HERE in m/\${ <-- HERE DBLENGTH}/ at /tmp/loop_over_bdir-23675-iIEsmF/MRS-Client-1.0.1-0/blib/lib/MRS/Client/Blast.pm line 426.
Unescaped left brace in regex is deprecated, passed through in regex; marked by <-- HERE in m/\${ <-- HERE DBSPACE}/ at /tmp/loop_over_bdir-23675-iIEsmF/MRS-Client-1.0.1-0/blib/lib/MRS/Client/Blast.pm line 427.
Unescaped left brace in regex is deprecated, passed through in regex; marked by <-- HERE in m/\${ <-- HERE KAPPA}/ at /tmp/loop_over_bdir-23675-iIEsmF/MRS-Client-1.0.1-0/blib/lib/MRS/Client/Blast.pm line 428.
Unescaped left brace in regex is deprecated, passed through in regex; marked by <-- HERE in m/\${ <-- HERE LAMBDA}/ at /tmp/loop_over_bdir-23675-iIEsmF/MRS-Client-1.0.1-0/blib/lib/MRS/Client/Blast.pm line 429.
Unescaped left brace in regex is deprecated, passed through in regex; marked by <-- HERE in m/\${ <-- HERE ENTROPY}/ at /tmp/loop_over_bdir-23675-iIEsmF/MRS-Client-1.0.1-0/blib/lib/MRS/Client/Blast.pm line 430.
Unescaped left brace in regex is deprecated, passed through in regex; marked by <-- HERE in m/\${ <-- HERE HITNR}/ at /tmp/loop_over_bdir-23675-iIEsmF/MRS-Client-1.0.1-0/blib/lib/MRS/Client/Blast.pm line 439.
Unescaped left brace in regex is deprecated, passed through in regex; marked by <-- HERE in m/\${ <-- HERE HITID}/ at /tmp/loop_over_bdir-23675-iIEsmF/MRS-Client-1.0.1-0/blib/lib/MRS/Client/Blast.pm line 440.
Unescaped left brace in regex is deprecated, passed through in regex; marked by <-- HERE in m/\${ <-- HERE HITSEQID}/ at /tmp/loop_over_bdir-23675-iIEsmF/MRS-Client-1.0.1-0/blib/lib/MRS/Client/Blast.pm line 442.
Unescaped left brace in regex is deprecated, passed through in regex; marked by <-- HERE in m/\${ <-- HERE HITSEQID}/ at /tmp/loop_over_bdir-23675-iIEsmF/MRS-Client-1.0.1-0/blib/lib/MRS/Client/Blast.pm line 444.
Unescaped left brace in regex is deprecated, passed through in regex; marked by <-- HERE in m/\${ <-- HERE HITSUBLEN}/ at /tmp/loop_over_bdir-23675-iIEsmF/MRS-Client-1.0.1-0/blib/lib/MRS/Client/Blast.pm line 447.
Unescaped left brace in regex is deprecated, passed through in regex; marked by <-- HERE in m/\${ <-- HERE HSPNR}/ at /tmp/loop_over_bdir-23675-iIEsmF/MRS-Client-1.0.1-0/blib/lib/MRS/Client/Blast.pm line 456.
Unescaped left brace in regex is deprecated, passed through in regex; marked by <-- HERE in m/\${ <-- HERE HSPBITSCORE}/ at /tmp/loop_over_bdir-23675-iIEsmF/MRS-Client-1.0.1-0/blib/lib/MRS/Client/Blast.pm line 457.
Unescaped left brace in regex is deprecated, passed through in regex; marked by <-- HERE in m/\${ <-- HERE HSPSCORE}/ at /tmp/loop_over_bdir-23675-iIEsmF/MRS-Client-1.0.1-0/blib/lib/MRS/Client/Blast.pm line 458.
Unescaped left brace in regex is deprecated, passed through in regex; marked by <-- HERE in m/\${ <-- HERE HSPEXPECT}/ at /tmp/loop_over_bdir-23675-iIEsmF/MRS-Client-1.0.1-0/blib/lib/MRS/Client/Blast.pm line 459.
Unescaped left brace in regex is deprecated, passed through in regex; marked by <-- HERE in m/\${ <-- HERE HSPIDENTITY}/ at /tmp/loop_over_bdir-23675-iIEsmF/MRS-Client-1.0.1-0/blib/lib/MRS/Client/Blast.pm line 460.
Unescaped left brace in regex is deprecated, passed through in regex; marked by <-- HERE in m/\${ <-- HERE HSPPOSITIVE}/ at /tmp/loop_over_bdir-23675-iIEsmF/MRS-Client-1.0.1-0/blib/lib/MRS/Client/Blast.pm line 461.
Unescaped left brace in regex is deprecated, passed through in regex; marked by <-- HERE in m/\${ <-- HERE HSPMIDLINE}/ at /tmp/loop_over_bdir-23675-iIEsmF/MRS-Client-1.0.1-0/blib/lib/MRS/Client/Blast.pm line 462.
Unescaped left brace in regex is deprecated, passed through in regex; marked by <-- HERE in m/\${ <-- HERE HSPQFROM}/ at /tmp/loop_over_bdir-23675-iIEsmF/MRS-Client-1.0.1-0/blib/lib/MRS/Client/Blast.pm line 484.
Unescaped left brace in regex is deprecated, passed through in regex; marked by <-- HERE in m/\${ <-- HERE HSPQTO}/ at /tmp/loop_over_bdir-23675-iIEsmF/MRS-Client-1.0.1-0/blib/lib/MRS/Client/Blast.pm line 485.
Unescaped left brace in regex is deprecated, passed through in regex; marked by <-- HERE in m/\${ <-- HERE HSPHFROM}/ at /tmp/loop_over_bdir-23675-iIEsmF/MRS-Client-1.0.1-0/blib/lib/MRS/Client/Blast.pm line 486.
Unescaped left brace in regex is deprecated, passed through in regex; marked by <-- HERE in m/\${ <-- HERE HSPHTO}/ at /tmp/loop_over_bdir-23675-iIEsmF/MRS-Client-1.0.1-0/blib/lib/MRS/Client/Blast.pm line 487.
Unescaped left brace in regex is deprecated, passed through in regex; marked by <-- HERE in m/\${ <-- HERE HSPALIGNLEN}/ at /tmp/loop_over_bdir-23675-iIEsmF/MRS-Client-1.0.1-0/blib/lib/MRS/Client/Blast.pm line 488.
Unescaped left brace in regex is deprecated, passed through in regex; marked by <-- HERE in m/\${ <-- HERE HSPQALIGN}/ at /tmp/loop_over_bdir-23675-iIEsmF/MRS-Client-1.0.1-0/blib/lib/MRS/Client/Blast.pm line 489.
Unescaped left brace in regex is deprecated, passed through in regex; marked by <-- HERE in m/\${ <-- HERE HSPSUBALIGN}/ at /tmp/loop_over_bdir-23675-iIEsmF/MRS-Client-1.0.1-0/blib/lib/MRS/Client/Blast.pm line 490.
Unescaped left brace in regex is deprecated, passed through in regex; marked by <-- HERE in m/\${ <-- HERE LOCATION}/ at /tmp/loop_over_bdir-23675-iIEsmF/MRS-Client-1.0.1-0/blib/lib/MRS/Client.pm line 221.
Unescaped left brace in regex is deprecated, passed through in regex; marked by <-- HERE in m/\${ <-- HERE SERVICE}/ at /tmp/loop_over_bdir-23675-iIEsmF/MRS-Client-1.0.1-0/blib/lib/MRS/Client.pm line 222.
# Manipulation of hyperlinks
t/04-links.t ............ ok
t/author-critic.t ....... skipped: these tests are for testing by the author
t/author-pod-spell.t .... skipped: these tests are for testing by the author
t/release-eol.t ......... skipped: these tests are for release candidate testing
t/release-no-tabs.t ..... skipped: these tests are for release candidate testing
t/release-pod-syntax.t .. skipped: these tests are for release candidate testing
All tests successful.
Files=11, Tests=113, 6 wallclock secs ( 0.02 usr 0.06 sys + 2.15 cusr 0.77 csys = 3.00 CPU)
Result: PASS
------------------------------
PREREQUISITES
------------------------------
Prerequisite modules loaded:
requires:
Module Need Have
--------------------------------- ---- --------
base 0 2.23_01
Carp 0 1.40
constant 0 1.33
Data::Dumper 0 2.172
File::Basename 0 2.85
FindBin 0 1.51
Getopt::Std 0 1.11
Math::BigInt 0 1.999816
overload 0 1.26
strict 0 1.11
vars 0 1.03
warnings 0 1.36
XML::Compile::SOAP11 2.26 3.24
XML::Compile::Transport::SOAPHTTP 0 3.24
XML::Compile::WSDL11 0 3.07
build_requires:
Module Need Have
--------------------------------- ---- --------
File::Find 0 1.34
File::Spec 0 3.75
File::Temp 0 0.2308
Test::More 0 1.302140
configure_requires:
Module Need Have
--------------------------------- ---- --------
ExtUtils::MakeMaker 6.30 7.35_08
------------------------------
ENVIRONMENT AND OTHER CONTEXT
------------------------------
Environment variables:
AUTOMATED_TESTING = 1
LANG = en_US.UTF-8
PATH = /home/sand/bin:/usr/local/bin:/usr/bin:/bin:/usr/games:/usr/local/perl/bin:/usr/X11/bin:/sbin:/usr/sbin
PERL5LIB = /tmp/loop_over_bdir-23675-iIEsmF/XML-Compile-WSDL11-3.07-0/blib/arch:/tmp/loop_over_bdir-23675-iIEsmF/XML-Compile-WSDL11-3.07-0/blib/lib:/tmp/loop_over_bdir-23675-iIEsmF/XML-Compile-SOAP-3.24-0/blib/arch:/tmp/loop_over_bdir-23675-iIEsmF/XML-Compile-SOAP-3.24-0/blib/lib:/tmp/loop_over_bdir-23675-iIEsmF/XML-Compile-Cache-1.06-0/blib/arch:/tmp/loop_over_bdir-23675-iIEsmF/XML-Compile-Cache-1.06-0/blib/lib:/tmp/loop_over_bdir-23675-iIEsmF/XML-Compile-1.61-0/blib/arch:/tmp/loop_over_bdir-23675-iIEsmF/XML-Compile-1.61-0/blib/lib:/tmp/loop_over_bdir-23675-iIEsmF/XML-Compile-Tester-0.91-0/blib/arch:/tmp/loop_over_bdir-23675-iIEsmF/XML-Compile-Tester-0.91-0/blib/lib:/tmp/loop_over_bdir-23675-iIEsmF/Log-Report-1.27-0/blib/arch:/tmp/loop_over_bdir-23675-iIEsmF/Log-Report-1.27-0/blib/lib:/tmp/loop_over_bdir-23675-iIEsmF/Log-Report-Optional-1.06-0/blib/arch:/tmp/loop_over_bdir-23675-iIEsmF/Log-Report-Optional-1.06-0/blib/lib:/tmp/loop_over_bdir-23675-iIEsmF/String-Print-0.93-0/blib/arch:/tmp/loop_over_bdir-23675-iIEsmF/String-Print-0.93-0/blib/lib
PERL5OPT =
PERL5_CPANPLUS_IS_RUNNING = 23681
PERL5_CPAN_IS_RUNNING = 23681
PERL5_CPAN_IS_RUNNING_IN_RECURSION = 6113,23681
PERL_CANARY_STABILITY_NOPROMPT = 1
PERL_MM_USE_DEFAULT = 1
PERL_USE_UNSAFE_INC = 1
SHELL = /usr/bin/zsh
TERM = screen
Perl special variables (and OS-specific diagnostics, for MSWin32):
$^X = /home/sand/src/perl/repoperls/installed-perls/host/k93msid/v5.24.4/fc43/bin/perl
$UID/$EUID = 1005 / 1005
$GID = 1005 1005
$EGID = 1005 1005
Perl module toolchain versions installed:
Module Have
------------------- --------
CPAN 2.21
CPAN::Meta 2.150010
Cwd 3.75
ExtUtils::CBuilder 0.280230
ExtUtils::Command 7.35_08
ExtUtils::Install 2.06
ExtUtils::MakeMaker 7.35_08
ExtUtils::Manifest 1.70
ExtUtils::ParseXS 3.31
File::Spec 3.75
JSON 4.00
JSON::PP 2.97001
Module::Build 0.4224
Module::Signature 0.83
Parse::CPAN::Meta 2.150010
Test::Harness 3.42
Test::More 1.302140
YAML 1.26
YAML::Syck 1.31
version 0.9916
--
Summary of my perl5 (revision 5 version 24 subversion 4) configuration:
Derived from: 901dd848e31de6d0cacfb77c029b4e92c41a13ce
Platform:
osname=linux, osvers=4.18.0-2-amd64, archname=x86_64-linux-ld
uname='linux k93msid 4.18.0-2-amd64 #1 smp debian 4.18.10-2 (2018-10-07) x86_64 gnulinux '
config_args='-Dprefix=/home/sand/src/perl/repoperls/installed-perls/host/k93msid/v5.24.4/fc43 -Dmyhostname=k93msid -Dinstallusrbinperl=n -Uversiononly -Dusedevel -des -Ui_db -Dlibswanted=cl pthread socket inet nsl gdbm dbm malloc dl ld sun m crypt sec util c cposix posix ucb BSD gdbm_compat -Uuseithreads -Duselongdouble -DEBUGGING=both'
hint=recommended, useposix=true, d_sigaction=define
useithreads=undef, usemultiplicity=undef
use64bitint=define, use64bitall=define, uselongdouble=define
usemymalloc=n, bincompat5005=undef
Compiler:
cc='cc', ccflags ='-fwrapv -DDEBUGGING -fno-strict-aliasing -pipe -fstack-protector-strong -I/usr/local/include -D_LARGEFILE_SOURCE -D_FILE_OFFSET_BITS=64',
optimize='-O2 -g',
cppflags='-fwrapv -DDEBUGGING -fno-strict-aliasing -pipe -fstack-protector-strong -I/usr/local/include'
ccversion='', gccversion='8.2.0', gccosandvers=''
intsize=4, longsize=8, ptrsize=8, doublesize=8, byteorder=12345678, doublekind=3
d_longlong=define, longlongsize=8, d_longdbl=define, longdblsize=16, longdblkind=3
ivtype='long', ivsize=8, nvtype='long double', nvsize=16, Off_t='off_t', lseeksize=8
alignbytes=16, prototype=define
Linker and Libraries:
ld='cc', ldflags =' -fstack-protector-strong -L/usr/local/lib'
libpth=/usr/local/lib /usr/lib/gcc/x86_64-linux-gnu/8/include-fixed /usr/include/x86_64-linux-gnu /usr/lib /lib/x86_64-linux-gnu /lib/../lib /usr/lib/x86_64-linux-gnu /usr/lib/../lib /lib
libs=-lpthread -lnsl -ldl -lm -lcrypt -lutil -lc
perllibs=-lpthread -lnsl -ldl -lm -lcrypt -lutil -lc
libc=libc-2.27.so, so=so, useshrplib=false, libperl=libperl.a
gnulibc_version='2.27'
Dynamic Linking:
dlsrc=dl_dlopen.xs, dlext=so, d_dlsymun=undef, ccdlflags='-Wl,-E'
cccdlflags='-fPIC', lddlflags='-shared -O2 -g -L/usr/local/lib -fstack-protector-strong'
Characteristics of this binary (from libperl):
Compile-time options: DEBUGGING HAS_TIMES PERLIO_LAYERS PERL_COPY_ON_WRITE
PERL_DONT_CREATE_GVSV
PERL_HASH_FUNC_ONE_AT_A_TIME_HARD PERL_MALLOC_WRAP
PERL_PRESERVE_IVUV PERL_USE_DEVEL USE_64_BIT_ALL
USE_64_BIT_INT USE_LARGE_FILES USE_LOCALE
USE_LOCALE_COLLATE USE_LOCALE_CTYPE
USE_LOCALE_NUMERIC USE_LOCALE_TIME USE_LONG_DOUBLE
USE_PERLIO USE_PERL_ATOF
Locally applied patches:
uncommitted-changes
Built under linux
Compiled at Oct 28 2018 07:13:43
%ENV:
PERL5LIB="/tmp/loop_over_bdir-23675-iIEsmF/XML-Compile-WSDL11-3.07-0/blib/arch:/tmp/loop_over_bdir-23675-iIEsmF/XML-Compile-WSDL11-3.07-0/blib/lib:/tmp/loop_over_bdir-23675-iIEsmF/XML-Compile-SOAP-3.24-0/blib/arch:/tmp/loop_over_bdir-23675-iIEsmF/XML-Compile-SOAP-3.24-0/blib/lib:/tmp/loop_over_bdir-23675-iIEsmF/XML-Compile-Cache-1.06-0/blib/arch:/tmp/loop_over_bdir-23675-iIEsmF/XML-Compile-Cache-1.06-0/blib/lib:/tmp/loop_over_bdir-23675-iIEsmF/XML-Compile-1.61-0/blib/arch:/tmp/loop_over_bdir-23675-iIEsmF/XML-Compile-1.61-0/blib/lib:/tmp/loop_over_bdir-23675-iIEsmF/XML-Compile-Tester-0.91-0/blib/arch:/tmp/loop_over_bdir-23675-iIEsmF/XML-Compile-Tester-0.91-0/blib/lib:/tmp/loop_over_bdir-23675-iIEsmF/Log-Report-1.27-0/blib/arch:/tmp/loop_over_bdir-23675-iIEsmF/Log-Report-1.27-0/blib/lib:/tmp/loop_over_bdir-23675-iIEsmF/Log-Report-Optional-1.06-0/blib/arch:/tmp/loop_over_bdir-23675-iIEsmF/Log-Report-Optional-1.06-0/blib/lib:/tmp/loop_over_bdir-23675-iIEsmF/String-Print-0.93-0/blib/arch:/tmp/loop_over_bdir-23675-iIEsmF/String-Print-0.93-0/blib/lib"
PERL5OPT=""
PERL5_CPANPLUS_IS_RUNNING="23681"
PERL5_CPAN_IS_RUNNING="23681"
PERL5_CPAN_IS_RUNNING_IN_RECURSION="6113,23681"
PERL_CANARY_STABILITY_NOPROMPT="1"
PERL_MM_USE_DEFAULT="1"
PERL_USE_UNSAFE_INC="1"
@INC:
/tmp/loop_over_bdir-23675-iIEsmF/XML-Compile-WSDL11-3.07-0/blib/arch
/tmp/loop_over_bdir-23675-iIEsmF/XML-Compile-WSDL11-3.07-0/blib/lib
/tmp/loop_over_bdir-23675-iIEsmF/XML-Compile-SOAP-3.24-0/blib/arch
/tmp/loop_over_bdir-23675-iIEsmF/XML-Compile-SOAP-3.24-0/blib/lib
/tmp/loop_over_bdir-23675-iIEsmF/XML-Compile-Cache-1.06-0/blib/arch
/tmp/loop_over_bdir-23675-iIEsmF/XML-Compile-Cache-1.06-0/blib/lib
/tmp/loop_over_bdir-23675-iIEsmF/XML-Compile-1.61-0/blib/arch
/tmp/loop_over_bdir-23675-iIEsmF/XML-Compile-1.61-0/blib/lib
/tmp/loop_over_bdir-23675-iIEsmF/XML-Compile-Tester-0.91-0/blib/arch
/tmp/loop_over_bdir-23675-iIEsmF/XML-Compile-Tester-0.91-0/blib/lib
/tmp/loop_over_bdir-23675-iIEsmF/Log-Report-1.27-0/blib/arch
/tmp/loop_over_bdir-23675-iIEsmF/Log-Report-1.27-0/blib/lib
/tmp/loop_over_bdir-23675-iIEsmF/Log-Report-Optional-1.06-0/blib/arch
/tmp/loop_over_bdir-23675-iIEsmF/Log-Report-Optional-1.06-0/blib/lib
/tmp/loop_over_bdir-23675-iIEsmF/String-Print-0.93-0/blib/arch
/tmp/loop_over_bdir-23675-iIEsmF/String-Print-0.93-0/blib/lib
/home/sand/src/perl/repoperls/installed-perls/host/k93msid/v5.24.4/fc43/lib/site_perl/5.24.4/x86_64-linux-ld
/home/sand/src/perl/repoperls/installed-perls/host/k93msid/v5.24.4/fc43/lib/site_perl/5.24.4
/home/sand/src/perl/repoperls/installed-perls/host/k93msid/v5.24.4/fc43/lib/5.24.4/x86_64-linux-ld
/home/sand/src/perl/repoperls/installed-perls/host/k93msid/v5.24.4/fc43/lib/5.24.4
.