Back
From: metabase:user:30f0bd62-2aae-11df-837a-5e0a49663a4f
Subject: PASS HTTP-WebTest-2.04 v5.13.4 OpenBSD
Date: 2010-09-22T12:19:21Z
This distribution has been tested as part of the CPAN Testers
project, supporting the Perl programming language. See
http://wiki.cpantesters.org/ for more information or email
questions to cpan-testers-discuss@perl.org
--
Dear Ilya Martynov,
This is a computer-generated report for HTTP-WebTest-2.04
on perl 5.13.4, created by CPAN-Reporter-1.18.
Thank you for uploading your work to CPAN. Congratulations!
All tests were successful.
Sections of this report:
* Tester comments
* Program output
* Prerequisites
* Environment and other context
------------------------------
TESTER COMMENTS
------------------------------
Additional comments from tester:
this report is from an automated smoke testing program
and was not reviewed by a human for accuracy
------------------------------
PROGRAM OUTPUT
------------------------------
Output from '/usr/bin/make test':
PERL_DL_NONLAZY=1 /home/sts/cpansmoke/perl-5.13.4/bin/perl5.13.4 "-MExtUtils::Command::MM" "-e" "test_harness(0, 'blib/lib', 'blib/arch')" t/*.t
t/01-api.t ............ ok
t/02-generic.t ........ ok
t/03-proxy.t .......... ok
t/05-report.t ......... ok
t/05a-email-report.t .. ok
Use of uninitialized value $extracted in string eq at /home/sts/cpansmoke/perl-5.13.4/cpan/build/HTTP-WebTest-2.04-Zo6Sht/blib/lib/HTTP/WebTest/Parser.pm line 237.
Use of uninitialized value $extracted in string eq at /home/sts/cpansmoke/perl-5.13.4/cpan/build/HTTP-WebTest-2.04-Zo6Sht/blib/lib/HTTP/WebTest/Parser.pm line 237.
Use of uninitialized value $extracted in string eq at /home/sts/cpansmoke/perl-5.13.4/cpan/build/HTTP-WebTest-2.04-Zo6Sht/blib/lib/HTTP/WebTest/Parser.pm line 262.
t/06-parser.t ......... ok
t/07-compat.t ......... ok
t/08-plugins.t ........ ok
t/09-hooks.t .......... ok
t/10-click.t .......... ok
t/11-delay.t .......... ok
t/12-request.t ........ ok
t/13-harness.t ........ ok
All tests successful.
Files=13, Tests=247, 39 wallclock secs ( 0.10 usr 0.03 sys + 3.64 cusr 0.71 csys = 4.48 CPU)
Result: PASS
------------------------------
PREREQUISITES
------------------------------
Prerequisite modules loaded:
requires:
Module Need Have
--------------------- ---- ------
Algorithm::Diff 0 1.1902
CGI::Cookie 0 1.29
LWP 5.6 5.836
MIME::Base64 0 3.09
Net::SMTP 0 2.31
Pod::Man 1.14 2.23
Pod::Usage 0 1.36
Test::Builder::Tester 0 1.20
Test::MockObject 0.07 1.09
Test::More 0 0.96
Text::Balanced 0 2.02
Time::HiRes 0 1.9721
URI 0 1.55
------------------------------
ENVIRONMENT AND OTHER CONTEXT
------------------------------
Environment variables:
AUTOMATED_TESTING = 1
PATH = /home/sts/bin:/bin:/sbin:/usr/bin:/usr/sbin:/usr/X11R6/bin:/usr/local/bin:/usr/local/sbin:/usr/games:.
PERL5LIB = /home/sts/cpansmoke/perl-5.13.4/cpan/build/Algorithm-Diff-1.1902-0T0qn5/blib/arch:/home/sts/cpansmoke/perl-5.13.4/cpan/build/Algorithm-Diff-1.1902-0T0qn5/blib/lib:/home/sts/cpansmoke/perl-5.13.4/cpan/build/Test-MockObject-1.09-lKymnz/blib/arch:/home/sts/cpansmoke/perl-5.13.4/cpan/build/Test-MockObject-1.09-lKymnz/blib/lib:/home/sts/cpansmoke/perl-5.13.4/cpan/build/UNIVERSAL-can-1.16-jyYiEJ/blib/arch:/home/sts/cpansmoke/perl-5.13.4/cpan/build/UNIVERSAL-can-1.16-jyYiEJ/blib/lib:/home/sts/cpansmoke/perl-5.13.4/cpan/build/UNIVERSAL-isa-1.03-d4HyTd/blib/arch:/home/sts/cpansmoke/perl-5.13.4/cpan/build/UNIVERSAL-isa-1.03-d4HyTd/blib/lib
PERL5OPT =
PERL5_CPANPLUS_IS_RUNNING = 21804
PERL5_CPAN_IS_RUNNING = 21804
PERL5_CPAN_IS_RUNNING_IN_RECURSION = 30648,21804
PERL_CR_SMOKER_CURRENT = HTTP-WebTest-Plugin-Sticky-0.02
PERL_EXTUTILS_AUTOINSTALL = --defaultdeps
PERL_MM_USE_DEFAULT = 1
SHELL = /usr/local/bin/bash
TERM = screen
TMPDIR = /home/sts/cpansmoke/tmp
Perl special variables (and OS-specific diagnostics, for MSWin32):
$^X = /home/sts/cpansmoke/perl-5.13.4/bin/perl5.13.4
$UID/$EUID = 1000 / 1000
$GID = 10 10 0
$EGID = 10 10 0
Perl module toolchain versions installed:
Module Have
------------------- -------
CPAN 1.94_57
Cwd 3.31
ExtUtils::CBuilder 0.2703
ExtUtils::Command 1.16
ExtUtils::Install 1.55
ExtUtils::MakeMaker 6.5601
ExtUtils::Manifest 1.58
ExtUtils::ParseXS 2.2207
File::Spec 3.31_01
Module::Build 0.3607
Module::Signature n/a
Test::Harness 3.22
Test::More 0.96
YAML 0.72
YAML::Syck 1.14
version 0.82
--
Summary of my perl5 (revision 5 version 13 subversion 4) configuration:
Platform:
osname=openbsd, osvers=4.7, archname=OpenBSD.i386-openbsd-thread-multi
uname='openbsd cpansmoke3 4.7 generic.mp#449 i386 '
config_args='-des -Dusedevel -Dusethreads -Dprefix=/home/sts/cpansmoke/perl-5.13.4'
hint=recommended, useposix=true, d_sigaction=define
useithreads=define, usemultiplicity=define
useperlio=define, d_sfio=undef, uselargefiles=define, usesocks=undef
use64bitint=undef, use64bitall=undef, uselongdouble=undef
usemymalloc=y, bincompat5005=undef
Compiler:
cc='cc', ccflags ='-pthread -fno-strict-aliasing -pipe -fstack-protector -I/usr/local/include',
optimize='-O2',
cppflags='-pthread -fno-strict-aliasing -pipe -fstack-protector -I/usr/local/include'
ccversion='', gccversion='3.3.5 (propolice)', gccosandvers='openbsd4.7'
intsize=4, longsize=4, ptrsize=4, doublesize=8, byteorder=1234
d_longlong=define, longlongsize=8, d_longdbl=define, longdblsize=12
ivtype='long', ivsize=4, nvtype='double', nvsize=8, Off_t='off_t', lseeksize=8
alignbytes=4, prototype=define
Linker and Libraries:
ld='cc', ldflags ='-pthread -Wl,-E -fstack-protector -L/usr/local/lib'
libpth=/usr/local/lib /usr/lib
libs=-lgdbm -lm -lutil -lc
perllibs=-lm -lutil -lc
libc=/usr/lib/libc.so.53.1, so=so, useshrplib=false, libperl=libperl.a
gnulibc_version=''
Dynamic Linking:
dlsrc=dl_dlopen.xs, dlext=so, d_dlsymun=undef, ccdlflags=' '
cccdlflags='-DPIC -fPIC ', lddlflags='-shared -fPIC -L/usr/local/lib -fstack-protector'
Characteristics of this binary (from libperl):
Compile-time options: MULTIPLICITY MYMALLOC PERL_DONT_CREATE_GVSV
PERL_IMPLICIT_CONTEXT PERL_MALLOC_WRAP PERL_USE_DEVEL
USE_ITHREADS USE_LARGE_FILES USE_PERLIO USE_PERL_ATOF
USE_REENTRANT_API
Built under openbsd
Compiled at Sep 8 2010 12:58:26
%ENV:
PERL5LIB="/home/sts/cpansmoke/perl-5.13.4/cpan/build/Algorithm-Diff-1.1902-0T0qn5/blib/arch:/home/sts/cpansmoke/perl-5.13.4/cpan/build/Algorithm-Diff-1.1902-0T0qn5/blib/lib:/home/sts/cpansmoke/perl-5.13.4/cpan/build/Test-MockObject-1.09-lKymnz/blib/arch:/home/sts/cpansmoke/perl-5.13.4/cpan/build/Test-MockObject-1.09-lKymnz/blib/lib:/home/sts/cpansmoke/perl-5.13.4/cpan/build/UNIVERSAL-can-1.16-jyYiEJ/blib/arch:/home/sts/cpansmoke/perl-5.13.4/cpan/build/UNIVERSAL-can-1.16-jyYiEJ/blib/lib:/home/sts/cpansmoke/perl-5.13.4/cpan/build/UNIVERSAL-isa-1.03-d4HyTd/blib/arch:/home/sts/cpansmoke/perl-5.13.4/cpan/build/UNIVERSAL-isa-1.03-d4HyTd/blib/lib"
PERL5OPT=""
PERL5_CPANPLUS_IS_RUNNING="21804"
PERL5_CPAN_IS_RUNNING="21804"
PERL5_CPAN_IS_RUNNING_IN_RECURSION="30648,21804"
PERL_CR_SMOKER_CURRENT="HTTP-WebTest-Plugin-Sticky-0.02"
PERL_EXTUTILS_AUTOINSTALL="--defaultdeps"
PERL_MM_USE_DEFAULT="1"
@INC:
/home/sts/cpansmoke/perl-5.13.4/cpan/build/Algorithm-Diff-1.1902-0T0qn5/blib/arch
/home/sts/cpansmoke/perl-5.13.4/cpan/build/Algorithm-Diff-1.1902-0T0qn5/blib/lib
/home/sts/cpansmoke/perl-5.13.4/cpan/build/Test-MockObject-1.09-lKymnz/blib/arch
/home/sts/cpansmoke/perl-5.13.4/cpan/build/Test-MockObject-1.09-lKymnz/blib/lib
/home/sts/cpansmoke/perl-5.13.4/cpan/build/UNIVERSAL-can-1.16-jyYiEJ/blib/arch
/home/sts/cpansmoke/perl-5.13.4/cpan/build/UNIVERSAL-can-1.16-jyYiEJ/blib/lib
/home/sts/cpansmoke/perl-5.13.4/cpan/build/UNIVERSAL-isa-1.03-d4HyTd/blib/arch
/home/sts/cpansmoke/perl-5.13.4/cpan/build/UNIVERSAL-isa-1.03-d4HyTd/blib/lib
/home/sts/cpansmoke/perl-5.13.4/lib/site_perl/5.13.4/OpenBSD.i386-openbsd-thread-multi
/home/sts/cpansmoke/perl-5.13.4/lib/site_perl/5.13.4
/home/sts/cpansmoke/perl-5.13.4/lib/5.13.4/OpenBSD.i386-openbsd-thread-multi
/home/sts/cpansmoke/perl-5.13.4/lib/5.13.4
.