Report for Redis-JobQueue-1.19

Back
From: metabase:user:31d414ea-2aae-11df-837a-5e0a49663a4f
Subject: PASS Redis-JobQueue-1.19 v5.12.5 GNU/Linux
Date: 2017-02-27T17:31:53Z

This distribution has been tested as part of the CPAN Testers
project, supporting the Perl programming language.  See
http://wiki.cpantesters.org/ for more information or email
questions to cpan-testers-discuss@perl.org


--
Dear Sergey Gladkov,

This is a computer-generated report for Redis-JobQueue-1.19
on perl 5.12.5, created by CPAN-Reporter-1.2018.

Thank you for uploading your work to CPAN.  Congratulations!
All tests were successful.

Sections of this report:

    * Tester comments
    * Program output
    * Prerequisites
    * Environment and other context

------------------------------
TESTER COMMENTS
------------------------------

Additional comments from tester:

this report is from an automated smoke testing program
and was not reviewed by a human for accuracy

------------------------------
PROGRAM OUTPUT
------------------------------

Output from '/usr/bin/make test':

PERL_DL_NONLAZY=1 "/home/david/cpantesting/perl-5.12.5/bin/perl" "-MExtUtils::Command::MM" "-MTest::Harness" "-e" "undef *Test::Harness::Switches; test_harness(0, 'blib/lib', 'blib/arch')" t/00_compile.t t/00_Job/00_compile.t t/00_Job/01_new.t t/00_Job/02_accessor.t t/00_Job/03_modified.t t/00_Job/04_job_attributes.t t/00_Job/05_meta_data.t t/01_JobQueue/00_compile.t t/01_JobQueue/01_new.t t/01_JobQueue/02_add_job.t t/01_JobQueue/04_load_job.t t/01_JobQueue/05_get_next_job.t t/01_JobQueue/06_update_job.t t/01_JobQueue/07_delete_job.t t/01_JobQueue/08_get_job_ids.t t/01_JobQueue/09_quit.t t/01_JobQueue/10_max_datasize.t t/01_JobQueue/11_last_errorcode.t t/01_JobQueue/12_timeout.t t/01_JobQueue/13_get_job_meta_fields.t t/01_JobQueue/14_get_job_data.t t/01_JobQueue/15_queue_status.t t/01_JobQueue/16_utf8.t
t/00_compile.t .......................... ok
t/00_Job/00_compile.t ................... ok
t/00_Job/01_new.t ....................... ok
t/00_Job/02_accessor.t .................. ok
t/00_Job/03_modified.t .................. ok
t/00_Job/04_job_attributes.t ............ ok
t/00_Job/05_meta_data.t ................. ok
t/01_JobQueue/00_compile.t .............. ok
# Unable to create test Redis server
t/01_JobQueue/01_new.t .................. ok
# Unable to create test Redis server
t/01_JobQueue/02_add_job.t .............. ok
# Unable to create test Redis server
t/01_JobQueue/04_load_job.t ............. ok
# Unable to create test Redis server
t/01_JobQueue/05_get_next_job.t ......... ok
# Unable to create test Redis server
t/01_JobQueue/06_update_job.t ........... ok
# Unable to create test Redis server
t/01_JobQueue/07_delete_job.t ........... ok
# Unable to create test Redis server
t/01_JobQueue/08_get_job_ids.t .......... ok
# Unable to create test Redis server
t/01_JobQueue/09_quit.t ................. ok
# Unable to create test Redis server
t/01_JobQueue/10_max_datasize.t ......... ok
# Unable to create test Redis server
t/01_JobQueue/11_last_errorcode.t ....... ok
# Unable to create test Redis server
t/01_JobQueue/12_timeout.t .............. ok
# Unable to create test Redis server
t/01_JobQueue/13_get_job_meta_fields.t .. ok
# Unable to create test Redis server
t/01_JobQueue/14_get_job_data.t ......... ok
# Unable to create test Redis server
t/01_JobQueue/15_queue_status.t ......... ok
# Unable to create test Redis server
t/01_JobQueue/16_utf8.t ................. ok
All tests successful.
Files=23, Tests=305, 57 wallclock secs ( 0.05 usr  0.09 sys +  1.82 cusr  0.59 csys =  2.55 CPU)
Result: PASS

------------------------------
PREREQUISITES
------------------------------

Prerequisite modules loaded:

requires:

    Module              Need  Have    
    ------------------- ----- --------
    Data::UUID          1.217 1.221   
    Digest::SHA1        2.13  2.13    
    List::MoreUtils     0.33  0.416   
    Mouse               0     v2.4.9  
    Params::Util        1.07  1.07    
    perl                5.010 5.012005
    Redis               1.976 1.991   
    Storable            2.18  2.22    
    Try::Tiny           0.18  0.27    

build_requires:

    Module              Need  Have    
    ------------------- ----- --------
    ExtUtils::MakeMaker 0     7.24    
    Test::Deep          0.109 1.126   
    Test::Exception     0.31  0.43    
    Test::NoWarnings    1.04  1.04    
    Test::RedisServer   0.04  0.20    
    Test::TCP           2.11  2.17    

configure_requires:

    Module              Need  Have    
    ------------------- ----- --------
    ExtUtils::MakeMaker 0     7.24    


------------------------------
ENVIRONMENT AND OTHER CONTEXT
------------------------------

Environment variables:

    AUTOMATED_TESTING = 1
    NONINTERACTIVE_TESTING = 1
    PATH = /usr/local/bin:/usr/bin:/bin:/usr/local/games:/usr/games
    PERL = 5.12.5
    PERL5LIB = 
    PERL5OPT = 
    PERL5_CPANPLUS_IS_RUNNING = 29868
    PERL5_CPAN_IS_RUNNING = 29868
    PERLVER = 5.12.5
    PERL_INLINE_DIRECTORY = /home/david/.Inline-5.12.5
    PERL_MM_USE_DEFAULT = 1
    SHELL = /bin/bash
    TERM = screen

Perl special variables (and OS-specific diagnostics, for MSWin32):

    $^X = /home/david/cpantesting/perl-5.12.5/bin/perl
    $UID/$EUID = 1000 / 1000
    $GID = 1000 1000
    $EGID = 1000 1000

Perl module toolchain versions installed:

    Module              Have    
    ------------------- --------
    CPAN                1.94_56 
    CPAN::Meta          2.150010
    Cwd                 3.31    
    ExtUtils::CBuilder  0.27    
    ExtUtils::Command   7.24    
    ExtUtils::Install   1.55    
    ExtUtils::MakeMaker 7.24    
    ExtUtils::Manifest  1.70    
    ExtUtils::ParseXS   3.30    
    File::Spec          3.31_01 
    JSON                2.90    
    JSON::PP            2.27400 
    Module::Build       0.4220  
    Module::Signature   n/a     
    Parse::CPAN::Meta   2.150010
    Test::Harness       3.36    
    Test::More          1.302075
    YAML                1.18    
    YAML::Syck          1.29    
    version             0.9917  


--

Summary of my perl5 (revision 5 version 12 subversion 5) configuration:
   
  Platform:
    osname=linux, osvers=3.16.0-4-amd64, archname=x86_64-linux-thread-multi
    uname='linux pigsty.barnyard.co.uk 3.16.0-4-amd64 #1 smp debian 3.16.36-1+deb8u1 (2016-09-03) x86_64 gnulinux '
    config_args='-de -Duse64bitall -Dusethreads -Dprefix=/home/david/cpantesting/perl-5.12.5'
    hint=recommended, useposix=true, d_sigaction=define
    useithreads=define, usemultiplicity=define
    useperlio=define, d_sfio=undef, uselargefiles=define, usesocks=undef
    use64bitint=define, use64bitall=define, uselongdouble=undef
    usemymalloc=n, bincompat5005=undef
  Compiler:
    cc='cc', ccflags ='-D_REENTRANT -D_GNU_SOURCE -fno-strict-aliasing -pipe -fstack-protector -I/usr/local/include -D_LARGEFILE_SOURCE -D_FILE_OFFSET_BITS=64',
    optimize='-O2',
    cppflags='-D_REENTRANT -D_GNU_SOURCE -fno-strict-aliasing -pipe -fstack-protector -I/usr/local/include'
    ccversion='', gccversion='4.9.2', gccosandvers=''
    intsize=4, longsize=8, ptrsize=8, doublesize=8, byteorder=12345678
    d_longlong=define, longlongsize=8, d_longdbl=define, longdblsize=16
    ivtype='long', ivsize=8, nvtype='double', nvsize=8, Off_t='off_t', lseeksize=8
    alignbytes=8, prototype=define
  Linker and Libraries:
    ld='cc', ldflags =' -fstack-protector -L/usr/local/lib'
    libpth=/usr/local/lib /lib/x86_64-linux-gnu /lib/../lib /usr/lib/x86_64-linux-gnu /usr/lib/../lib /lib /usr/lib
    libs=-lnsl -ldb -ldl -lm -lcrypt -lutil -lpthread -lc
    perllibs=-lnsl -ldl -lm -lcrypt -lutil -lpthread -lc
    libc=libc-2.19.so, so=so, useshrplib=false, libperl=libperl.a
    gnulibc_version='2.19'
  Dynamic Linking:
    dlsrc=dl_dlopen.xs, dlext=so, d_dlsymun=undef, ccdlflags='-Wl,-E'
    cccdlflags='-fPIC', lddlflags='-shared -O2 -L/usr/local/lib -fstack-protector'


Characteristics of this binary (from libperl): 
  Compile-time options: MULTIPLICITY PERL_DONT_CREATE_GVSV
                        PERL_IMPLICIT_CONTEXT PERL_MALLOC_WRAP USE_64_BIT_ALL
                        USE_64_BIT_INT USE_ITHREADS USE_LARGE_FILES
                        USE_PERLIO USE_PERL_ATOF USE_REENTRANT_API
  Locally applied patches:
	Devel::PatchPerl 1.44
  Built under linux
  Compiled at Oct 12 2016 15:07:50
  %ENV:
    PERL="5.12.5"
    PERL5LIB=""
    PERL5OPT=""
    PERL5_CPANPLUS_IS_RUNNING="29868"
    PERL5_CPAN_IS_RUNNING="29868"
    PERLVER="5.12.5"
    PERL_INLINE_DIRECTORY="/home/david/.Inline-5.12.5"
    PERL_MM_USE_DEFAULT="1"
  @INC:
    /home/david/cpantesting/perl-5.12.5/lib/site_perl/5.12.5/x86_64-linux-thread-multi
    /home/david/cpantesting/perl-5.12.5/lib/site_perl/5.12.5
    /home/david/cpantesting/perl-5.12.5/lib/5.12.5/x86_64-linux-thread-multi
    /home/david/cpantesting/perl-5.12.5/lib/5.12.5
    .