Capture-Tiny-Extended v0.114 Perl 5 v5.37.7 x86_64-linux-thread-multi-ld
- Status
- Pass
- From
- Andreas J. König (ANDK)
- Dist
-
Capture-Tiny-Extended v0.114
- Platform
- Perl 5 v5.37.7 x86_64-linux-thread-multi-ld
- Date
- 2022-12-23 20:44:43
- ID
- a15e890c-8302-11ed-8f5b-3d9b9ad1cf8c
This distribution has been tested as part of the CPAN Testers
project, supporting the Perl programming language. See
http://wiki.cpantesters.org/ for more information or email
questions to cpan-testers-discuss@perl.org
--
Dear Christian Walde,
This is a computer-generated report for Capture-Tiny-Extended-0.114
on perl 5.37.7, created by CPAN-Reporter-1.2018.
Thank you for uploading your work to CPAN. Congratulations!
All tests were successful.
Sections of this report:
* Tester comments
* Program output
* Prerequisites
* Environment and other context
------------------------------
TESTER COMMENTS
------------------------------
Additional comments from tester:
this report is from an automated smoke testing program
and was not reviewed by a human for accuracy
------------------------------
PROGRAM OUTPUT
------------------------------
Output from '/usr/bin/make test':
PERL_DL_NONLAZY=1 "/tmp/basesmoker-reloperl-CGTr/bin/perl" "-MExtUtils::Command::MM" "-MTest::Harness" "-e" "undef *Test::Harness::Switches; test_harness(0, 'blib/lib', 'blib/arch')" t/*.t
t/00-compile.t ............. ok
t/01-Capture-Tiny.t ........ ok
t/02-capture.t ............. ok
t/03-tee.t ................. ok
t/06-stdout-closed.t ....... ok
t/07-stderr-closed.t ....... ok
t/08-stdin-closed.t ........ ok
t/09-preserve-exit-code.t .. ok
t/10-stdout-string.t ....... ok
t/11-stderr-string.t ....... ok
t/12-stdin-string.t ........ ok
t/13-stdout-tied.t ......... ok
t/14-stderr-tied.t ......... ok
t/15-stdin-tied.t .......... ok
t/16-catch-errors.t ........ ok
All tests successful.
Test Summary Report
-------------------
t/13-stdout-tied.t (Wstat: 0 Tests: 489 Failed: 0)
TODO passed: 3-4, 11-13, 21-22, 30-31, 38-40, 48-49
59, 68, 75-76, 83, 85, 94, 102-103, 110
112, 121, 130-132, 146-151, 166-168, 184-186
200-205, 220-222, 238, 248-251, 262, 274
284-287, 298, 309, 311-313, 315-317, 338
340, 342-344, 346-347, 372-373, 376-377
399, 401-403, 405-407, 428, 430, 432-434
436-437, 462-463, 466-467
t/14-stderr-tied.t (Wstat: 0 Tests: 489 Failed: 0)
TODO passed: 5, 7, 14-16, 23, 25, 32, 34, 41-43, 50
52, 57, 60, 63, 66, 69, 72, 77-79, 86-88
95-97, 104-106, 113-115, 122-124, 134-135
138, 152-157, 170-171, 174, 188-189, 192
206-211, 224-225, 228, 240-241, 243, 252-255
264-265, 267, 276-277, 279, 288-291, 300-301
303, 318-327, 348-357, 378-387, 408-417
438-447, 468-477
Files=15, Tests=4904, 13 wallclock secs ( 0.54 usr 0.36 sys + 7.69 cusr 7.92 csys = 16.51 CPU)
Result: PASS
------------------------------
PREREQUISITES
------------------------------
Prerequisite modules loaded:
requires:
Module Need Have
------------------- ---- --------
Carp 0 1.54
Exporter 0 5.77
File::Spec 0 3.88
File::Temp 0 0.2311
IO::Handle 0 1.51
build_requires:
Module Need Have
------------------- ---- --------
File::Find 0 1.41
Test::More 0.62 1.302191
configure_requires:
Module Need Have
------------------- ---- --------
ExtUtils::MakeMaker 6.30 7.64
------------------------------
ENVIRONMENT AND OTHER CONTEXT
------------------------------
Environment variables:
AUTOMATED_TESTING = 1
LANG = en_US.UTF-8
LC_ADDRESS = de_DE.UTF-8
LC_IDENTIFICATION = de_DE.UTF-8
LC_MEASUREMENT = de_DE.UTF-8
LC_MONETARY = de_DE.UTF-8
LC_NAME = de_DE.UTF-8
LC_NUMERIC = de_DE.UTF-8
LC_PAPER = de_DE.UTF-8
LC_TELEPHONE = de_DE.UTF-8
LC_TIME = de_DE.UTF-8
PATH = /home/sand/bin:/usr/local/bin:/usr/local/sbin:/usr/sbin:/usr/bin:/sbin:/bin:/usr/games:/usr/local/games:/snap/bin:/usr/local/perl/bin:/usr/X11/bin
PERL = /tmp/basesmoker-reloperl-CGTr/bin/perl
PERL5LIB = /tmp/loop_over_bdir-5793-JYVL1x/dta-tokwrap-0.98-0/blib/arch:/tmp/loop_over_bdir-5793-JYVL1x/dta-tokwrap-0.98-0/blib/lib:/tmp/loop_over_bdir-5793-JYVL1x/Net-ISP-Balance-1.31-0/blib/arch:/tmp/loop_over_bdir-5793-JYVL1x/Net-ISP-Balance-1.31-0/blib/lib:/tmp/loop_over_bdir-5793-JYVL1x/Devel-Required-0.16-0/blib/arch:/tmp/loop_over_bdir-5793-JYVL1x/Devel-Required-0.16-0/blib/lib:/tmp/loop_over_bdir-5793-JYVL1x/App-oo_modulino_zsh_completion_helper-0.04-0/blib/arch:/tmp/loop_over_bdir-5793-JYVL1x/App-oo_modulino_zsh_completion_helper-0.04-0/blib/lib:/tmp/loop_over_bdir-5793-JYVL1x/Dpkg-1.21.13-0/blib/arch:/tmp/loop_over_bdir-5793-JYVL1x/Dpkg-1.21.13-0/blib/lib:/tmp/loop_over_bdir-5793-JYVL1x/HTML-Menu-TreeView-1.22-0/blib/arch:/tmp/loop_over_bdir-5793-JYVL1x/HTML-Menu-TreeView-1.22-0/blib/lib:/tmp/loop_over_bdir-5793-JYVL1x/LiquidWeb-Storm-CLI-1.03-0/blib/arch:/tmp/loop_over_bdir-5793-JYVL1x/LiquidWeb-Storm-CLI-1.03-0/blib/lib
PERL5OPT =
PERL5_CPANPLUS_IS_RUNNING = 5865
PERL5_CPAN_IS_RUNNING = 5865
PERL_CANARY_STABILITY_NOPROMPT = 1
PERL_MM_USE_DEFAULT = 1
PERL_USE_UNSAFE_INC = 1
SHELL = /usr/bin/zsh
TERM = screen
Perl special variables (and OS-specific diagnostics, for MSWin32):
$^X = /tmp/basesmoker-reloperl-CGTr/bin/perl
$UID/$EUID = 1005 / 1005
$GID = 1005 1005
$EGID = 1005 1005
Perl module toolchain versions installed:
Module Have
------------------- --------
CPAN 2.34
CPAN::Meta 2.150010
Cwd 3.88
ExtUtils::CBuilder 0.280238
ExtUtils::Command 7.64
ExtUtils::Install 2.20
ExtUtils::MakeMaker 7.64
ExtUtils::Manifest 1.73
ExtUtils::ParseXS 3.49
File::Spec 3.88
JSON 4.10
JSON::PP 4.12
Module::Build 0.4232
Module::Signature 0.88
Parse::CPAN::Meta 2.150010
Test::Harness 3.44
Test::More 1.302191
YAML 1.30
YAML::Syck 1.34
version 0.9929
--
Summary of my perl5 (revision 5 version 37 subversion 7) configuration:
Commit id: b1163c2ae562670f2bf4c7700087f0c9d0ad8fe5
Platform:
osname=linux
osvers=5.15.0-56-generic
archname=x86_64-linux-thread-multi-ld
uname='linux k93jammy 5.15.0-56-generic #62-ubuntu smp tue nov 22 19:54:14 utc 2022 x86_64 x86_64 x86_64 gnulinux '
config_args='-Dprefix=/home/sand/src/perl/repoperls/installed-perls/host/k93jammy/v5.37.7/322f -Dmyhostname=k93jammy -Dinstallusrbinperl=n -Uversiononly -Dusedevel -des -Ui_db -Dlibswanted=cl pthread socket inet nsl gdbm dbm malloc dl ld sun m crypt sec util c cposix posix ucb BSD gdbm_compat -Duseithreads -Duselongdouble -DEBUGGING=-g'
hint=recommended
useposix=true
d_sigaction=define
useithreads=define
usemultiplicity=define
use64bitint=define
use64bitall=define
uselongdouble=define
usemymalloc=n
default_inc_excludes_dot=define
Compiler:
cc='cc'
ccflags ='-D_REENTRANT -D_GNU_SOURCE -fwrapv -fno-strict-aliasing -pipe -fstack-protector-strong -I/usr/local/include -D_LARGEFILE_SOURCE -D_FILE_OFFSET_BITS=64'
optimize='-O2 -g'
cppflags='-D_REENTRANT -D_GNU_SOURCE -fwrapv -fno-strict-aliasing -pipe -fstack-protector-strong -I/usr/local/include'
ccversion=''
gccversion='11.3.0'
gccosandvers=''
intsize=4
longsize=8
ptrsize=8
doublesize=8
byteorder=12345678
doublekind=3
d_longlong=define
longlongsize=8
d_longdbl=define
longdblsize=16
longdblkind=3
ivtype='long'
ivsize=8
nvtype='long double'
nvsize=16
Off_t='off_t'
lseeksize=8
alignbytes=16
prototype=define
Linker and Libraries:
ld='cc'
ldflags =' -fstack-protector-strong -L/usr/local/lib'
libpth=/usr/local/lib /usr/lib/x86_64-linux-gnu /usr/lib /usr/lib64
libs=-lpthread -lnsl -ldl -lm -lcrypt -lutil -lc
perllibs=-lpthread -lnsl -ldl -lm -lcrypt -lutil -lc
libc=/lib/x86_64-linux-gnu/libc.so.6
so=so
useshrplib=false
libperl=libperl.a
gnulibc_version='2.35'
Dynamic Linking:
dlsrc=dl_dlopen.xs
dlext=so
d_dlsymun=undef
ccdlflags='-Wl,-E'
cccdlflags='-fPIC'
lddlflags='-shared -O2 -g -L/usr/local/lib -fstack-protector-strong'
Characteristics of this binary (from libperl):
Compile-time options:
HAS_TIMES
MULTIPLICITY
PERLIO_LAYERS
PERL_COPY_ON_WRITE
PERL_DONT_CREATE_GVSV
PERL_HASH_FUNC_SIPHASH13
PERL_HASH_USE_SBOX32
PERL_MALLOC_WRAP
PERL_OP_PARENT
PERL_PRESERVE_IVUV
PERL_USE_DEVEL
PERL_USE_SAFE_PUTENV
USE_64_BIT_ALL
USE_64_BIT_INT
USE_ITHREADS
USE_LARGE_FILES
USE_LOCALE
USE_LOCALE_COLLATE
USE_LOCALE_CTYPE
USE_LOCALE_NUMERIC
USE_LOCALE_TIME
USE_LONG_DOUBLE
USE_PERLIO
USE_PERL_ATOF
USE_REENTRANT_API
USE_THREAD_SAFE_LOCALE
Built under linux
Compiled at Dec 21 2022 03:54:52
%ENV:
PERL="/tmp/basesmoker-reloperl-CGTr/bin/perl"
PERL5LIB="/tmp/loop_over_bdir-5793-JYVL1x/dta-tokwrap-0.98-0/blib/arch:/tmp/loop_over_bdir-5793-JYVL1x/dta-tokwrap-0.98-0/blib/lib:/tmp/loop_over_bdir-5793-JYVL1x/Net-ISP-Balance-1.31-0/blib/arch:/tmp/loop_over_bdir-5793-JYVL1x/Net-ISP-Balance-1.31-0/blib/lib:/tmp/loop_over_bdir-5793-JYVL1x/Devel-Required-0.16-0/blib/arch:/tmp/loop_over_bdir-5793-JYVL1x/Devel-Required-0.16-0/blib/lib:/tmp/loop_over_bdir-5793-JYVL1x/App-oo_modulino_zsh_completion_helper-0.04-0/blib/arch:/tmp/loop_over_bdir-5793-JYVL1x/App-oo_modulino_zsh_completion_helper-0.04-0/blib/lib:/tmp/loop_over_bdir-5793-JYVL1x/Dpkg-1.21.13-0/blib/arch:/tmp/loop_over_bdir-5793-JYVL1x/Dpkg-1.21.13-0/blib/lib:/tmp/loop_over_bdir-5793-JYVL1x/HTML-Menu-TreeView-1.22-0/blib/arch:/tmp/loop_over_bdir-5793-JYVL1x/HTML-Menu-TreeView-1.22-0/blib/lib:/tmp/loop_over_bdir-5793-JYVL1x/LiquidWeb-Storm-CLI-1.03-0/blib/arch:/tmp/loop_over_bdir-5793-JYVL1x/LiquidWeb-Storm-CLI-1.03-0/blib/lib"
PERL5OPT=""
PERL5_CPANPLUS_IS_RUNNING="5865"
PERL5_CPAN_IS_RUNNING="5865"
PERL_CANARY_STABILITY_NOPROMPT="1"
PERL_MM_USE_DEFAULT="1"
PERL_USE_UNSAFE_INC="1"
@INC:
/tmp/loop_over_bdir-5793-JYVL1x/dta-tokwrap-0.98-0/blib/arch
/tmp/loop_over_bdir-5793-JYVL1x/dta-tokwrap-0.98-0/blib/lib
/tmp/loop_over_bdir-5793-JYVL1x/Net-ISP-Balance-1.31-0/blib/arch
/tmp/loop_over_bdir-5793-JYVL1x/Net-ISP-Balance-1.31-0/blib/lib
/tmp/loop_over_bdir-5793-JYVL1x/Devel-Required-0.16-0/blib/arch
/tmp/loop_over_bdir-5793-JYVL1x/Devel-Required-0.16-0/blib/lib
/tmp/loop_over_bdir-5793-JYVL1x/App-oo_modulino_zsh_completion_helper-0.04-0/blib/arch
/tmp/loop_over_bdir-5793-JYVL1x/App-oo_modulino_zsh_completion_helper-0.04-0/blib/lib
/tmp/loop_over_bdir-5793-JYVL1x/Dpkg-1.21.13-0/blib/arch
/tmp/loop_over_bdir-5793-JYVL1x/Dpkg-1.21.13-0/blib/lib
/tmp/loop_over_bdir-5793-JYVL1x/HTML-Menu-TreeView-1.22-0/blib/arch
/tmp/loop_over_bdir-5793-JYVL1x/HTML-Menu-TreeView-1.22-0/blib/lib
/tmp/loop_over_bdir-5793-JYVL1x/LiquidWeb-Storm-CLI-1.03-0/blib/arch
/tmp/loop_over_bdir-5793-JYVL1x/LiquidWeb-Storm-CLI-1.03-0/blib/lib
/home/sand/src/perl/repoperls/installed-perls/host/k93jammy/v5.37.7/322f/lib/site_perl/5.37.7/x86_64-linux-thread-multi-ld
/home/sand/src/perl/repoperls/installed-perls/host/k93jammy/v5.37.7/322f/lib/site_perl/5.37.7
/home/sand/src/perl/repoperls/installed-perls/host/k93jammy/v5.37.7/322f/lib/5.37.7/x86_64-linux-thread-multi-ld
/home/sand/src/perl/repoperls/installed-perls/host/k93jammy/v5.37.7/322f/lib/5.37.7
.