Venus v4.15 Perl 5 v5.41.11 x86_64-linux

Status
Pass
From
Carlos Guevara
Dist
Venus v4.15
Platform
Perl 5 v5.41.11 x86_64-linux
Date
2025-03-29 08:20:10
ID
a18bf34c-0c76-11f0-a2b7-b17f5c594cd9
This distribution has been tested as part of the CPAN Testers
project, supporting the Perl programming language.  See
http://wiki.cpantesters.org/ for more information or email
questions to cpan-testers-discuss@perl.org


--
Dear Al Newkirk,

This is a computer-generated report for Venus-4.15
on perl 5.41.11, created by CPAN-Reporter-1.2020.

Thank you for uploading your work to CPAN.  Congratulations!
All tests were successful.

Sections of this report:

    * Tester comments
    * Program output
    * Prerequisites
    * Environment and other context

------------------------------
TESTER COMMENTS
------------------------------

Additional comments from tester:

this report is from an automated smoke testing program
and was not reviewed by a human for accuracy

------------------------------
PROGRAM OUTPUT
------------------------------

Output from '/usr/bin/make test':

PERL_DL_NONLAZY=1 "/home/cpan/bin/perl/bin/perl5.41.11" "-MExtUtils::Command::MM" "-MTest::Harness" "-e" "undef *Test::Harness::Switches; test_harness(0, 'blib/lib', 'blib/arch')" t/*.t
t/Venus.t .................... ok
t/Venus_Args.t ............... ok
t/Venus_Array.t .............. ok
t/Venus_Assert.t ............. ok
t/Venus_Atom.t ............... ok
t/Venus_Boolean.t ............ ok
t/Venus_Box.t ................ ok
t/Venus_Check.t .............. ok
t/Venus_Class.t .............. ok
t/Venus_Cli.t ................ ok
t/Venus_Code.t ............... ok
t/Venus_Coercion.t ........... ok
t/Venus_Config.t ............. ok
t/Venus_Constraint.t ......... ok
t/Venus_Container.t .......... ok
t/Venus_Core.t ............... ok
t/Venus_Core_Class.t ......... ok
t/Venus_Core_Mixin.t ......... ok
t/Venus_Core_Role.t .......... ok
t/Venus_Data.t ............... ok
t/Venus_Date.t ............... ok
t/Venus_Dump.t ............... ok
t/Venus_Enum.t ............... ok
t/Venus_Error.t .............. ok
t/Venus_False.t .............. ok
t/Venus_Fault.t .............. ok
t/Venus_Float.t .............. ok
t/Venus_Future.t ............. ok
t/Venus_Gather.t ............. ok
t/Venus_Hash.t ............... ok
t/Venus_Json.t ............... ok
t/Venus_Kind.t ............... ok
t/Venus_Kind_Utility.t ....... ok
t/Venus_Kind_Value.t ......... ok
t/Venus_Log.t ................ ok
t/Venus_Match.t .............. ok
t/Venus_Meta.t ............... ok
t/Venus_Mixin.t .............. ok
t/Venus_Name.t ............... ok
t/Venus_Number.t ............. ok
t/Venus_Opts.t ............... ok
t/Venus_Os.t ................. ok
t/Venus_Path.t ............... ok
t/Venus_Process.t ............ ok
t/Venus_Prototype.t .......... ok
t/Venus_Random.t ............. ok
t/Venus_Regexp.t ............. ok
t/Venus_Replace.t ............ ok
t/Venus_Role.t ............... ok
t/Venus_Role_Accessible.t .... ok
t/Venus_Role_Assertable.t .... ok
t/Venus_Role_Boxable.t ....... ok
t/Venus_Role_Buildable.t ..... ok
t/Venus_Role_Catchable.t ..... ok
t/Venus_Role_Coercible.t ..... ok
t/Venus_Role_Comparable.t .... ok
t/Venus_Role_Defaultable.t ... ok
t/Venus_Role_Deferrable.t .... ok
t/Venus_Role_Digestable.t .... ok
t/Venus_Role_Doable.t ........ ok
t/Venus_Role_Dumpable.t ...... ok
t/Venus_Role_Explainable.t ... ok
t/Venus_Role_Makeable.t ...... ok
t/Venus_Role_Mappable.t ...... ok
t/Venus_Role_Matchable.t ..... ok
t/Venus_Role_Mockable.t ...... ok
t/Venus_Role_Optional.t ...... ok
t/Venus_Role_Patchable.t ..... ok
t/Venus_Role_Pluggable.t ..... ok
t/Venus_Role_Printable.t ..... ok
t/Venus_Role_Proxyable.t ..... ok
t/Venus_Role_Reflectable.t ... ok
t/Venus_Role_Rejectable.t .... ok
t/Venus_Role_Serializable.t .. ok
t/Venus_Role_Stashable.t ..... ok
t/Venus_Role_Subscribable.t .. ok
t/Venus_Role_Superable.t ..... ok
t/Venus_Role_Testable.t ...... ok
t/Venus_Role_Throwable.t ..... ok
t/Venus_Role_Tryable.t ....... ok
t/Venus_Role_Unacceptable.t .. ok
t/Venus_Role_Unpackable.t .... ok
t/Venus_Role_Valuable.t ...... ok
t/Venus_Run.t ................ ok
t/Venus_Scalar.t ............. ok
t/Venus_Schema.t ............. ok
t/Venus_Sealed.t ............. ok
t/Venus_Search.t ............. ok
t/Venus_Set.t ................ ok
t/Venus_Space.t .............. ok
t/Venus_String.t ............. ok
t/Venus_Task.t ............... ok
t/Venus_Template.t ........... ok
t/Venus_Test.t ............... ok
t/Venus_Throw.t .............. ok
t/Venus_True.t ............... ok
t/Venus_Try.t ................ ok
t/Venus_Type.t ............... ok
t/Venus_Undef.t .............. ok
t/Venus_Unpack.t ............. ok
t/Venus_Vars.t ............... ok
t/Venus_Yaml.t ............... ok
All tests successful.
Files=102, Tests=4843, 50 wallclock secs ( 2.35 usr  0.25 sys + 43.70 cusr  3.43 csys = 49.73 CPU)
Result: PASS

------------------------------
PREREQUISITES
------------------------------

Prerequisite modules loaded:

requires:

    Module              Need  Have    
    ------------------- ----- --------
    perl                5.018 5.041011

build_requires:

    Module              Need  Have    
    ------------------- ----- --------
    ExtUtils::MakeMaker 0     7.72    
    perl                5.018 5.041011

configure_requires:

    Module              Need  Have    
    ------------------- ----- --------
    ExtUtils::MakeMaker 0     7.72    


------------------------------
ENVIRONMENT AND OTHER CONTEXT
------------------------------

Environment variables:

    AUTOMATED_TESTING = 1
    DATE_MANIP_TEST_DM5 = 1
    LANG = C.UTF-8
    LC_COLLATE = C
    NONINTERACTIVE_TESTING = 1
    NO_NETWORK_TESTING = 1
    PATH = /home/cpan/bin/perl/bin:/usr/local/sbin:/usr/local/bin:/usr/sbin:/usr/bin:/sbin:/bin
    PERL5LIB = 
    PERL5OPT = 
    PERL5_CPANPLUS_IS_RUNNING = 28551
    PERL5_CPAN_IS_RUNNING = 28551
    PERL_MM_USE_DEFAULT = 1
    PERL_USE_UNSAFE_INC = 1
    SHELL = /bin/bash
    TERM = screen

Perl special variables (and OS-specific diagnostics, for MSWin32):

    $^X = /home/cpan/bin/perl/bin/perl5.41.11
    $UID/$EUID = 1001 / 1001
    $GID = 1001 1001
    $EGID = 1001 1001

Perl module toolchain versions installed:

    Module              Have    
    ------------------- --------
    CPAN                2.38    
    CPAN::Meta          2.150010
    Cwd                 3.92    
    ExtUtils::CBuilder  0.280240
    ExtUtils::Command   7.72    
    ExtUtils::Install   2.22    
    ExtUtils::MakeMaker 7.72    
    ExtUtils::Manifest  1.75    
    ExtUtils::ParseXS   3.57    
    File::Spec          3.93    
    JSON                n/a     
    JSON::PP            4.16    
    Module::Build       0.4234  
    Module::Signature   n/a     
    Parse::CPAN::Meta   2.150010
    Test2               1.302209
    Test::Harness       3.50    
    Test::More          1.302209
    YAML                n/a     
    YAML::Syck          n/a     
    version             0.9933  


--

Summary of my perl5 (revision 5 version 41 subversion 11) configuration:
  Commit id: de36a92218b2118db3e5a47294474ce10ed4d379
  Platform:
    osname=linux
    osvers=6.12.20-0-lts
    archname=x86_64-linux
    uname='linux cjg-alpine3 6.12.20-0-lts #1-alpine smp preempt_dynamic 2025-03-24 08:09:11 x86_64 linux '
    config_args='-des -Dprefix=/home/cpan/bin/perl -Dscriptdir=/home/cpan/bin/perl/bin -Dusedevel -Duse64bitall'
    hint=recommended
    useposix=true
    d_sigaction=define
    useithreads=undef
    usemultiplicity=undef
    use64bitint=define
    use64bitall=define
    uselongdouble=undef
    usemymalloc=n
    default_inc_excludes_dot=define
  Compiler:
    cc='cc'
    ccflags ='-D_GNU_SOURCE -fwrapv -fno-strict-aliasing -pipe -fstack-protector-strong -D_LARGEFILE_SOURCE -D_FILE_OFFSET_BITS=64'
    optimize='-O2'
    cppflags='-D_GNU_SOURCE -fwrapv -fno-strict-aliasing -pipe -fstack-protector-strong'
    ccversion=''
    gccversion='14.2.0'
    gccosandvers=''
    intsize=4
    longsize=8
    ptrsize=8
    doublesize=8
    byteorder=12345678
    doublekind=3
    d_longlong=define
    longlongsize=8
    d_longdbl=define
    longdblsize=16
    longdblkind=3
    ivtype='long'
    ivsize=8
    nvtype='double'
    nvsize=8
    Off_t='off_t'
    lseeksize=8
    alignbytes=8
    prototype=define
  Linker and Libraries:
    ld='cc'
    ldflags =' -fstack-protector-strong -L/usr/local/lib'
    libpth=/usr/lib /usr/local/lib /lib
    libs=-lpthread -ldb -ldl -lm -lcrypt -lutil -lc
    perllibs=-lpthread -ldl -lm -lcrypt -lutil -lc
    libc=/usr/lib/libc.a
    so=so
    useshrplib=false
    libperl=libperl.a
    gnulibc_version=''
  Dynamic Linking:
    dlsrc=dl_dlopen.xs
    dlext=so
    d_dlsymun=undef
    ccdlflags='-Wl,-E'
    cccdlflags='-fPIC'
    lddlflags='-shared -O2 -L/usr/local/lib -fstack-protector-strong'


Characteristics of this binary (from libperl): 
  Compile-time options:
    HAS_LONG_DOUBLE
    HAS_STRTOLD
    HAS_TIMES
    PERLIO_LAYERS
    PERL_COPY_ON_WRITE
    PERL_DONT_CREATE_GVSV
    PERL_HASH_FUNC_SIPHASH13
    PERL_HASH_USE_SBOX32
    PERL_MALLOC_WRAP
    PERL_OP_PARENT
    PERL_PRESERVE_IVUV
    PERL_USE_DEVEL
    PERL_USE_SAFE_PUTENV
    USE_64_BIT_ALL
    USE_64_BIT_INT
    USE_LARGE_FILES
    USE_LOCALE
    USE_LOCALE_COLLATE
    USE_LOCALE_CTYPE
    USE_LOCALE_NUMERIC
    USE_LOCALE_TIME
    USE_PERLIO
    USE_PERL_ATOF
  Built under linux
  Compiled at Mar 29 2025 03:16:51
  %ENV:
    PERL5LIB=""
    PERL5OPT=""
    PERL5_CPANPLUS_IS_RUNNING="28551"
    PERL5_CPAN_IS_RUNNING="28551"
    PERL_MM_USE_DEFAULT="1"
    PERL_USE_UNSAFE_INC="1"
  @INC:
    /home/cpan/bin/perl/lib/site_perl/5.41.11/x86_64-linux
    /home/cpan/bin/perl/lib/site_perl/5.41.11
    /home/cpan/bin/perl/lib/5.41.11/x86_64-linux
    /home/cpan/bin/perl/lib/5.41.11
    .