Alien-libuv v1.014 Perl 5 v5.30.1 x86_64-linux-thread-multi
- Status
- Pass
- From
- Slaven Rezić (SREZIC)
- Dist
-
Alien-libuv v1.014
- Platform
- Perl 5 v5.30.1 x86_64-linux-thread-multi
- Date
- 2020-07-16 14:14:15
- ID
- a19a8648-c76e-11ea-bc7d-de461f24ea8f
This distribution has been tested as part of the CPAN Testers
project, supporting the Perl programming language. See
http://wiki.cpantesters.org/ for more information or email
questions to cpan-testers-discuss@perl.org
--
Dear Chase Whitener,
This is a computer-generated report for Alien-libuv-1.014
on perl 5.30.1, created by CPAN-Reporter-1.2018.
Thank you for uploading your work to CPAN. Congratulations!
All tests were successful.
Sections of this report:
* Tester comments
* Program output
* Prerequisites
* Environment and other context
------------------------------
TESTER COMMENTS
------------------------------
Additional comments from tester:
none provided
------------------------------
PROGRAM OUTPUT
------------------------------
Output from '/usr/bin/make test':
"/opt/perl-5.30.1t/bin/perl" -MAlien::Build::MM=cmd -e test
Alien::Build::Plugin::PkgConfig::Negotiate> Using PkgConfig plugin: PkgConfig::LibPkgConf
PERL_DL_NONLAZY=1 "/opt/perl-5.30.1t/bin/perl" "-MExtUtils::Command::MM" "-MTest::Harness" "-e" "undef *Test::Harness::Switches; test_harness(0, 'blib/lib', 'blib/arch')" t/*.t
#
# Versions for all modules listed in MYMETA.json (including optional ones):
#
# === Configure Requires ===
#
# Module Want Have
# ---------------------------------- ---- ----
# Alien::Build 2.15 2.26
# Alien::Build::MM 0.32 2.26
# Alien::Build::Plugin::Build::Make 0.01 2.26
# Alien::Build::Plugin::Probe::Vcpkg 2.15 2.26
# ExtUtils::MakeMaker 6.52 7.46
#
# === Build Requires ===
#
# Module Want Have
# -------------------------------------------- ----- --------
# Alien::Autotools any 1.05
# Alien::Build 2.15 2.26
# Alien::Build::MM 0.32 2.26
# Alien::Build::Plugin::Build::Make any 2.26
# Alien::Build::Plugin::Gather::IsolateDynamic 0.48 2.26
# Alien::Build::Plugin::Probe::Vcpkg 2.15 2.26
# Archive::Tar any 2.38
# Config any 5.030001
# ExtUtils::MakeMaker 6.52 7.46
# HTTP::Tiny 0.044 0.076
# IO::Socket::SSL 1.56 2.068
# IO::Zlib any 1.10
# IPC::Cmd any 1.02
# Mojo::DOM58 1.00 2.000
# Net::SSLeay 1.49 1.88
# Sort::Versions any 1.62
# URI any 1.76
# URI::Escape any 3.31
#
# === Test Requires ===
#
# Module Want Have
# ------------------- ---- --------
# ExtUtils::MakeMaker 6.52 7.46
# File::Spec any 3.78
# Test2::Suite any 0.000130
# Test2::V0 any 0.000130
# Test::Alien any 2.26
# Test::More 0.88 1.302175
#
# === Test Recommends ===
#
# Module Want Have
# ------------- -------- --------
# CPAN::Meta 2.120900 2.150010
# FFI::Platypus any 1.31
#
# === Runtime Requires ===
#
# Module Want Have
# ------------------------------------- ---- ----
# Alien::Autotools 1.00 1.05
# Alien::Base 2.15 2.26
# Alien::Build 0.25 2.26
# Alien::Build::Plugin::Build::Autoconf 0.04 2.26
# base any 2.27
# strict any 1.11
# warnings any 1.44
#
t/00-report-prereqs.t .. ok
#
#
#
# HARNESS_ACTIVE=1
# HARNESS_VERSION=3.42
# LANG=en_US.UTF-8
# PERL5LIB=/home/cpansand/.cpan/build/2020071613/Alien-libuv-1.014-1/blib/lib:/home/cpansand/.cpan/build/2020071613/Alien-libuv-1.014-1/blib/arch:
# PERL5OPT=
# PERL5_CPANPLUS_IS_RUNNING=18545
# PERL5_CPAN_IS_RUNNING=18545
# PERL5_CPAN_IS_RUNNING_IN_RECURSION=26557,18545
# PERLDOC=-MPod::Perldoc::ToTextOverstrike
# PERL_BATCH=yes
# PERL_CANARY_STABILITY_NOPROMPT=1
# PERL_CPAN_REPORTER_CONFIG=/var/tmp/cpansmoker-1023/2020071613/cpanreporter_000_config.ini
# PERL_DL_NONLAZY=1
# PERL_EXTUTILS_AUTOINSTALL=--defaultdeps
# PERL_USE_UNSAFE_INC=1
# SHELL=/usr/bin/zsh
#
#
#
# PERL5LIB path
# /home/cpansand/.cpan/build/2020071613/Alien-libuv-1.014-1/blib/lib
# /home/cpansand/.cpan/build/2020071613/Alien-libuv-1.014-1/blib/arch
#
#
#
# perl 5.030001
# Alien::Base 2.26
# Alien::Build 2.26
# Alien::Build::MM 2.26
# Alien::Build::Plugin::Build::Autoconf 2.26
# Config 5.030001
# ExtUtils::MakeMaker 7.46
# IPC::Cmd 1.02
# Test2::Suite 0.000130
# Test::Alien 2.26
# Test::More 1.302175
#
#
#
# version = 1.38.1
# cflags = -I/home/cpansand/.cpan/build/2020071613/Alien-libuv-1.014-1/blib/lib/auto/share/dist/Alien-libuv/include
# cflags_static = -I/home/cpansand/.cpan/build/2020071613/Alien-libuv-1.014-1/blib/lib/auto/share/dist/Alien-libuv/include
# libs = -L/home/cpansand/.cpan/build/2020071613/Alien-libuv-1.014-1/blib/lib/auto/share/dist/Alien-libuv/lib -luv -ldl
# libs_static = -L/home/cpansand/.cpan/build/2020071613/Alien-libuv-1.014-1/blib/lib/auto/share/dist/Alien-libuv/lib -luv -ldl
#
#
#
t/00_diag.t ............ ok
# Install type: share
t/01_use.t ............. ok
t/ffi.t ................ ok
t/xs.t ................. ok
All tests successful.
Files=5, Tests=9, 1 wallclock secs ( 0.02 usr 0.04 sys + 0.79 cusr 0.45 csys = 1.30 CPU)
Result: PASS
------------------------------
PREREQUISITES
------------------------------
Prerequisite modules loaded:
requires:
Module Need Have
-------------------------------------------- ----- --------
Alien::Autotools 1.00 1.05
Alien::Base 2.15 2.26
Alien::Build 0.25 2.26
Alien::Build::Plugin::Build::Autoconf 0.04 2.26
base 0 2.27
strict 0 1.11
warnings 0 1.44
build_requires:
Module Need Have
-------------------------------------------- ----- --------
Alien::Autotools 0 1.05
Alien::Build 2.15 2.26
Alien::Build::MM 0.32 2.26
Alien::Build::Plugin::Build::Make 0 2.26
Alien::Build::Plugin::Gather::IsolateDynamic 0.48 2.26
Alien::Build::Plugin::Probe::Vcpkg 2.15 2.26
Archive::Tar 0 2.38
Config 0 5.030001
ExtUtils::MakeMaker 6.52 7.46
File::Spec 0 3.78
HTTP::Tiny 0.044 0.076
IO::Socket::SSL 1.56 2.068
IO::Zlib 0 1.10
IPC::Cmd 0 1.02
Mojo::DOM58 1.00 2.000
Net::SSLeay 1.49 1.88
Sort::Versions 0 1.62
Test2::Suite 0 0.000130
Test2::V0 0 0.000130
Test::Alien 0 2.26
Test::More 0.88 1.302175
URI 0 1.76
URI::Escape 0 3.31
configure_requires:
Module Need Have
-------------------------------------------- ----- --------
Alien::Build 2.15 2.26
Alien::Build::MM 0.32 2.26
Alien::Build::Plugin::Build::Make 0.01 2.26
Alien::Build::Plugin::Probe::Vcpkg 2.15 2.26
ExtUtils::MakeMaker 6.52 7.46
------------------------------
ENVIRONMENT AND OTHER CONTEXT
------------------------------
Environment variables:
LANG = en_US.UTF-8
PATH = /usr/local/bin:/usr/bin:/bin:/usr/local/sbin:/usr/sbin:/sbin:/home/cpansand/bin/linux-gnu:/home/cpansand/bin/sh:/home/cpansand/bin:/usr/games:/home/cpansand/devel:/home/eserte/src/srezic-misc/scripts
PERL5LIB =
PERL5OPT =
PERL5_CPANPLUS_IS_RUNNING = 18545
PERL5_CPAN_IS_RUNNING = 18545
PERL5_CPAN_IS_RUNNING_IN_RECURSION = 26557,18545
PERLDOC = -MPod::Perldoc::ToTextOverstrike
PERL_BATCH = yes
PERL_CANARY_STABILITY_NOPROMPT = 1
PERL_CPAN_REPORTER_CONFIG = /var/tmp/cpansmoker-1023/2020071613/cpanreporter_000_config.ini
PERL_EXTUTILS_AUTOINSTALL = --defaultdeps
PERL_USE_UNSAFE_INC = 1
SHELL = /usr/bin/zsh
TERM = screen
TMPDIR = /var/tmp/cpansmoker-1023/2020071613
Perl special variables (and OS-specific diagnostics, for MSWin32):
$^X = /opt/perl-5.30.1t/bin/perl
$UID/$EUID = 1023 / 1023
$GID = 1023 1023
$EGID = 1023 1023
Perl module toolchain versions installed:
Module Have
------------------- --------
CPAN 2.28
CPAN::Meta 2.150010
Cwd 3.78
ExtUtils::CBuilder 0.280234
ExtUtils::Command 7.46
ExtUtils::Install 2.16
ExtUtils::MakeMaker 7.46
ExtUtils::Manifest 1.72
ExtUtils::ParseXS 3.40
File::Spec 3.78
JSON 4.02
JSON::PP 4.05
Module::Build 0.4231
Module::Signature 0.87
Parse::CPAN::Meta 2.150010
Test::Harness 3.42
Test::More 1.302175
YAML 1.30
YAML::Syck 1.32
version 0.9924
--
Summary of my perl5 (revision 5 version 30 subversion 1) configuration:
Platform:
osname=linux
osvers=4.15.0-66-generic
archname=x86_64-linux-thread-multi
uname='linux ubuntu18 4.15.0-66-generic #75-ubuntu smp tue oct 1 05:24:09 utc 2019 x86_64 x86_64 x86_64 gnulinux '
config_args='-ds -e -Dprefix=/opt/perl-5.30.1t -Dusethreads -Dcf_email=srezic@cpan.org'
hint=recommended
useposix=true
d_sigaction=define
useithreads=define
usemultiplicity=define
use64bitint=define
use64bitall=define
uselongdouble=undef
usemymalloc=n
default_inc_excludes_dot=define
bincompat5005=undef
Compiler:
cc='cc'
ccflags ='-D_REENTRANT -D_GNU_SOURCE -fwrapv -fno-strict-aliasing -pipe -fstack-protector-strong -I/usr/local/include -D_LARGEFILE_SOURCE -D_FILE_OFFSET_BITS=64'
optimize='-O2'
cppflags='-D_REENTRANT -D_GNU_SOURCE -fwrapv -fno-strict-aliasing -pipe -fstack-protector-strong -I/usr/local/include'
ccversion=''
gccversion='7.4.0'
gccosandvers=''
intsize=4
longsize=8
ptrsize=8
doublesize=8
byteorder=12345678
doublekind=3
d_longlong=define
longlongsize=8
d_longdbl=define
longdblsize=16
longdblkind=3
ivtype='long'
ivsize=8
nvtype='double'
nvsize=8
Off_t='off_t'
lseeksize=8
alignbytes=8
prototype=define
Linker and Libraries:
ld='cc'
ldflags =' -fstack-protector-strong -L/usr/local/lib'
libpth=/usr/local/lib /usr/lib/gcc/x86_64-linux-gnu/7/include-fixed /usr/include/x86_64-linux-gnu /usr/lib /lib/x86_64-linux-gnu /lib/../lib /usr/lib/x86_64-linux-gnu /usr/lib/../lib /lib
libs=-lpthread -lnsl -lgdbm -ldb -ldl -lm -lcrypt -lutil -lc
perllibs=-lpthread -lnsl -ldl -lm -lcrypt -lutil -lc
libc=libc-2.27.so
so=so
useshrplib=false
libperl=libperl.a
gnulibc_version='2.27'
Dynamic Linking:
dlsrc=dl_dlopen.xs
dlext=so
d_dlsymun=undef
ccdlflags='-Wl,-E'
cccdlflags='-fPIC'
lddlflags='-shared -O2 -L/usr/local/lib -fstack-protector-strong'
Characteristics of this binary (from libperl):
Compile-time options:
HAS_TIMES
MULTIPLICITY
PERLIO_LAYERS
PERL_COPY_ON_WRITE
PERL_DONT_CREATE_GVSV
PERL_IMPLICIT_CONTEXT
PERL_MALLOC_WRAP
PERL_OP_PARENT
PERL_PRESERVE_IVUV
USE_64_BIT_ALL
USE_64_BIT_INT
USE_ITHREADS
USE_LARGE_FILES
USE_LOCALE
USE_LOCALE_COLLATE
USE_LOCALE_CTYPE
USE_LOCALE_NUMERIC
USE_LOCALE_TIME
USE_PERLIO
USE_PERL_ATOF
USE_REENTRANT_API
USE_THREAD_SAFE_LOCALE
Built under linux
Compiled at Nov 11 2019 20:34:53
%ENV:
PERL5LIB=""
PERL5OPT=""
PERL5_CPANPLUS_IS_RUNNING="18545"
PERL5_CPAN_IS_RUNNING="18545"
PERL5_CPAN_IS_RUNNING_IN_RECURSION="26557,18545"
PERLDOC="-MPod::Perldoc::ToTextOverstrike"
PERL_BATCH="yes"
PERL_CANARY_STABILITY_NOPROMPT="1"
PERL_CPAN_REPORTER_CONFIG="/var/tmp/cpansmoker-1023/2020071613/cpanreporter_000_config.ini"
PERL_EXTUTILS_AUTOINSTALL="--defaultdeps"
PERL_USE_UNSAFE_INC="1"
@INC:
/opt/perl-5.30.1t/lib/site_perl/5.30.1/x86_64-linux-thread-multi
/opt/perl-5.30.1t/lib/site_perl/5.30.1
/opt/perl-5.30.1t/lib/5.30.1/x86_64-linux-thread-multi
/opt/perl-5.30.1t/lib/5.30.1
.