Back
From: metabase:user:322078bc-2aae-11df-837a-5e0a49663a4f
Subject: PASS Net-Curl-Simple-0.10 v5.12.0 FreeBSD
Date: 2011-05-07T23:06:25Z
This distribution has been tested as part of the CPAN Testers
project, supporting the Perl programming language. See
http://wiki.cpantesters.org/ for more information or email
questions to cpan-testers-discuss@perl.org
--
Dear SPARKY,
This is a computer-generated error report created automatically by
CPANPLUS, version 0.9104. Testers personal comments may appear
at the end of this report.
MAKE TEST passed: PERL_DL_NONLAZY=1 /usr/home/cpan/pit/bare/perl-5.12.0/bin/perl "-MExtUtils::Command::MM" "-e" "test_harness(0, 'blib/lib', 'blib/arch')" t/*.t
t/01-use.t ............... ok
t/02-version.t ........... ok
Please rebuild libcurl with AsynchDNS to avoid blocking DNS requests
t/10-simple.t ............ ok
Please rebuild libcurl with AsynchDNS to avoid blocking DNS requests
t/20-async-perl.t ........ ok
t/21-async-anyevent.t .... skipped: AnyEvent is required for this test
t/22-async-poe.t ......... skipped: POE is required for this test
t/23-async-ev.t .......... skipped: EV is required for this test
Please rebuild libcurl with AsynchDNS to avoid blocking DNS requests
# loaded implementation: Net/Curl/Simple/Async/EV.pm, Net/Curl/Simple/Async/AnyEvent.pm, Net/Curl/Simple/Async/Select.pm
t/24-async-any.t ......... ok
Please rebuild libcurl with AsynchDNS to avoid blocking DNS requests
t/30-useragent-simple.t .. ok
t/40-coro-any.t .......... skipped: Coro is required for this test
t/41-coro-ev.t ........... skipped: Coro is required for this test
t/42-coro-anyevent.t ..... skipped: Coro is required for this test
t/43-coro-select.t ....... skipped: Coro is required for this test
t/90-pod.t ............... ok
t/91-pod-coverage.t ...... skipped: Author test. Set $ENV{TEST_AUTHOR} to a true value to run.
All tests successful.
Files=15, Tests=97, 2 wallclock secs ( 0.05 usr 0.12 sys + 0.59 cusr 0.62 csys = 1.38 CPU)
Result: PASS
[MSG] [Sun May 8 00:06:19 2011] Sending test report for 'Net-Curl-Simple-0.10'
This report was machine-generated by CPANPLUS::Dist::YACSmoke 0.62.
Powered by minismokebox version 0.44
------------------------------
ENVIRONMENT AND OTHER CONTEXT
------------------------------
Environment variables:
AUTOMATED_TESTING = 1
PATH = /sbin:/bin:/usr/sbin:/usr/bin:/usr/games:/usr/local/sbin:/usr/local/bin:/home/cpan/bin
PERL5LIB = :/usr/home/cpan/pit/bare/conf/perl-5.12.0/.cpanplus/5.12.0/build/Test-CPAN-Meta-0.18/blib/lib:/usr/home/cpan/pit/bare/conf/perl-5.12.0/.cpanplus/5.12.0/build/Test-CPAN-Meta-0.18/blib/arch:/usr/home/cpan/pit/bare/conf/perl-5.12.0/.cpanplus/5.12.0/build/Test-Pod-1.45/blib/lib:/usr/home/cpan/pit/bare/conf/perl-5.12.0/.cpanplus/5.12.0/build/Test-Pod-1.45/blib/arch:/usr/home/cpan/pit/bare/conf/perl-5.12.0/.cpanplus/5.12.0/build/Net-Curl-0.22/blib/lib:/usr/home/cpan/pit/bare/conf/perl-5.12.0/.cpanplus/5.12.0/build/Net-Curl-0.22/blib/arch:/usr/home/cpan/pit/bare/conf/perl-5.12.0/.cpanplus/5.12.0/build/URI-1.58/blib/lib:/usr/home/cpan/pit/bare/conf/perl-5.12.0/.cpanplus/5.12.0/build/URI-1.58/blib/arch:/usr/home/cpan/pit/bare/conf/perl-5.12.0/.cpanplus/5.12.0/build/Net-Curl-Simple-0.10/blib/lib:/usr/home/cpan/pit/bare/conf/perl-5.12.0/.cpanplus/5.12.0/build/Net-Curl-Simple-0.10/blib/arch
PERL5_CPANPLUS_IS_RUNNING = 10845
PERL5_CPANPLUS_IS_VERSION = 0.9104
PERL5_MINISMOKEBOX = 0.44
PERL5_YACSMOKE_BASE = /usr/home/cpan/pit/bare/conf/perl-5.12.0
PERL_EXTUTILS_AUTOINSTALL = --defaultdeps
PERL_MM_USE_DEFAULT = 1
SHELL = /usr/local/bin/bash
TERM = screen
Perl special variables (and OS-specific diagnostics, for MSWin32):
Perl: $^X = /usr/home/cpan/pit/bare/perl-5.12.0/bin/perl
UID: $< = 1002
EUID: $> = 1002
GID: $( = 1002 1002
EGID: $) = 1002 1002
-------------------------------
--
Summary of my perl5 (revision 5 version 12 subversion 0) configuration:
Platform:
osname=freebsd, osvers=9.0-current-201101, archname=amd64-freebsd
uname='freebsd flooble.bingosnet.co.uk 9.0-current-201101 freebsd 9.0-current-201101 #0: mon jan 3 22:15:39 utc 2011 root@farrell.cse.buffalo.edu:usrobjusrsrcsysgeneric amd64 '
config_args='-des -Dprefix=/usr/home/cpan/pit/bare/perl-5.12.0'
hint=recommended, useposix=true, d_sigaction=define
useithreads=undef, usemultiplicity=undef
useperlio=define, d_sfio=undef, uselargefiles=define, usesocks=undef
use64bitint=define, use64bitall=define, uselongdouble=undef
usemymalloc=n, bincompat5005=undef
Compiler:
cc='cc', ccflags ='-DHAS_FPSETMASK -DHAS_FLOATINGPOINT_H -fno-strict-aliasing -pipe -fstack-protector -I/usr/local/include',
optimize='-O',
cppflags='-DHAS_FPSETMASK -DHAS_FLOATINGPOINT_H -fno-strict-aliasing -pipe -fstack-protector -I/usr/local/include'
ccversion='', gccversion='4.2.1 20070719 [FreeBSD]', gccosandvers=''
intsize=4, longsize=8, ptrsize=8, doublesize=8, byteorder=12345678
d_longlong=define, longlongsize=8, d_longdbl=define, longdblsize=16
ivtype='long', ivsize=8, nvtype='double', nvsize=8, Off_t='off_t', lseeksize=8
alignbytes=8, prototype=define
Linker and Libraries:
ld='cc', ldflags ='-Wl,-E -fstack-protector -L/usr/local/lib'
libpth=/usr/lib /usr/local/lib
libs=-lgdbm -lm -lcrypt -lutil -lc
perllibs=-lm -lcrypt -lutil -lc
libc=, so=so, useshrplib=false, libperl=libperl.a
gnulibc_version=''
Dynamic Linking:
dlsrc=dl_dlopen.xs, dlext=so, d_dlsymun=undef, ccdlflags=' '
cccdlflags='-DPIC -fPIC', lddlflags='-shared -L/usr/local/lib -fstack-protector'
Characteristics of this binary (from libperl):
Compile-time options: PERL_DONT_CREATE_GVSV PERL_MALLOC_WRAP USE_64_BIT_ALL
USE_64_BIT_INT USE_LARGE_FILES USE_PERLIO
USE_PERL_ATOF
Built under freebsd
Compiled at Apr 29 2011 01:03:42
%ENV:
PERL5LIB=":/usr/home/cpan/pit/bare/conf/perl-5.12.0/.cpanplus/5.12.0/build/Test-CPAN-Meta-0.18/blib/lib:/usr/home/cpan/pit/bare/conf/perl-5.12.0/.cpanplus/5.12.0/build/Test-CPAN-Meta-0.18/blib/arch:/usr/home/cpan/pit/bare/conf/perl-5.12.0/.cpanplus/5.12.0/build/Test-Pod-1.45/blib/lib:/usr/home/cpan/pit/bare/conf/perl-5.12.0/.cpanplus/5.12.0/build/Test-Pod-1.45/blib/arch:/usr/home/cpan/pit/bare/conf/perl-5.12.0/.cpanplus/5.12.0/build/Net-Curl-0.22/blib/lib:/usr/home/cpan/pit/bare/conf/perl-5.12.0/.cpanplus/5.12.0/build/Net-Curl-0.22/blib/arch:/usr/home/cpan/pit/bare/conf/perl-5.12.0/.cpanplus/5.12.0/build/URI-1.58/blib/lib:/usr/home/cpan/pit/bare/conf/perl-5.12.0/.cpanplus/5.12.0/build/URI-1.58/blib/arch:/usr/home/cpan/pit/bare/conf/perl-5.12.0/.cpanplus/5.12.0/build/Net-Curl-Simple-0.10/blib/lib:/usr/home/cpan/pit/bare/conf/perl-5.12.0/.cpanplus/5.12.0/build/Net-Curl-Simple-0.10/blib/arch"
PERL5_CPANPLUS_IS_RUNNING="10845"
PERL5_CPANPLUS_IS_VERSION="0.9104"
PERL5_MINISMOKEBOX="0.44"
PERL5_YACSMOKE_BASE="/usr/home/cpan/pit/bare/conf/perl-5.12.0"
PERL_EXTUTILS_AUTOINSTALL="--defaultdeps"
PERL_MM_USE_DEFAULT="1"
@INC:
/usr/home/cpan/pit/bare/conf/perl-5.12.0/.cpanplus/5.12.0/build/Test-CPAN-Meta-0.18/blib/lib
/usr/home/cpan/pit/bare/conf/perl-5.12.0/.cpanplus/5.12.0/build/Test-CPAN-Meta-0.18/blib/arch
/usr/home/cpan/pit/bare/conf/perl-5.12.0/.cpanplus/5.12.0/build/Test-Pod-1.45/blib/lib
/usr/home/cpan/pit/bare/conf/perl-5.12.0/.cpanplus/5.12.0/build/Test-Pod-1.45/blib/arch
/usr/home/cpan/pit/bare/conf/perl-5.12.0/.cpanplus/5.12.0/build/Net-Curl-0.22/blib/lib
/usr/home/cpan/pit/bare/conf/perl-5.12.0/.cpanplus/5.12.0/build/Net-Curl-0.22/blib/arch
/usr/home/cpan/pit/bare/conf/perl-5.12.0/.cpanplus/5.12.0/build/URI-1.58/blib/lib
/usr/home/cpan/pit/bare/conf/perl-5.12.0/.cpanplus/5.12.0/build/URI-1.58/blib/arch
/usr/home/cpan/pit/bare/conf/perl-5.12.0/.cpanplus/5.12.0/build/Net-Curl-Simple-0.10/blib/lib
/usr/home/cpan/pit/bare/conf/perl-5.12.0/.cpanplus/5.12.0/build/Net-Curl-Simple-0.10/blib/arch
/usr/home/cpan/pit/bare/perl-5.12.0/lib/site_perl/5.12.0/amd64-freebsd
/usr/home/cpan/pit/bare/perl-5.12.0/lib/site_perl/5.12.0
/usr/home/cpan/pit/bare/perl-5.12.0/lib/5.12.0/amd64-freebsd
/usr/home/cpan/pit/bare/perl-5.12.0/lib/5.12.0
.