Net-LDAP-SimpleServer v0.0.18 Perl 5 v5.26.0 darwin-thread-multi-2level

Status
Pass
From
Nigel Horne
Dist
Net-LDAP-SimpleServer v0.0.18
Platform
Perl 5 v5.26.0 darwin-thread-multi-2level
Date
2017-10-19 05:16:15
ID
a1b74ff0-b48c-11e7-bd24-5b45db1c1d4b
This distribution has been tested as part of the CPAN Testers
project, supporting the Perl programming language.  See
http://wiki.cpantesters.org/ for more information or email
questions to cpan-testers-discuss@perl.org


--
Dear Alexei Znamensky,

This is a computer-generated report for Net-LDAP-SimpleServer-0.0.18
on perl 5.26.0, created by CPAN-Reporter-1.2018.

Thank you for uploading your work to CPAN.  Congratulations!
All tests were successful.

Sections of this report:

    * Tester comments
    * Program output
    * Prerequisites
    * Environment and other context

------------------------------
TESTER COMMENTS
------------------------------

Additional comments from tester:

this report is from an automated smoke testing program
and was not reviewed by a human for accuracy

------------------------------
PROGRAM OUTPUT
------------------------------

Output from '/sw/bin/make test':

PERL_DL_NONLAZY=1 "/Users/hornenj/perl5/perlbrew/perls/perl-5.26.0/bin/perl5.26.0" "-MExtUtils::Command::MM" "-MTest::Harness" "-e" "undef *Test::Harness::Switches; test_harness(0, 'blib/lib', 'blib/arch')" t/*.t
t/00-compile.t ................ ok
t/00-load.t ................... ok
# 
# 
# Generated by Dist::Zilla::Plugin::ReportVersions::Tiny v1.12
# perl: 5.026000 (wanted 5.010) on darwin from /Users/hornenj/perl5/perlbrew/perls/perl-5.26.0/bin/perl5.26.0
# 
# Authen::SASL                                  => 2.16       (want any version)
# Carp                                          => 1.42       (want any version)
# Data::Dumper                                  => 2.167      (want any version)
# Exporter                                      => 5.72       (want any version)
# ExtUtils::MakeMaker                           => 7.3        (want any version)
# File::Basename                                => 2.85       (want any version)
# File::HomeDir                                 => 1.002      (want any version)
# File::Path                                    => 2.15       (want 2.08)   
# File::Spec                                    => 3.67       (want any version)
# IO::Handle                                    => 1.36       (want any version)
# IO::Pipe                                      => 1.15       (want any version)
# IPC::Open3                                    => 1.20       (want any version)
# Net::LDAP                                     => 0.65       (want any version)
# Net::LDAP::Constant                           => 0.23       (want any version)
# Net::LDAP::FilterMatch                        => 0.27       (want any version)
# Net::LDAP::LDIF                               => 0.26       (want any version)
# Net::LDAP::Server                             => 0.43       (want any version)
# Net::LDAP::Util                               => 0.19       (want any version)
# Net::Server                                   => 2.009      (want 2.003)  
# Proc::Fork                                    => 0.804      (want any version)
# Scalar::Util                                  => 1.49       (want any version)
# Test::More                                    => 1.302103   (want 0.88)   
# Test::UseAllModules                           => 0.17       (want any version)
# UNIVERSAL::isa                                => 1.20171012 (want any version)
# base                                          => 2.25       (want any version)
# fields                                        => 2.23       (want any version)
# lib                                           => 0.64       (want any version)
# strict                                        => 1.11       (want any version)
# warnings                                      => 1.37       (want any version)
# 
# Thanks for using my code.  I hope it works for you.
# If not, please try and include this output in the bug report.
# That will help me reproduce the issue and solve your problem.
# 
t/000-report-versions-tiny.t .. ok
# Testing the constructor params for ProtocolHandler
t/05-handler.t ................ ok
# Testing the constructor params for LDIFStore
t/06-store.t .................. ok
# Starting server on port: 30389
# Starting server on port: 30389
# Net::Server error below:
# Starting server on port: 30389
Couldn't open conf "/no/such/file.conf" [No such file or directory]
# Starting server on port: 30389
# Starting server on port: 30389
# Starting server on port: 30389
# Starting server on port: 30389
# Starting server on port: 30389
# Starting server on port: 30389
# Starting server on port: 30389
t/13-param.t .................. ok
# Net::LDAP::SimpleServer Instantiating    [Fork]
# Net::LDAP::SimpleServer Starting :30389  [Fork]
# Net::LDAP::SimpleServer Testing         [Knive]
# Binding anonymously
# Binding with authentication
# Upper case bind DN
# Wrong password -> no bind
# Unsupported auth mechanism
# Net::LDAP::SimpleServer Instantiating    [Fork]
# Net::LDAP::SimpleServer Starting :30389  [Fork]
# Net::LDAP::SimpleServer Testing         [Knive]
# Binding anonymously
# Binding with authentication
t/14-bind.t ................... ok
# Net::LDAP::SimpleServer Instantiating    [Fork]
# Net::LDAP::SimpleServer Starting :30389  [Fork]
# Net::LDAP::SimpleServer Testing         [Knive]
t/15-search.t ................. ok
t/author-critic.t ............. skipped: these tests are for testing by the author
t/author-eol.t ................ skipped: these tests are for testing by the author
t/author-mojibake.t ........... skipped: these tests are for testing by the author
t/author-no-tabs.t ............ skipped: these tests are for testing by the author
t/author-pod-coverage.t ....... skipped: these tests are for testing by the author
t/author-pod-linkcheck.t ...... skipped: these tests are for testing by the author
t/author-pod-syntax.t ......... skipped: these tests are for testing by the author
t/author-portability.t ........ skipped: these tests are for testing by the author
t/author-test-version.t ....... skipped: these tests are for testing by the author
t/release-dist-manifest.t ..... skipped: these tests are for release candidate testing
t/release-distmeta.t .......... skipped: these tests are for release candidate testing
t/release-kwalitee.t .......... skipped: these tests are for release candidate testing
t/release-meta-json.t ......... skipped: these tests are for release candidate testing
t/release-minimum-version.t ... skipped: these tests are for release candidate testing
t/release-unused-vars.t ....... skipped: these tests are for release candidate testing
All tests successful.
Files=23, Tests=57, 157 wallclock secs ( 0.05 usr  0.05 sys +  1.15 cusr  0.59 csys =  1.84 CPU)
Result: PASS

------------------------------
PREREQUISITES
------------------------------

Prerequisite modules loaded:

requires:

    Module                 Need  Have      
    ---------------------- ----- ----------
    base                   0     2.25      
    Carp                   0     1.42      
    Data::Dumper           0     2.167     
    fields                 0     2.23      
    File::Basename         0     2.85      
    File::HomeDir          0     1.002     
    File::Path             2.08  2.15      
    File::Spec             0     3.67      
    Net::LDAP::Constant    0     0.23      
    Net::LDAP::FilterMatch 0     0.27      
    Net::LDAP::LDIF        0     0.26      
    Net::LDAP::Server      0     0.43      
    Net::LDAP::Util        0     0.19      
    Net::Server            2.003 2.009     
    perl                   5.010 5.026000  
    Scalar::Util           0     1.49      
    strict                 0     1.11      
    UNIVERSAL::isa         0     1.20171012
    warnings               0     1.37      

build_requires:

    Module                 Need  Have      
    ---------------------- ----- ----------
    Authen::SASL           0     2.16      
    Exporter               0     5.72      
    ExtUtils::MakeMaker    0     7.30      
    File::Spec             0     3.67      
    IO::Handle             0     1.36      
    IO::Pipe               0     1.15      
    IPC::Open3             0     1.20      
    lib                    0     0.64      
    Net::LDAP              0     0.65      
    Proc::Fork             0     0.804     
    Test::More             0.88  1.302103  
    Test::UseAllModules    0     0.17      

configure_requires:

    Module                 Need  Have      
    ---------------------- ----- ----------
    ExtUtils::MakeMaker    0     7.30      


------------------------------
ENVIRONMENT AND OTHER CONTEXT
------------------------------

Environment variables:

    AUTOMATED_TESTING = 1
    LANG = en_US.UTF-8
    LC_ALL = POSIX
    PATH = /Users/hornenj/perl5/perlbrew/bin:/Users/hornenj/perl5/perlbrew/perls/perl-5.8.1/bin:/Users/hornenj/perl5/perlbrew/bin:/Users/hornenj/perl5/perlbrew/perls/perl-5.26.0/bin:/Users/hornenj/bin:/sw/bin:/usr/bin:/bin:/usr/X11R6/bin
    PERL5LIB = /Users/hornenj/.cpan/build/Proc-Fork-0.804-0/blib/arch:/Users/hornenj/.cpan/build/Proc-Fork-0.804-0/blib/lib:/Users/hornenj/.cpan/build/Exporter-Tidy-0.08-0/blib/arch:/Users/hornenj/.cpan/build/Exporter-Tidy-0.08-0/blib/lib:/Users/hornenj/.cpan/build/Net-Server-2.009-0/blib/arch:/Users/hornenj/.cpan/build/Net-Server-2.009-0/blib/lib:/Users/hornenj/.cpan/build/Net-LDAP-Server-0.43-0/blib/arch:/Users/hornenj/.cpan/build/Net-LDAP-Server-0.43-0/blib/lib:/Users/hornenj/.cpan/build/perl-ldap-0.65-0/blib/arch:/Users/hornenj/.cpan/build/perl-ldap-0.65-0/blib/lib:/Users/hornenj/.cpan/build/Convert-ASN1-0.27-0/blib/arch:/Users/hornenj/.cpan/build/Convert-ASN1-0.27-0/blib/lib:/Users/hornenj/.cpan/build/Authen-SASL-2.16-1/blib/arch:/Users/hornenj/.cpan/build/Authen-SASL-2.16-1/blib/lib
    PERL5OPT = 
    PERL5_CPANPLUS_IS_RUNNING = 7615
    PERL5_CPAN_IS_RUNNING = 7615
    PERL5_MINISMOKEBOX = 0.68
    PERLBREW_BASHRC_VERSION = 0.80
    PERLBREW_HOME = /Users/hornenj/.perlbrew
    PERLBREW_LIB = 
    PERLBREW_MANPATH = /Users/hornenj/perl5/perlbrew/perls/perl-5.8.1/man
    PERLBREW_PATH = /Users/hornenj/perl5/perlbrew/bin:/Users/hornenj/perl5/perlbrew/perls/perl-5.8.1/bin
    PERLBREW_PERL = perl-5.8.1
    PERLBREW_ROOT = /Users/hornenj/perl5/perlbrew
    PERLBREW_VERSION = 0.80
    PERL_EXTUTILS_AUTOINSTALL = --defaultdeps
    PERL_LOCAL_LIB_ROOT = 
    PERL_MM_USE_DEFAULT = 1
    SHELL = /bin/bash
    TERM = xterm-256color
    TMPDIR = /var/folders/pz/pd7y1qjs6s3cbk170cw50fjc000c61/T/

Perl special variables (and OS-specific diagnostics, for MSWin32):

    $^X = /Users/hornenj/perl5/perlbrew/perls/perl-5.26.0/bin/perl5.26.0
    $UID/$EUID = 12481 / 12481
    $GID = 14 14 5344 37191 527 12 62 204 399 206 37223 241 223
    $EGID = 14 14 5344 37191 527 12 62 204 399 206 37223 241 223

Perl module toolchain versions installed:

    Module              Have    
    ------------------- --------
    CPAN                2.16    
    CPAN::Meta          2.150010
    Cwd                 3.67    
    ExtUtils::CBuilder  0.280226
    ExtUtils::Command   7.30    
    ExtUtils::Install   2.14    
    ExtUtils::MakeMaker 7.30    
    ExtUtils::Manifest  1.70    
    ExtUtils::ParseXS   3.35    
    File::Spec          3.67    
    JSON                2.94    
    JSON::PP            2.94    
    Module::Build       0.4224  
    Module::Signature   n/a     
    Parse::CPAN::Meta   2.150010
    Test::Harness       3.39    
    Test::More          1.302103
    YAML                1.23    
    YAML::Syck          1.30    
    version             0.9918  


--

Summary of my perl5 (revision 5 version 26 subversion 0) configuration:
   
  Platform:
    osname=darwin
    osvers=15.6.0
    archname=darwin-thread-multi-2level
    uname='darwin ncbimac2027 15.6.0 darwin kernel version 15.6.0: fri feb 17 10:21:18 pst 2017; root:xnu-3248.60.11.4.1~1release_x86_64 x86_64 '
    config_args='-de -Dprefix=/Users/hornenj/perl5/perlbrew/perls/perl-5.26.0 -Duseithreads -Dusemultiplicity -Dusedevel -Accflags=-O2 -W -Wformat=2 -Wswitch -Wshadow -Wwrite-strings -Wuninitialized -Wall -pipe -mtune=native -march=native -fomit-frame-pointer -msse2 -msse -mmmx -pedantic -D_FORTIFY_SOURCE=2 -Wpointer-arith -Wstrict-prototypes -fstack-protector -Wstack-protector -Wextra -Wbad-function-cast -Wcast-align -Wcast-qual -Wdisabled-optimization -Wendif-labels -Wfloat-equal -Wformat-nonliteral -Winline -Wmissing-declarations -Wmissing-prototypes -Wnested-externs -Wpointer-arith -Wundef -Wformat-security -fassociative-math -Acc=cc -Aeval:scriptdir=/Users/hornenj/perl5/perlbrew/perls/perl-5.26.0/bin'
    hint=recommended
    useposix=true
    d_sigaction=define
    useithreads=define
    usemultiplicity=define
    use64bitint=define
    use64bitall=define
    uselongdouble=undef
    usemymalloc=n
    default_inc_excludes_dot=define
    bincompat5005=undef
  Compiler:
    cc=' cc'
    ccflags ='-fno-common -DPERL_DARWIN -O2 -W -Wformat=2 -Wswitch -Wshadow -Wwrite-strings -Wuninitialized -Wall -pipe -mtune=native -march=native -fomit-frame-pointer -msse2 -msse -mmmx -pedantic -D_FORTIFY_SOURCE=2 -Wpointer-arith -Wstrict-prototypes -fstack-protector -Wstack-protector -Wextra -Wbad-function-cast -Wcast-align -Wcast-qual -Wdisabled-optimization -Wendif-labels -Wfloat-equal -Wformat-nonliteral -Winline -Wmissing-declarations -Wmissing-prototypes -Wnested-externs -Wpointer-arith -Wundef -Wformat-security -fassociative-math -fno-strict-aliasing -fstack-protector-strong -I/usr/local/include'
    optimize='-O3'
    cppflags='-fno-common -DPERL_DARWIN -O2 -W -Wformat=2 -Wswitch -Wshadow -Wwrite-strings -Wuninitialized -Wall -pipe -mtune=native -march=native -fomit-frame-pointer -msse2 -msse -mmmx -pedantic -D_FORTIFY_SOURCE=2 -Wpointer-arith -Wstrict-prototypes -fstack-protector -Wstack-protector -Wextra -Wbad-function-cast -Wcast-align -Wcast-qual -Wdisabled-optimization -Wendif-labels -Wfloat-equal -Wformat-nonliteral -Winline -Wmissing-declarations -Wmissing-prototypes -Wnested-externs -Wpointer-arith -Wundef -Wformat-security -fassociative-math -fno-strict-aliasing -fstack-protector-strong -I/usr/local/include'
    ccversion=''
    gccversion='4.2.1 Compatible Apple LLVM 8.0.0 (clang-800.0.42.1)'
    gccosandvers=''
    intsize=4
    longsize=8
    ptrsize=8
    doublesize=8
    byteorder=12345678
    doublekind=3
    d_longlong=define
    longlongsize=8
    d_longdbl=define
    longdblsize=16
    longdblkind=3
    ivtype='long'
    ivsize=8
    nvtype='double'
    nvsize=8
    Off_t='off_t'
    lseeksize=8
    alignbytes=8
    prototype=define
  Linker and Libraries:
    ld='env MACOSX_DEPLOYMENT_TARGET=10.3 cc'
    ldflags =' -fstack-protector-strong -L/usr/local/lib'
    libpth=/usr/local/lib /Applications/Xcode.app/Contents/Developer/Toolchains/XcodeDefault.xctoolchain/usr/bin/../lib/clang/8.0.0/lib /Applications/Xcode.app/Contents/Developer/Toolchains/XcodeDefault.xctoolchain/usr/lib /usr/lib
    libs=-lpthread -ldbm -ldl -lm -lutil -lc
    perllibs=-lpthread -ldl -lm -lutil -lc
    libc=
    so=dylib
    useshrplib=false
    libperl=libperl.a
    gnulibc_version=''
  Dynamic Linking:
    dlsrc=dl_dlopen.xs
    dlext=bundle
    d_dlsymun=undef
    ccdlflags=' '
    cccdlflags=' '
    lddlflags=' -bundle -undefined dynamic_lookup -L/usr/local/lib -fstack-protector-strong'


Characteristics of this binary (from libperl): 
  Compile-time options:
    HAS_TIMES
    MULTIPLICITY
    PERLIO_LAYERS
    PERL_COPY_ON_WRITE
    PERL_DONT_CREATE_GVSV
    PERL_IMPLICIT_CONTEXT
    PERL_MALLOC_WRAP
    PERL_OP_PARENT
    PERL_PRESERVE_IVUV
    PERL_USE_DEVEL
    USE_64_BIT_ALL
    USE_64_BIT_INT
    USE_ITHREADS
    USE_LARGE_FILES
    USE_LOCALE
    USE_LOCALE_COLLATE
    USE_LOCALE_CTYPE
    USE_LOCALE_NUMERIC
    USE_LOCALE_TIME
    USE_PERLIO
    USE_PERL_ATOF
    USE_REENTRANT_API
  Locally applied patches:
    Devel::PatchPerl 1.30
  Built under darwin
  Compiled at Jun  2 2017 07:17:56
  %ENV:
    PERL5LIB="/Users/hornenj/.cpan/build/Proc-Fork-0.804-0/blib/arch:/Users/hornenj/.cpan/build/Proc-Fork-0.804-0/blib/lib:/Users/hornenj/.cpan/build/Exporter-Tidy-0.08-0/blib/arch:/Users/hornenj/.cpan/build/Exporter-Tidy-0.08-0/blib/lib:/Users/hornenj/.cpan/build/Net-Server-2.009-0/blib/arch:/Users/hornenj/.cpan/build/Net-Server-2.009-0/blib/lib:/Users/hornenj/.cpan/build/Net-LDAP-Server-0.43-0/blib/arch:/Users/hornenj/.cpan/build/Net-LDAP-Server-0.43-0/blib/lib:/Users/hornenj/.cpan/build/perl-ldap-0.65-0/blib/arch:/Users/hornenj/.cpan/build/perl-ldap-0.65-0/blib/lib:/Users/hornenj/.cpan/build/Convert-ASN1-0.27-0/blib/arch:/Users/hornenj/.cpan/build/Convert-ASN1-0.27-0/blib/lib:/Users/hornenj/.cpan/build/Authen-SASL-2.16-1/blib/arch:/Users/hornenj/.cpan/build/Authen-SASL-2.16-1/blib/lib"
    PERL5OPT=""
    PERL5_CPANPLUS_IS_RUNNING="7615"
    PERL5_CPAN_IS_RUNNING="7615"
    PERL5_MINISMOKEBOX="0.68"
    PERLBREW_BASHRC_VERSION="0.80"
    PERLBREW_HOME="/Users/hornenj/.perlbrew"
    PERLBREW_LIB=""
    PERLBREW_MANPATH="/Users/hornenj/perl5/perlbrew/perls/perl-5.8.1/man"
    PERLBREW_PATH="/Users/hornenj/perl5/perlbrew/bin:/Users/hornenj/perl5/perlbrew/perls/perl-5.8.1/bin"
    PERLBREW_PERL="perl-5.8.1"
    PERLBREW_ROOT="/Users/hornenj/perl5/perlbrew"
    PERLBREW_VERSION="0.80"
    PERL_EXTUTILS_AUTOINSTALL="--defaultdeps"
    PERL_LOCAL_LIB_ROOT=""
    PERL_MM_USE_DEFAULT="1"
  @INC:
    /Users/hornenj/.cpan/build/Proc-Fork-0.804-0/blib/arch
    /Users/hornenj/.cpan/build/Proc-Fork-0.804-0/blib/lib
    /Users/hornenj/.cpan/build/Exporter-Tidy-0.08-0/blib/arch
    /Users/hornenj/.cpan/build/Exporter-Tidy-0.08-0/blib/lib
    /Users/hornenj/.cpan/build/Net-Server-2.009-0/blib/arch
    /Users/hornenj/.cpan/build/Net-Server-2.009-0/blib/lib
    /Users/hornenj/.cpan/build/Net-LDAP-Server-0.43-0/blib/arch
    /Users/hornenj/.cpan/build/Net-LDAP-Server-0.43-0/blib/lib
    /Users/hornenj/.cpan/build/perl-ldap-0.65-0/blib/arch
    /Users/hornenj/.cpan/build/perl-ldap-0.65-0/blib/lib
    /Users/hornenj/.cpan/build/Convert-ASN1-0.27-0/blib/arch
    /Users/hornenj/.cpan/build/Convert-ASN1-0.27-0/blib/lib
    /Users/hornenj/.cpan/build/Authen-SASL-2.16-1/blib/arch
    /Users/hornenj/.cpan/build/Authen-SASL-2.16-1/blib/lib
    /Users/hornenj/perl5/perlbrew/perls/perl-5.26.0/lib/site_perl/5.26.0/darwin-thread-multi-2level
    /Users/hornenj/perl5/perlbrew/perls/perl-5.26.0/lib/site_perl/5.26.0
    /Users/hornenj/perl5/perlbrew/perls/perl-5.26.0/lib/5.26.0/darwin-thread-multi-2level
    /Users/hornenj/perl5/perlbrew/perls/perl-5.26.0/lib/5.26.0