Report for Dancer2-Plugin-REST-0.24

Back
From: metabase:user:314402c4-2aae-11df-837a-5e0a49663a4f
Subject: PASS Dancer2-Plugin-REST-0.24 v5.18.3 RC1 GNU/Linux
Date: 2014-09-17T23:23:29Z

This distribution has been tested as part of the CPAN Testers
project, supporting the Perl programming language.  See
http://wiki.cpantesters.org/ for more information or email
questions to cpan-testers-discuss@perl.org


--
Dear Yanick Champoux,

This is a computer-generated report for Dancer2-Plugin-REST-0.24
on perl 5.18.3, created by CPAN-Reporter-1.2011.

Thank you for uploading your work to CPAN.  Congratulations!
All tests were successful.

Sections of this report:

    * Tester comments
    * Program output
    * Prerequisites
    * Environment and other context

------------------------------
TESTER COMMENTS
------------------------------

Additional comments from tester:

none provided

------------------------------
PROGRAM OUTPUT
------------------------------

Output from './Build test':

t/00-compile.t ........................ ok
# 
# 
# Generated by Dist::Zilla::Plugin::ReportVersions::Tiny v1.10
# perl: 5.018003 (wanted 5.006) on linux from /bbbike/perl-5.18.3-RC1/bin/perl
# 
# Carp                                          => 1.29       (want any version)
# Class::Load                                   => 0.22       (want any version)
# Dancer2                                       => 0.150000   (want 0.149000_01)
# Dancer2::Core::Request                        => 0.150000   (want any version)
# Dancer2::Plugin                               => 0.150000   (want any version)
# Dancer2::Test                                 => 0.150000   (want any version)
# Data::Dumper                                  => 2.145      (want any version)
# File::Spec                                    => 3.40       (want any version)
# HTTP::Request::Common                         => 6.04       (want any version)
# IO::Handle                                    => 1.34       (want any version)
# IPC::Open3                                    => 1.13       (want any version)
# JSON                                          => 2.90       (want any version)
# Module::Build                                 => 0.421      (want 0.28)   
# Module::Runtime                               => 0.014      (want any version)
# Moo::Role                                     => 1.006      (want any version)
# Plack::Test                                   => <undef>    (want any version)
# Test::More                                    => 1.001006   (want 0.88)   
# strict                                        => 1.07       (want any version)
# warnings                                      => 1.18       (want any version)
# 
# Thanks for using my code.  I hope it works for you.
# If not, please try and include this output in the bug report.
# That will help me reproduce the issue and solve your problem.
# 
t/000-report-versions-tiny.t .......... ok
Dancer2::Test is deprecated, please use Plack::Test instead at t/02_prepare_serializer_for_format.t line 64.
Dancer2::Test is deprecated, please use Plack::Test instead at t/02_prepare_serializer_for_format.t line 64.
Dancer2::Test is deprecated, please use Plack::Test instead at t/02_prepare_serializer_for_format.t line 64.
Dancer2::Test is deprecated, please use Plack::Test instead at t/02_prepare_serializer_for_format.t line 64.
Dancer2::Test is deprecated, please use Plack::Test instead at t/02_prepare_serializer_for_format.t line 64.
t/02_prepare_serializer_for_format.t .. ok
t/03_resource.t ....................... ok
t/04_helpers.t ........................ ok
Dancer2::Test is deprecated, please use Plack::Test instead at t/04_plugin_settings.t line 58.
Dancer2::Test is deprecated, please use Plack::Test instead at t/04_plugin_settings.t line 58.
Dancer2::Test is deprecated, please use Plack::Test instead at t/04_plugin_settings.t line 58.
Dancer2::Test is deprecated, please use Plack::Test instead at t/04_plugin_settings.t line 58.
Dancer2::Test is deprecated, please use Plack::Test instead at t/04_plugin_settings.t line 58.
t/04_plugin_settings.t ................ ok
Dancer2::Test is deprecated, please use Plack::Test instead at t/05_named_captures.t line 57.
Dancer2::Test is deprecated, please use Plack::Test instead at t/05_named_captures.t line 57.
Dancer2::Test is deprecated, please use Plack::Test instead at t/05_named_captures.t line 57.
Dancer2::Test is deprecated, please use Plack::Test instead at t/05_named_captures.t line 57.
t/05_named_captures.t ................. ok
t/06_tcp_server.t ..................... ok
All tests successful.
Files=8, Tests=50,  3 wallclock secs ( 0.03 usr  0.04 sys +  1.68 cusr  0.35 csys =  2.10 CPU)
Result: PASS

------------------------------
PREREQUISITES
------------------------------

Prerequisite modules loaded:

requires:

    Module                 Need        Have    
    ---------------------- ----------- --------
    Carp                   0           1.29    
    Class::Load            0           0.22    
    Dancer2                0.149000_01 0.150000
    Dancer2::Plugin        0           0.150000
    Moo::Role              0           1.006000
    strict                 0           1.07    
    warnings               0           1.18    

build_requires:

    Module                 Need        Have    
    ---------------------- ----------- --------
    Dancer2::Core::Request 0           0.150000
    Dancer2::Test          0           0.150000
    Data::Dumper           0           2.145   
    File::Spec             0           3.40    
    HTTP::Request::Common  0           6.04    
    IO::Handle             0           1.34    
    IPC::Open3             0           1.13    
    JSON                   0           2.90    
    Module::Build          0.28        0.4210  
    Module::Runtime        0           0.014   
    perl                   5.006       5.018003
    Plack::Test            0           0       
    Test::More             0.88        1.001006

configure_requires:

    Module                 Need        Have    
    ---------------------- ----------- --------
    Module::Build          0.28        0.4210  


------------------------------
ENVIRONMENT AND OTHER CONTEXT
------------------------------

Environment variables:

    DBIC_NO_WARN_BAD_PERL = 1
    LANG = C
    LC_ALL = de_DE.UTF-8
    PATH = /usr/local/bin:/usr/bin:/bin:/usr/local/sbin:/usr/sbin:/sbin:/home/eserte/bin/linux-gnu:/home/eserte/bin/sh:/home/eserte/bin:/usr/games:/home/eserte/devel:/home/eserte/src/srezic-misc/scripts
    PERL = /bbbike/perl-5.18.3-RC1/bin/perl
    PERL5LIB = 
    PERL5OPT = 
    PERL5_CPANPLUS_IS_RUNNING = 28201
    PERL5_CPAN_IS_RUNNING = 28201
    PERL5_CPAN_IS_RUNNING_IN_RECURSION = 15414,28201
    PERLDOC = -MPod::Perldoc::ToTextOverstrike
    PERL_BATCH = yes
    PERL_CPAN_REPORTER_CONFIG = /var/tmp/cpansmoker-1001/33ge76wEiy_config.ini
    PERL_EXTUTILS_AUTOINSTALL = --defaultdeps
    PERL_HTML_DISPLAY_CLASS = HTML::Display::Mozilla
    PERL_PARALLEL_SMOKER = yes
    SHELL = /bin/zsh
    TERM = screen
    TMPDIR = /var/tmp/cpansmoker-1001

Perl special variables (and OS-specific diagnostics, for MSWin32):

    $^X = /bbbike/perl-5.18.3-RC1/bin/perl
    $UID/$EUID = 1001 / 1001
    $GID = 1001 109 1001
    $EGID = 1001 109 1001

Perl module toolchain versions installed:

    Module              Have    
    ------------------- --------
    CPAN                2.00    
    CPAN::Meta          2.142060
    Cwd                 3.40    
    ExtUtils::CBuilder  0.280210
    ExtUtils::Command   1.17    
    ExtUtils::Install   1.59    
    ExtUtils::MakeMaker 6.66    
    ExtUtils::Manifest  1.66    
    ExtUtils::ParseXS   3.24    
    File::Spec          3.40    
    JSON                2.90    
    JSON::PP            2.27202 
    Module::Build       0.4210  
    Module::Signature   0.73    
    Parse::CPAN::Meta   1.4414  
    Test::Harness       3.33    
    Test::More          1.001006
    YAML                1.11    
    YAML::Syck          1.27    
    version             0.9902  


--

Summary of my perl5 (revision 5 version 18 subversion 3) configuration:
   
  Platform:
    osname=linux, osvers=3.2.0-4-amd64, archname=x86_64-linux
    uname='linux eserte 3.2.0-4-amd64 #1 smp debian 3.2.60-1+deb7u3 x86_64 gnulinux '
    config_args='-ds -e -Dprefix=/opt/perl-5.18.3-RC1'
    hint=recommended, useposix=true, d_sigaction=define
    useithreads=undef, usemultiplicity=undef
    useperlio=define, d_sfio=undef, uselargefiles=define, usesocks=undef
    use64bitint=define, use64bitall=define, uselongdouble=undef
    usemymalloc=n, bincompat5005=undef
  Compiler:
    cc='cc', ccflags ='-fno-strict-aliasing -pipe -fstack-protector -I/usr/local/include -D_LARGEFILE_SOURCE -D_FILE_OFFSET_BITS=64',
    optimize='-O2',
    cppflags='-fno-strict-aliasing -pipe -fstack-protector -I/usr/local/include'
    ccversion='', gccversion='4.7.2', gccosandvers=''
    intsize=4, longsize=8, ptrsize=8, doublesize=8, byteorder=12345678
    d_longlong=define, longlongsize=8, d_longdbl=define, longdblsize=16
    ivtype='long', ivsize=8, nvtype='double', nvsize=8, Off_t='off_t', lseeksize=8
    alignbytes=8, prototype=define
  Linker and Libraries:
    ld='cc', ldflags =' -fstack-protector -L/usr/local/lib'
    libpth=/usr/local/lib /lib/x86_64-linux-gnu /lib/../lib /usr/lib/x86_64-linux-gnu /usr/lib/../lib /lib /usr/lib
    libs=-lnsl -ldb -ldl -lm -lcrypt -lutil -lc
    perllibs=-lnsl -ldl -lm -lcrypt -lutil -lc
    libc=, so=so, useshrplib=false, libperl=libperl.a
    gnulibc_version='2.13'
  Dynamic Linking:
    dlsrc=dl_dlopen.xs, dlext=so, d_dlsymun=undef, ccdlflags='-Wl,-E'
    cccdlflags='-fPIC', lddlflags='-shared -O2 -L/usr/local/lib -fstack-protector'


Characteristics of this binary (from libperl): 
  Compile-time options: HAS_TIMES PERLIO_LAYERS PERL_DONT_CREATE_GVSV
                        PERL_HASH_FUNC_ONE_AT_A_TIME_HARD PERL_MALLOC_WRAP
                        PERL_PRESERVE_IVUV PERL_SAWAMPERSAND USE_64_BIT_ALL
                        USE_64_BIT_INT USE_LARGE_FILES USE_LOCALE
                        USE_LOCALE_COLLATE USE_LOCALE_CTYPE
                        USE_LOCALE_NUMERIC USE_PERLIO USE_PERL_ATOF
  Locally applied patches:
	RC1
  Built under linux
  Compiled at Sep 17 2014 20:38:44
  %ENV:
    PERL="/bbbike/perl-5.18.3-RC1/bin/perl"
    PERL5LIB=""
    PERL5OPT=""
    PERL5_CPANPLUS_IS_RUNNING="28201"
    PERL5_CPAN_IS_RUNNING="28201"
    PERL5_CPAN_IS_RUNNING_IN_RECURSION="15414,28201"
    PERLDOC="-MPod::Perldoc::ToTextOverstrike"
    PERL_BATCH="yes"
    PERL_CPAN_REPORTER_CONFIG="/var/tmp/cpansmoker-1001/33ge76wEiy_config.ini"
    PERL_EXTUTILS_AUTOINSTALL="--defaultdeps"
    PERL_HTML_DISPLAY_CLASS="HTML::Display::Mozilla"
    PERL_PARALLEL_SMOKER="yes"
  @INC:
    /opt/perl-5.18.3-RC1/lib/site_perl/5.18.3/x86_64-linux
    /opt/perl-5.18.3-RC1/lib/site_perl/5.18.3
    /opt/perl-5.18.3-RC1/lib/5.18.3/x86_64-linux
    /opt/perl-5.18.3-RC1/lib/5.18.3
    .