Report for Dist-Zilla-Plugin-Git-NextVersion-Sanitized-0.002002

Back
From: metabase:user:320bfe00-2aae-11df-837a-5e0a49663a4f
Subject: PASS Dist-Zilla-Plugin-Git-NextVersion-Sanitized-0.002002 v5.18.3 RC1 GNU/Linux
Date: 2014-09-20T21:25:23Z

This distribution has been tested as part of the CPAN Testers
project, supporting the Perl programming language.  See
http://wiki.cpantesters.org/ for more information or email
questions to cpan-testers-discuss@perl.org


--
Dear Kent Fredric,

This is a computer-generated report for Dist-Zilla-Plugin-Git-NextVersion-Sanitized-0.002002
on perl 5.18.3, created by CPAN-Reporter-1.2011.

Thank you for uploading your work to CPAN.  Congratulations!
All tests were successful.

Sections of this report:

    * Tester comments
    * Program output
    * Prerequisites
    * Environment and other context

------------------------------
TESTER COMMENTS
------------------------------

Additional comments from tester:

this report is from an automated smoke testing program
and was not reviewed by a human for accuracy

------------------------------
PROGRAM OUTPUT
------------------------------

Output from '/usr/bin/make test':

PERL_DL_NONLAZY=1 /home/sand/src/perl/repoperls/installed-perls/perl/v5.18.3-RC1/165a/bin/perl "-MExtUtils::Command::MM" "-MTest::Harness" "-e" "undef *Test::Harness::Switches; test_harness(0, 'blib/lib', 'blib/arch')" t/*.t t/00-compile/*.t
t/00-compile/lib_Dist_Zilla_Plugin_Git_NextVersion_Sanitized_pm.t .. ok

# Versions for all modules listed in MYMETA.json (including optional ones):
# 
# === Configure Requires ===
# 
#     Module              Want Have
#     ------------------- ---- ----
#     ExtUtils::MakeMaker  any 6.98
# 
# === Configure Recommends ===
# 
#     Module              Want Have
#     ------------------- ---- ----
#     ExtUtils::MakeMaker 6.98 6.98
# 
# === Build Requires ===
# 
#     Module              Want Have
#     ------------------- ---- ----
#     ExtUtils::MakeMaker  any 6.98
# 
# === Test Requires ===
# 
#     Module                              Want         Have
#     ------------------------------- -------- ------------
#     Dist::Zilla::Util::Test::KENTNL 1.003001     1.003002
#     ExtUtils::MakeMaker                  any         6.98
#     File::Spec                           any         3.47
#     Git::Wrapper::Plus::Support          any     0.004010
#     Git::Wrapper::Plus::Tester           any     0.004010
#     Test::DZil                           any        5.020
#     Test::Fatal                          any        0.013
#     Test::More                          0.89 1.301001_045
# 
# === Test Recommends ===
# 
#     Module                  Want         Have
#     ------------------- -------- ------------
#     CPAN::Meta          2.120900     2.142060
#     ExtUtils::MakeMaker     6.98         6.98
#     Test::More          1.001003 1.301001_045
# 
# === Runtime Requires ===
# 
#     Module                                Want     Have
#     ------------------------------------- ---- --------
#     Dist::Zilla::Plugin::Git::NextVersion  any    2.024
#     Dist::Zilla::Role::Version::Sanitize   any 0.002001
#     Moose                                  any   2.1212
#     strict                                 any     1.07
#     utf8                                   any     1.10
#     warnings                               any     1.18
# 
t/00-report-prereqs.t .............................................. ok
t/basic.t .......................................................... ok
t/normalise_env.t .................................................. ok
t/normalise_env_dotted.t ........................................... ok
t/normalise_env_vdotted.t .......................................... ok
All tests successful.
Files=6, Tests=14,  8 wallclock secs ( 0.02 usr  0.01 sys +  4.84 cusr  0.32 csys =  5.19 CPU)
Result: PASS

------------------------------
PREREQUISITES
------------------------------

Prerequisite modules loaded:

requires:

    Module                                Need     Have        
    ------------------------------------- -------- ------------
    Dist::Zilla::Plugin::Git::NextVersion 0        2.024       
    Dist::Zilla::Role::Version::Sanitize  0        0.002001    
    Moose                                 0        2.1212      
    strict                                0        1.07        
    utf8                                  0        1.10        
    warnings                              0        1.18        

build_requires:

    Module                                Need     Have        
    ------------------------------------- -------- ------------
    Dist::Zilla::Util::Test::KENTNL       1.003001 1.003002    
    ExtUtils::MakeMaker                   0        6.98        
    File::Spec                            0        3.47        
    Git::Wrapper::Plus::Support           0        0.004010    
    Git::Wrapper::Plus::Tester            0        0.004010    
    Test::DZil                            0        5.020       
    Test::Fatal                           0        0.013       
    Test::More                            0.89     1.301001_045

configure_requires:

    Module                                Need     Have        
    ------------------------------------- -------- ------------
    ExtUtils::MakeMaker                   0        6.98        


------------------------------
ENVIRONMENT AND OTHER CONTEXT
------------------------------

Environment variables:

    AUTOMATED_TESTING = 1
    LANG = en_US.UTF-8
    LANGUAGE = en_US:en
    PATH = /home/sand/bin:/usr/local/bin:/usr/lib/ccache:/usr/bin:/bin:/usr/games:/usr/local/perl/bin:/usr/X11/bin:/sbin:/usr/sbin
    PERL5LIB = 
    PERL5OPT = 
    PERL5_CPANPLUS_IS_RUNNING = 22885
    PERL5_CPAN_IS_RUNNING = 22885
    PERL_MM_USE_DEFAULT = 1
    SHELL = /usr/bin/zsh
    TERM = screen

Perl special variables (and OS-specific diagnostics, for MSWin32):

    $^X = /home/sand/src/perl/repoperls/installed-perls/perl/v5.18.3-RC1/165a/bin/perl
    $UID/$EUID = 1005 / 1005
    $GID = 1005 1005
    $EGID = 1005 1005

Perl module toolchain versions installed:

    Module              Have        
    ------------------- ------------
    CPAN                2.05        
    CPAN::Meta          2.142060    
    Cwd                 3.47        
    ExtUtils::CBuilder  0.280219    
    ExtUtils::Command   1.17        
    ExtUtils::Install   1.59        
    ExtUtils::MakeMaker 6.98        
    ExtUtils::Manifest  1.63        
    ExtUtils::ParseXS   3.18        
    File::Spec          3.47        
    JSON                2.90        
    JSON::PP            2.27203     
    Module::Build       0.4210      
    Module::Signature   0.73        
    Parse::CPAN::Meta   1.4414      
    Test::Harness       3.33        
    Test::More          1.301001_045
    YAML                1.11        
    YAML::Syck          1.27        
    version             0.9902      


--

Summary of my perl5 (revision 5 version 18 subversion 3) configuration:
  Commit id: c14aac8348c6efdba19f438a181cea7ab24ab109
  Platform:
    osname=linux, osvers=3.16-1-amd64, archname=x86_64-linux
    uname='linux k83 3.16-1-amd64 #1 smp debian 3.16.2-2 (2014-09-08) x86_64 gnulinux '
    config_args='-Dprefix=/home/sand/src/perl/repoperls/installed-perls/perl/v5.18.3-RC1/165a -Dmyhostname=k83 -Dinstallusrbinperl=n -Uversiononly -Dusedevel -des -Ui_db -Uuseithreads -Uuselongdouble -DDEBUGGING=-g'
    hint=recommended, useposix=true, d_sigaction=define
    useithreads=undef, usemultiplicity=undef
    useperlio=define, d_sfio=undef, uselargefiles=define, usesocks=undef
    use64bitint=define, use64bitall=define, uselongdouble=undef
    usemymalloc=n, bincompat5005=undef
  Compiler:
    cc='cc', ccflags ='-fno-strict-aliasing -pipe -fstack-protector -I/usr/local/include -D_LARGEFILE_SOURCE -D_FILE_OFFSET_BITS=64',
    optimize='-O2 -g',
    cppflags='-fno-strict-aliasing -pipe -fstack-protector -I/usr/local/include'
    ccversion='', gccversion='4.9.1', gccosandvers=''
    intsize=4, longsize=8, ptrsize=8, doublesize=8, byteorder=12345678
    d_longlong=define, longlongsize=8, d_longdbl=define, longdblsize=16
    ivtype='long', ivsize=8, nvtype='double', nvsize=8, Off_t='off_t', lseeksize=8
    alignbytes=8, prototype=define
  Linker and Libraries:
    ld='cc', ldflags =' -fstack-protector -L/usr/local/lib'
    libpth=/usr/local/lib /lib/x86_64-linux-gnu /lib/../lib /usr/lib/x86_64-linux-gnu /usr/lib/../lib /lib /usr/lib
    libs=-lnsl -lgdbm -ldb -ldl -lm -lcrypt -lutil -lc -lgdbm_compat
    perllibs=-lnsl -ldl -lm -lcrypt -lutil -lc
    libc=, so=so, useshrplib=false, libperl=libperl.a
    gnulibc_version='2.19'
  Dynamic Linking:
    dlsrc=dl_dlopen.xs, dlext=so, d_dlsymun=undef, ccdlflags='-Wl,-E'
    cccdlflags='-fPIC', lddlflags='-shared -O2 -g -L/usr/local/lib -fstack-protector'


Characteristics of this binary (from libperl): 
  Compile-time options: HAS_TIMES PERLIO_LAYERS PERL_DONT_CREATE_GVSV
                        PERL_HASH_FUNC_ONE_AT_A_TIME_HARD PERL_MALLOC_WRAP
                        PERL_PRESERVE_IVUV PERL_SAWAMPERSAND PERL_USE_DEVEL
                        USE_64_BIT_ALL USE_64_BIT_INT USE_LARGE_FILES
                        USE_LOCALE USE_LOCALE_COLLATE USE_LOCALE_CTYPE
                        USE_LOCALE_NUMERIC USE_PERLIO USE_PERL_ATOF
  Locally applied patches:
	RC1
  Built under linux
  Compiled at Sep 20 2014 04:54:37
  %ENV:
    PERL5LIB=""
    PERL5OPT=""
    PERL5_CPANPLUS_IS_RUNNING="22885"
    PERL5_CPAN_IS_RUNNING="22885"
    PERL_MM_USE_DEFAULT="1"
  @INC:
    /home/sand/src/perl/repoperls/installed-perls/perl/v5.18.3-RC1/165a/lib/site_perl/5.18.3/x86_64-linux
    /home/sand/src/perl/repoperls/installed-perls/perl/v5.18.3-RC1/165a/lib/site_perl/5.18.3
    /home/sand/src/perl/repoperls/installed-perls/perl/v5.18.3-RC1/165a/lib/5.18.3/x86_64-linux
    /home/sand/src/perl/repoperls/installed-perls/perl/v5.18.3-RC1/165a/lib/5.18.3
    .