Test-HTML-Content v0.13 Perl 5 v5.22.3 amd64-freebsd

Status
Pass
From
Slaven Rezić
Dist
Test-HTML-Content v0.13
Platform
Perl 5 v5.22.3 amd64-freebsd
Date
2024-08-15 21:30:45
ID
a1e6e7e6-5b4d-11ef-b54d-15fc6d8775ea
This distribution has been tested as part of the CPAN Testers
project, supporting the Perl programming language.  See
http://wiki.cpantesters.org/ for more information or email
questions to cpan-testers-discuss@perl.org


--
Dear Max Maischein,

This is a computer-generated report for Test-HTML-Content-0.13
on perl 5.22.3, created by CPAN-Reporter-1.2019.

Thank you for uploading your work to CPAN.  Congratulations!
All tests were successful.

Sections of this report:

    * Tester comments
    * Program output
    * Prerequisites
    * Environment and other context

------------------------------
TESTER COMMENTS
------------------------------

Additional comments from tester:

none provided

------------------------------
PROGRAM OUTPUT
------------------------------

Output from '/usr/bin/make test':

PERL_DL_NONLAZY=1 "/usr/perl5.22.3p/bin/perl5.22.3" "-MExtUtils::Command::MM" "-MTest::Harness" "-e" "undef *Test::Harness::Switches; test_harness(0, 'blib/lib', 'blib/arch')" t/00-load.t t/00-prerequisites.t t/01-fallback-libxml.t t/01-fallback-pureperl.t t/01-fallback-xpath.t t/01-internal-api.t t/01-libxml-xpath-abstraction.t t/01-xpath-query-builder.t t/02-tags.t t/03-links.t t/04-comments.t t/05-doctype.t t/06-text.t t/07-errors.link.t t/08-errors.comment.t t/09-errors.declaration.t t/09-errors.xpath.t t/10-errors.text.t t/12-title-fallback.t t/12-title.t t/13-xpath-gracefull-errors.t t/embedded-Test-HTML-Content-NoXPath.t t/embedded-Test-HTML-Content-XPathExtensions.t t/embedded-Test-HTML-Content.t
# Testing Test::HTML::Content 0.13, Perl 5.022003
# AutoLoader 5.74
# Carp 1.50
# Config 5.022003
# Cwd 3.75
# DynaLoader 1.32
# Encode 3.21
# Encode::Alias 2.25
# Encode::Config 2.05
# Encode::Encoding 2.08
# Encode::MIME::Name 1.03
# Exporter 5.77
# Exporter::Heavy 5.77
# ExtUtils::Liblist 7.70
# ExtUtils::Liblist::Kid 7.70
# ExtUtils::MM 7.70
# ExtUtils::MM_Any 7.70
# ExtUtils::MM_Unix 7.70
# ExtUtils::MY 7.70
# ExtUtils::MakeMaker 7.70
# ExtUtils::MakeMaker::Config 7.70
# ExtUtils::MakeMaker::Locale 7.70
# ExtUtils::MakeMaker::version 7.70
# Fcntl 1.13
# File::Basename 2.85
# File::Glob 1.24
# File::Path 2.18
# File::Spec 3.75
# File::Spec::Unix 3.75
# HTML::Entities 3.78
# HTML::Parser 3.78
# HTML::PullParser 3.78
# HTML::Tagset 3.20
# HTML::TokeParser 3.78
# I18N::Langinfo 0.12
# IO 1.55
# IO::Handle 1.55
# List::Util 1.63
# Log::Agent 1.004
# Log::Agent::Formatting <unknown>
# Log::Agent::Message <unknown>
# Log::Agent::Priorities <unknown>
# POSIX 1.53_01
# PerlIO 1.09
# Scalar::Util 1.63
# SelectSaver 1.02
# Storable 3.25
# Symbol 1.07
# Test::Builder 1.302198
# Test::Builder::Formatter 1.302198
# Test::Builder::Module 1.302198
# Test::Builder::TodoDiag 1.302198
# Test::HTML::Content 0.13
# Test::More 1.302198
# Test2::API 1.302198
# Test2::API::Context 1.302198
# Test2::API::Instance 1.302198
# Test2::API::Stack 1.302198
# Test2::Event 1.302198
# Test2::Event::Bail 1.302198
# Test2::Event::Diag 1.302198
# Test2::Event::Exception 1.302198
# Test2::Event::Fail 1.302198
# Test2::Event::Note 1.302198
# Test2::Event::Ok 1.302198
# Test2::Event::Pass 1.302198
# Test2::Event::Plan 1.302198
# Test2::Event::Skip 1.302198
# Test2::Event::Subtest 1.302198
# Test2::Event::V2 1.302198
# Test2::Event::Waiting 1.302198
# Test2::EventFacet 1.302198
# Test2::EventFacet::About 1.302198
# Test2::EventFacet::Amnesty 1.302198
# Test2::EventFacet::Assert 1.302198
# Test2::EventFacet::Control 1.302198
# Test2::EventFacet::Error 1.302198
# Test2::EventFacet::Hub 1.302198
# Test2::EventFacet::Info 1.302198
# Test2::EventFacet::Meta 1.302198
# Test2::EventFacet::Parent 1.302198
# Test2::EventFacet::Plan 1.302198
# Test2::EventFacet::Trace 1.302198
# Test2::Formatter 1.302198
# Test2::Formatter::TAP 1.302198
# Test2::Hub 1.302198
# Test2::Hub::Interceptor 1.302198
# Test2::Hub::Interceptor::Terminator 1.302198
# Test2::Hub::Subtest 1.302198
# Test2::Util 1.302198
# Test2::Util::ExternalMeta 1.302198
# Test2::Util::Facets2Legacy 1.302198
# Test2::Util::HashBase 1.302198
# Test2::Util::Trace 1.302198
# Tie::Hash 1.05
# Time::HiRes 1.9764
# XML::LibXML 2.0210
# XML::LibXML::AttributeHash 2.0210
# XML::LibXML::Boolean 2.0210
# XML::LibXML::Error 2.0210
# XML::LibXML::Literal 2.0210
# XML::LibXML::NodeList 2.0210
# XML::LibXML::Number 2.0210
# XML::LibXML::XPathContext 2.0210
# XML::SAX::Exception 1.08
# XSLoader 0.24
# base 2.22
# bytes 1.04
# constant 1.33
# mro 1.17
# overload 1.26
# overloading 0.02
# parent 0.239
# strict 1.09
# vars 1.03
# version 0.9930
# version::regex 0.9930
# version::vxs 0.9930
# warnings 1.34
# warnings::register 1.04
t/00-load.t ..................................... ok
t/00-prerequisites.t ............................ ok
t/01-fallback-libxml.t .......................... ok
t/01-fallback-pureperl.t ........................ ok
t/01-fallback-xpath.t ........................... ok
t/01-internal-api.t ............................. ok
t/01-libxml-xpath-abstraction.t ................. ok
t/01-xpath-query-builder.t ...................... ok
HTML parser error : Unexpected end tag : a
<html><!-- <A href="http://www.perl.com"> -->Title</A></html>
                                                      ^
HTML parser error : Unexpected end tag : a
<html><!-- <A href="http://www.perl.com"> -->Title</A></html>
                                                      ^
HTML parser error : Unexpected end tag : a
<html><!-- <A href="http://www.perl.com"> -->Title</A></html>
                                                      ^
HTML parser error : Unexpected end tag : a
<html><!-- <A href="http://www.perl.com"> -->Title</A></html>
                                                      ^
t/02-tags.t ..................................... ok
t/03-links.t .................................... ok
t/04-comments.t ................................. ok
t/05-doctype.t .................................. ok
t/06-text.t ..................................... ok
t/07-errors.link.t .............................. ok
t/08-errors.comment.t ........................... ok
t/09-errors.declaration.t ....................... ok
t/09-errors.xpath.t ............................. ok
t/10-errors.text.t .............................. ok
t/12-title-fallback.t ........................... ok
t/12-title.t .................................... ok
t/13-xpath-gracefull-errors.t ................... ok
t/embedded-Test-HTML-Content-NoXPath.t .......... ok
t/embedded-Test-HTML-Content-XPathExtensions.t .. ok
t/embedded-Test-HTML-Content.t .................. ok
All tests successful.
Files=24, Tests=625,  3 wallclock secs ( 0.04 usr  0.09 sys +  1.59 cusr  0.95 csys =  2.67 CPU)
Result: PASS

------------------------------
PREREQUISITES
------------------------------

Prerequisite modules loaded:

requires:

    Module              Need   Have    
    ------------------- ------ --------
    HTML::TokeParser    0      3.78    
    perl                5.006  5.022003
    Test::Builder       0      1.302198
    Test::More          0      1.302198
    XML::LibXML         2.0133 2.0210  

build_requires:

    Module              Need   Have    
    ------------------- ------ --------
    ExtUtils::MakeMaker 0      7.70    
    Test::More          0      1.302198

configure_requires:

    Module              Need   Have    
    ------------------- ------ --------
    ExtUtils::MakeMaker 0      7.70    


------------------------------
ENVIRONMENT AND OTHER CONTEXT
------------------------------

Environment variables:

    LC_ALL = de_DE.ISO8859-1
    PATH = /usr/local/bin:/usr/bin:/bin:/usr/local/sbin:/usr/sbin:/sbin:/home/cpansand/bin/freebsd10.3:/home/cpansand/bin/sh:/home/cpansand/bin:/usr/games:/home/cpansand/devel:/home/eserte/src/srezic-misc/scripts
    PERL5LIB = 
    PERL5OPT = 
    PERL5_CPANPLUS_IS_RUNNING = 63613
    PERL5_CPAN_IS_RUNNING = 63613
    PERL5_CPAN_IS_RUNNING_IN_RECURSION = 62542,63613
    PERLDOC = -MPod::Perldoc::ToTextOverstrike
    PERL_BATCH = yes
    PERL_CANARY_STABILITY_NOPROMPT = 1
    PERL_CPAN_REPORTER_CONFIG = /var/tmp/cpansmoker-1023/2024081523/cpanreporter_000_config.ini
    PERL_EXTUTILS_AUTOINSTALL = --defaultdeps
    PERL_USE_UNSAFE_INC = 1
    SHELL = /usr/local/bin/zsh
    TERM = screen
    TMPDIR = /var/tmp/cpansmoker-1023/2024081523

Perl special variables (and OS-specific diagnostics, for MSWin32):

    $^X = /usr/perl5.22.3p/bin/perl5.22.3
    $UID/$EUID = 1023 / 1023
    $GID = 1023 1023
    $EGID = 1023 1023

Perl module toolchain versions installed:

    Module              Have    
    ------------------- --------
    CPAN                2.34    
    CPAN::Meta          2.150010
    Cwd                 3.75    
    ExtUtils::CBuilder  0.280236
    ExtUtils::Command   7.70    
    ExtUtils::Install   2.22    
    ExtUtils::MakeMaker 7.70    
    ExtUtils::Manifest  1.75    
    ExtUtils::ParseXS   3.51    
    File::Spec          3.75    
    JSON                4.10    
    JSON::PP            4.16    
    Module::Build       0.4234  
    Module::Signature   0.87    
    Parse::CPAN::Meta   2.150010
    Test2               1.302198
    Test::Harness       3.47    
    Test::More          1.302198
    YAML                1.30    
    YAML::Syck          1.34    
    version             0.9930  


--

Summary of my perl5 (revision 5 version 22 subversion 3) configuration:
   
  Platform:
    osname=freebsd, osvers=10.1-release, archname=amd64-freebsd
    uname='freebsd cvrsnica-freebsd-101.herceg.de 10.1-release freebsd 10.1-release #0 r274401: tue nov 11 21:02:49 utc 2014 root@releng1.nyi.freebsd.org:usrobjusrsrcsysgeneric amd64 '
    config_args='-ds -e -Dprefix=/usr/perl5.22.3p -Dcf_email=srezic@cpan.org -Doptimize=-O2 -pipe'
    hint=recommended, useposix=true, d_sigaction=define
    useithreads=undef, usemultiplicity=undef
    use64bitint=define, use64bitall=define, uselongdouble=undef
    usemymalloc=n, bincompat5005=undef
  Compiler:
    cc='cc', ccflags ='-DHAS_FPSETMASK -DHAS_FLOATINGPOINT_H -fno-strict-aliasing -pipe -fstack-protector -I/usr/local/include -D_FORTIFY_SOURCE=2',
    optimize='-O2 -pipe',
    cppflags='-DHAS_FPSETMASK -DHAS_FLOATINGPOINT_H -fno-strict-aliasing -pipe -fstack-protector -I/usr/local/include'
    ccversion='', gccversion='4.2.1 Compatible FreeBSD Clang 3.4.1 (tags/RELEASE_34/dot1-final 208032)', gccosandvers=''
    intsize=4, longsize=8, ptrsize=8, doublesize=8, byteorder=12345678, doublekind=3
    d_longlong=define, longlongsize=8, d_longdbl=define, longdblsize=16, longdblkind=3
    ivtype='long', ivsize=8, nvtype='double', nvsize=8, Off_t='off_t', lseeksize=8
    alignbytes=8, prototype=define
  Linker and Libraries:
    ld='cc', ldflags ='-pthread -Wl,-E  -fstack-protector -L/usr/local/lib'
    libpth=/usr/lib /usr/local/lib /usr/include/clang/3.4.1 /usr/lib
    libs=-lpthread -lgdbm -lm -lcrypt -lutil -lc
    perllibs=-lpthread -lm -lcrypt -lutil -lc
    libc=, so=so, useshrplib=false, libperl=libperl.a
    gnulibc_version=''
  Dynamic Linking:
    dlsrc=dl_dlopen.xs, dlext=so, d_dlsymun=undef, ccdlflags=' '
    cccdlflags='-DPIC -fPIC', lddlflags='-shared  -L/usr/local/lib -fstack-protector'


Characteristics of this binary (from libperl): 
  Compile-time options: HAS_TIMES PERLIO_LAYERS PERL_DONT_CREATE_GVSV
                        PERL_HASH_FUNC_ONE_AT_A_TIME_HARD PERL_MALLOC_WRAP
                        PERL_NEW_COPY_ON_WRITE PERL_PRESERVE_IVUV
                        USE_64_BIT_ALL USE_64_BIT_INT USE_LARGE_FILES
                        USE_LOCALE USE_LOCALE_COLLATE USE_LOCALE_CTYPE
                        USE_LOCALE_NUMERIC USE_LOCALE_TIME USE_PERLIO
                        USE_PERL_ATOF
  Built under freebsd
  Compiled at Jan 15 2017 18:31:13
  %ENV:
    PERL5LIB=""
    PERL5OPT=""
    PERL5_CPANPLUS_IS_RUNNING="63613"
    PERL5_CPAN_IS_RUNNING="63613"
    PERL5_CPAN_IS_RUNNING_IN_RECURSION="62542,63613"
    PERLDOC="-MPod::Perldoc::ToTextOverstrike"
    PERL_BATCH="yes"
    PERL_CANARY_STABILITY_NOPROMPT="1"
    PERL_CPAN_REPORTER_CONFIG="/var/tmp/cpansmoker-1023/2024081523/cpanreporter_000_config.ini"
    PERL_EXTUTILS_AUTOINSTALL="--defaultdeps"
    PERL_USE_UNSAFE_INC="1"
  @INC:
    /usr/perl5.22.3p/lib/site_perl/5.22.3/amd64-freebsd
    /usr/perl5.22.3p/lib/site_perl/5.22.3
    /usr/perl5.22.3p/lib/5.22.3/amd64-freebsd
    /usr/perl5.22.3p/lib/5.22.3
    .