Dist-Zilla-Plugin-MakeMaker-Fallback v0.027 Perl 5 v5.10.0 darwin-2level

Status
Pass
From
NONAME
Dist
Dist-Zilla-Plugin-MakeMaker-Fallback v0.027
Platform
Perl 5 v5.10.0 darwin-2level
Date
2018-06-18 21:36:17
ID
a1f08ca8-733f-11e8-bc96-82c12fa57c4a
This distribution has been tested as part of the CPAN Testers
project, supporting the Perl programming language.  See
http://wiki.cpantesters.org/ for more information or email
questions to cpan-testers-discuss@perl.org


--
Dear ETHER,

This is a computer-generated report for Dist-Zilla-Plugin-MakeMaker-Fallback-0.027
on perl 5.10.0, created by App::cpanminus::reporter 0.17 (1.7043).

Thank you for uploading your work to CPAN.  Congratulations!
All tests were successful.

Sections of this report:

    * Tester comments
    * Program output
    * Prerequisites
    * Environment and other context

------------------------------
TESTER COMMENTS
------------------------------

Additional comments from tester:

none provided

------------------------------
PROGRAM OUTPUT
------------------------------

Output from '':

Building and testing Dist-Zilla-Plugin-MakeMaker-Fallback-0.027
# 
# Versions for all modules listed in MYMETA.json (including optional ones):
# 
# === Configure Requires ===
# 
#     Module               Want  Have
#     ------------------- ----- -----
#     ExtUtils::MakeMaker   any  7.32
#     Module::Build::Tiny 0.034 0.039
# 
# === Test Requires ===
# 
#     Module                                Want     Have
#     ------------------------------------ ----- --------
#     Capture::Tiny                          any     0.48
#     Dist::Zilla::Plugin::ModuleBuildTiny   any    0.015
#     Dist::Zilla::Role::InstallTool         any    5.047
#     File::Spec                             any     3.62
#     Module::Metadata                       any 1.000033
#     Path::Tiny                           0.062    0.103
#     Test::DZil                             any    5.047
#     Test::Deep                             any    1.128
#     Test::Fatal                            any    0.014
#     Test::More                            0.96 1.302118
#     Test::Needs                            any 0.002005
#     Try::Tiny                              any     0.30
#     if                                     any   0.0601
#     lib                                    any     0.63
# 
# === Test Recommends ===
# 
#     Module         Want     Have
#     ---------- -------- --------
#     CPAN::Meta 2.120900 2.150010
# 
# === Runtime Requires ===
# 
#     Module                                  Want   Have
#     --------------------------------------- ---- ------
#     Dist::Zilla::Plugin::MakeMaker::Awesome 0.26   0.44
#     Dist::Zilla::Role::AfterBuild            any  5.047
#     List::Util                               any   1.48
#     Moose                                    any 2.2011
#     namespace::autoclean                     any   0.28
#     strict                                   any   1.04
#     version                                  any 0.9917
#     warnings                                 any   1.06
# 
# === Other Modules ===
# 
#     Module                 Have
#     ------------------- -------
#     Encode                 2.98
#     JSON::PP            2.27400
#     Module::Build::Tiny   0.039
#     Pod::Coverage          0.23
#     Sub::Name              0.23
#     YAML                   1.26
#     autodie                2.29
# 
t/00-report-prereqs.t .. ok
t/03-dump_config.t ..... ok
t/01-basic.t ........... ok
# Conflicts detected for Module::Runtime:
#   Moose::Autobox is version 0.15, but must be greater than version 0.15
# Conflicts detected for Moose:
#   Moose::Autobox is version 0.15, but must be greater than version 0.15
t/zzz-check-breaks.t ... ok
t/02-test.t ............ ok
All tests successful.
Files=5, Tests=72,  4 wallclock secs ( 0.05 usr  0.02 sys + 10.53 cusr  0.86 csys = 11.46 CPU)
Result: PASS

------------------------------
PREREQUISITES
------------------------------

Prerequisite modules loaded:

    No requirements found

------------------------------
ENVIRONMENT AND OTHER CONTEXT
------------------------------

Environment variables:

    HARNESS_OPTIONS = j5:c
    LANG = en_CA.UTF-8
    NO_NETWORK_TESTING = 1
    PATH = /Users/ether/.perlbrew/libs/10.0@std/bin:/Users/ether/perl5/perlbrew/bin:/Users/ether/perl5/perlbrew/perls/10.0/bin:/Users/ether/bin:/Users/ether/git/misc/install/bourbon/bin:/Users/ether/git/misc/install/generic/bin:/opt/local/bin:/opt/local/sbin:/Users/ether/git/git-hub/lib:/Users/ether/src/CE/devtools:/Users/ether/git/CE/devtools:/Users/ether/src/CE/bin:/Users/ether/git/CE/bin:/usr/local/bin:/usr/bin:/bin:/usr/sbin:/sbin:/opt/local/share/git-core/contrib/workdir
    PERL5LIB = /Users/ether/.perlbrew/libs/10.0@std/lib/perl5
    PERLBREW_HOME = /Users/ether/.perlbrew
    PERLBREW_LIB = std
    PERLBREW_MANPATH = /Users/ether/.perlbrew/libs/10.0@std/man:/Users/ether/perl5/perlbrew/perls/10.0/man
    PERLBREW_PATH = /Users/ether/.perlbrew/libs/10.0@std/bin:/Users/ether/perl5/perlbrew/bin:/Users/ether/perl5/perlbrew/perls/10.0/bin
    PERLBREW_PERL = 10.0
    PERLBREW_ROOT = /Users/ether/perl5/perlbrew
    PERLBREW_SHELLRC_VERSION = 0.83
    PERLBREW_VERSION = 0.83
    PERLDOC = -oman
    PERLDOC_PAGER = less -sicMr
    PERL_AUTOINSTALL_PREFER_CPAN = 1
    PERL_INSTALL_QUIET = 1
    PERL_LOCAL_LIB_ROOT = /Users/ether/.perlbrew/libs/10.0@std
    PERL_MB_OPT = --install_base /Users/ether/.perlbrew/libs/10.0@std
    PERL_MM_OPT = INSTALL_BASE=/Users/ether/.perlbrew/libs/10.0@std
    PERL_USE_UNSAFE_INC = 0
    SHELL = /bin/bash
    TERM = xterm-color
    TMPDIR = /var/folders/8r/y_1q6y1n56b3dpj2_vqxk83r0000gn/T/

Perl special variables (and OS-specific diagnostics, for MSWin32):

    EGID = 20 20 701 12 61 79 80 81 98 399 33 100 204 395 398
    EUID = 501
    EXECUTABLE_NAME = /Users/ether/perl5/perlbrew/perls/10.0/bin/perl
    GID = 20 20 701 12 61 79 80 81 98 399 33 100 204 395 398
    UID = 501

Perl module toolchain versions installed:

    Module              Have    
    ------------------- --------
    CPAN                2.13    
    CPAN::Meta          2.150010
    Cwd                 3.62    
    ExtUtils::CBuilder  0.280230
    ExtUtils::Command   7.32    
    ExtUtils::Install   2.06    
    ExtUtils::MakeMaker 7.32    
    ExtUtils::Manifest  1.71    
    ExtUtils::ParseXS   3.24    
    File::Spec          3.62    
    JSON                2.90    
    JSON::PP            2.27400 
    Module::Build       0.4222  
    Module::Signature   n/a     
    Parse::CPAN::Meta   2.150010
    Test::Harness       3.39    
    Test::More          1.302118
    YAML                1.26    
    YAML::Syck          1.29    
    version             0.9917  


--

Summary of my perl5 (revision 5 version 10 subversion 0) configuration:
  Platform:
    osname=darwin, osvers=12.6.0, archname=darwin-2level
    uname='darwin bourbon 12.6.0 darwin kernel version 12.6.0: wed mar 18 16:23:48 pdt 2015; root:xnu-2050.48.19~1release_x86_64 x86_64 '
    config_args='-de -Dprefix=/Users/ether/perl5/perlbrew/perls/10.0 -Dman1dir=none -Dman3dir=none -Aeval:scriptdir=/Users/ether/perl5/perlbrew/perls/10.0/bin'
    hint=recommended, useposix=true, d_sigaction=define
    useithreads=undef, usemultiplicity=undef
    useperlio=define, d_sfio=undef, uselargefiles=define, usesocks=undef
    use64bitint=define, use64bitall=define, uselongdouble=undef
    usemymalloc=n, bincompat5005=undef
  Compiler:
    cc='cc', ccflags ='-fno-common -DPERL_DARWIN -fno-strict-aliasing -pipe -I/opt/local/include',
    optimize='-O3',
    cppflags='-fno-common -DPERL_DARWIN -fno-strict-aliasing -pipe -I/opt/local/include'
    ccversion='', gccversion='4.2.1 Compatible Apple LLVM 4.2 (clang-425.0.28)', gccosandvers=''
    intsize=4, longsize=8, ptrsize=8, doublesize=8, byteorder=12345678
    d_longlong=define, longlongsize=8, d_longdbl=define, longdblsize=16
    ivtype='long', ivsize=8, nvtype='double', nvsize=8, Off_t='off_t', lseeksize=8
    alignbytes=8, prototype=define
  Linker and Libraries:
    ld='env MACOSX_DEPLOYMENT_TARGET=10.3 cc', ldflags =' -L/opt/local/lib'
    libpth=/opt/local/lib /usr/lib
    libs=-lgdbm -ldbm -ldl -lm -lutil -lc
    perllibs=-ldl -lm -lutil -lc
    libc=, so=dylib, useshrplib=false, libperl=libperl.a
    gnulibc_version=''
  Dynamic Linking:
    dlsrc=dl_dlopen.xs, dlext=bundle, d_dlsymun=undef, ccdlflags=' '
    cccdlflags=' ', lddlflags=' -bundle -undefined dynamic_lookup -L/opt/local/lib'


Characteristics of this binary (from libperl): 
  Compile-time options: PERL_DONT_CREATE_GVSV PERL_MALLOC_WRAP USE_64_BIT_ALL
                        USE_64_BIT_INT USE_LARGE_FILES USE_PERLIO
  Locally applied patches:
	Devel::PatchPerl 1.34
  Built under darwin
  Compiled at Jun 17 2015 11:51:51
  %ENV:
    PERL5LIB="/Users/ether/.perlbrew/libs/10.0@std/lib/perl5"
    PERLBREW_HOME="/Users/ether/.perlbrew"
    PERLBREW_LIB="std"
    PERLBREW_MANPATH="/Users/ether/.perlbrew/libs/10.0@std/man:/Users/ether/perl5/perlbrew/perls/10.0/man"
    PERLBREW_PATH="/Users/ether/.perlbrew/libs/10.0@std/bin:/Users/ether/perl5/perlbrew/bin:/Users/ether/perl5/perlbrew/perls/10.0/bin"
    PERLBREW_PERL="10.0"
    PERLBREW_ROOT="/Users/ether/perl5/perlbrew"
    PERLBREW_SHELLRC_VERSION="0.83"
    PERLBREW_VERSION="0.83"
    PERLDOC="-oman"
    PERLDOC_PAGER="less -sicMr"
    PERL_AUTOINSTALL_PREFER_CPAN="1"
    PERL_INSTALL_QUIET="1"
    PERL_LOCAL_LIB_ROOT="/Users/ether/.perlbrew/libs/10.0@std"
    PERL_MB_OPT="--install_base /Users/ether/.perlbrew/libs/10.0@std"
    PERL_MM_OPT="INSTALL_BASE=/Users/ether/.perlbrew/libs/10.0@std"
    PERL_USE_UNSAFE_INC="0"
  @INC:
    /Users/ether/.perlbrew/libs/10.0@std/lib/perl5/darwin-2level
    /Users/ether/.perlbrew/libs/10.0@std/lib/perl5
    /Users/ether/perl5/perlbrew/perls/10.0/lib/5.10.0/darwin-2level
    /Users/ether/perl5/perlbrew/perls/10.0/lib/5.10.0
    /Users/ether/perl5/perlbrew/perls/10.0/lib/site_perl/5.10.0/darwin-2level
    /Users/ether/perl5/perlbrew/perls/10.0/lib/site_perl/5.10.0
    .