MooseX-Types-Common v0.001015 Perl 5 v5.16.2 x86_64-linux-thread-multi-ld
- Status
- Pass
- From
- Andreas J. König (ANDK)
- Dist
-
MooseX-Types-Common v0.001015
- Platform
- Perl 5 v5.16.2 x86_64-linux-thread-multi-ld
- Date
- 2025-05-02 02:32:03
- ID
- a1f41ac0-26fd-11f0-aa55-a05c98358a75
This distribution has been tested as part of the CPAN Testers
project, supporting the Perl programming language. See
http://wiki.cpantesters.org/ for more information or email
questions to cpan-testers-discuss@perl.org
--
Dear Karen Etheridge,
This is a computer-generated report for MooseX-Types-Common-0.001015
on perl 5.16.2, created by CPAN-Reporter-1.2019.
Thank you for uploading your work to CPAN. Congratulations!
All tests were successful.
Sections of this report:
* Tester comments
* Program output
* Prerequisites
* Environment and other context
------------------------------
TESTER COMMENTS
------------------------------
Additional comments from tester:
this report is from an automated smoke testing program
and was not reviewed by a human for accuracy
------------------------------
PROGRAM OUTPUT
------------------------------
Output from './Build test':
#
# Versions for all modules listed in MYMETA.json (including optional ones):
#
# === Configure Requires ===
#
# Module Want Have
# ------------------- -------- --------
# Module::Build::Tiny 0.034 0.047
# perl 5.006001 5.016002
#
# === Test Requires ===
#
# Module Want Have
# ---------------- ----- --------
# File::Spec any 3.75
# Module::Metadata any 1.000038
# Term::ANSIColor any 5.01
# Test::Deep any 1.204
# Test::More 0.88 1.302209
# Test::Warnings 0.005 0.033
# open any 1.10
# perl 5.008 5.016002
# utf8 any 1.09
#
# === Test Recommends ===
#
# Module Want Have
# ---------- -------- --------
# CPAN::Meta 2.120900 2.150010
#
# === Runtime Requires ===
#
# Module Want Have
# -------------------- ----- --------
# Carp any 1.50
# Moose any 2.2206
# MooseX::Types any 0.50
# MooseX::Types::Moose any 0.50
# if any 0.0602
# perl 5.008 5.016002
# strict any 1.07
# warnings any 1.13
#
# === Other Modules ===
#
# Module Have
# -------------------- ------
# Dist::CheckConflicts 0.11
# Encode 3.21
# File::Temp 0.2311
# JSON::PP 4.16
# Module::Runtime 0.016
# Sub::Name 0.27
# YAML 1.30
# autodie 2.10
# namespace::clean 0.27
#
t/00-report-prereqs.t ... ok
t/01-string.t ........... ok
t/02-numeric.t .......... ok
t/03-idiot.t ............ ok
t/04-coerce.t ........... ok
t/05-unicode.t .......... ok
t/06-fully-qualified.t .. ok
t/zzz-check-breaks.t .... ok
All tests successful.
Files=8, Tests=98, 7 wallclock secs ( 0.06 usr 0.01 sys + 2.96 cusr 0.40 csys = 3.43 CPU)
Result: PASS
------------------------------
PREREQUISITES
------------------------------
Prerequisite modules loaded:
requires:
Module Need Have
-------------------- -------- --------
Carp 0 1.50
if 0 0.0602
Moose 0 2.2206
MooseX::Types 0 0.50
MooseX::Types::Moose 0 0.50
perl 5.008 5.016002
strict 0 1.07
warnings 0 1.13
build_requires:
Module Need Have
-------------------- -------- --------
File::Spec 0 3.75
Module::Metadata 0 1.000038
open 0 1.10
perl 5.008 5.016002
Term::ANSIColor 0 5.01
Test::Deep 0 1.204
Test::More 0.88 1.302209
Test::Warnings 0.005 0.033
utf8 0 1.09
configure_requires:
Module Need Have
-------------------- -------- --------
Module::Build::Tiny 0.034 0.047
perl 5.006001 5.016002
------------------------------
ENVIRONMENT AND OTHER CONTEXT
------------------------------
Environment variables:
AUTOMATED_TESTING = 1
LANG = en_US.UTF-8
LANGUAGE = en_US:en
PATH = /home/sand/bin:/usr/local/bin:/usr/bin:/bin:/usr/games:/usr/local/perl/bin:/usr/X11/bin:/sbin:/usr/sbin
PERL5LIB =
PERL5OPT =
PERL5_CPANPLUS_IS_RUNNING = 3072210
PERL5_CPAN_IS_RUNNING = 3072210
PERL_CANARY_STABILITY_NOPROMPT = 1
PERL_MM_USE_DEFAULT = 1
PERL_USE_UNSAFE_INC = 1
SHELL = /usr/bin/zsh
TERM = screen
Perl special variables (and OS-specific diagnostics, for MSWin32):
$^X = /home/sand/src/perl/repoperls/installed-perls/host/k93msid/v5.16.2/ac75/bin/perl
$UID/$EUID = 1005 / 1005
$GID = 1005 1005
$EGID = 1005 1005
Perl module toolchain versions installed:
Module Have
------------------- --------
CPAN 2.38
CPAN::Meta 2.150010
Cwd 3.75
ExtUtils::CBuilder 0.280236
ExtUtils::Command 7.74
ExtUtils::Install 2.22
ExtUtils::MakeMaker 7.74
ExtUtils::Manifest 1.75
ExtUtils::ParseXS 3.51
File::Spec 3.75
JSON 4.10
JSON::PP 4.16
Module::Build 0.4234
Module::Signature 0.88
Parse::CPAN::Meta 2.150010
Test2 1.302209
Test::Harness 3.50
Test::More 1.302209
YAML 1.30
YAML::Syck 1.34
version 0.9930
--
Summary of my perl5 (revision 5 version 16 subversion 2) configuration:
Derived from: db7f29e888f2e6d75a806a11ebc6caa6acd84577
Platform:
osname=linux, osvers=6.1.0-7-amd64, archname=x86_64-linux-thread-multi-ld
uname='linux k93msid 6.1.0-7-amd64 #1 smp preempt_dynamic debian 6.1.20-1 (2023-03-19) x86_64 gnulinux '
config_args='-Dprefix=/home/sand/src/perl/repoperls/installed-perls/host/k93msid/v5.16.2/ac75 -Dmyhostname=k93msid -Dinstallusrbinperl=n -Uversiononly -Dusedevel -des -Ui_db -Dlibswanted=cl pthread socket inet nsl gdbm dbm malloc dl ld sun m crypt sec util c cposix posix ucb BSD gdbm_compat -Duseithreads -Duselongdouble -DEBUGGING=both'
hint=recommended, useposix=true, d_sigaction=define
useithreads=define, usemultiplicity=define
useperlio=define, d_sfio=undef, uselargefiles=define, usesocks=undef
use64bitint=define, use64bitall=define, uselongdouble=define
usemymalloc=n, bincompat5005=undef
Compiler:
cc='cc', ccflags ='-D_REENTRANT -D_GNU_SOURCE -fwrapv -DDEBUGGING -fno-strict-aliasing -pipe -fstack-protector -I/usr/local/include -D_LARGEFILE_SOURCE -D_FILE_OFFSET_BITS=64',
optimize='-O2 -g',
cppflags='-D_REENTRANT -D_GNU_SOURCE -fwrapv -DDEBUGGING -fno-strict-aliasing -pipe -fstack-protector -I/usr/local/include'
ccversion='', gccversion='12.2.0', gccosandvers=''
intsize=4, longsize=8, ptrsize=8, doublesize=8, byteorder=12345678
d_longlong=define, longlongsize=8, d_longdbl=define, longdblsize=16
ivtype='long', ivsize=8, nvtype='long double', nvsize=16, Off_t='off_t', lseeksize=8
alignbytes=16, prototype=define
Linker and Libraries:
ld='cc', ldflags =' -fstack-protector -L/usr/local/lib'
libpth=/usr/local/lib /lib/x86_64-linux-gnu /lib/../lib /usr/lib/x86_64-linux-gnu /usr/lib/../lib /lib /usr/lib /lib64 /usr/lib64
libs=-lpthread -lnsl -ldl -lm -lcrypt -lutil -lc
perllibs=-lpthread -lnsl -ldl -lm -lcrypt -lutil -lc
libc=/lib/x86_64-linux-gnu/libc.so.6, so=so, useshrplib=false, libperl=libperl.a
gnulibc_version='2.36'
Dynamic Linking:
dlsrc=dl_dlopen.xs, dlext=so, d_dlsymun=undef, ccdlflags='-Wl,-E'
cccdlflags='-fPIC', lddlflags='-shared -O2 -g -L/usr/local/lib -fstack-protector'
Characteristics of this binary (from libperl):
Compile-time options: DEBUGGING HAS_TIMES MULTIPLICITY PERLIO_LAYERS
PERL_DONT_CREATE_GVSV PERL_IMPLICIT_CONTEXT
PERL_MALLOC_WRAP PERL_PRESERVE_IVUV
PERL_TRACK_MEMPOOL PERL_USE_DEVEL USE_64_BIT_ALL
USE_64_BIT_INT USE_ITHREADS USE_LARGE_FILES
USE_LOCALE USE_LOCALE_COLLATE USE_LOCALE_CTYPE
USE_LOCALE_NUMERIC USE_LONG_DOUBLE USE_PERLIO
USE_PERL_ATOF USE_REENTRANT_API
Locally applied patches:
uncommitted-changes
Built under linux
Compiled at Nov 3 2023 11:01:23
%ENV:
PERL5LIB=""
PERL5OPT=""
PERL5_CPANPLUS_IS_RUNNING="3072210"
PERL5_CPAN_IS_RUNNING="3072210"
PERL_CANARY_STABILITY_NOPROMPT="1"
PERL_MM_USE_DEFAULT="1"
PERL_USE_UNSAFE_INC="1"
@INC:
/home/sand/src/perl/repoperls/installed-perls/host/k93msid/v5.16.2/ac75/lib/site_perl/5.16.2/x86_64-linux-thread-multi-ld
/home/sand/src/perl/repoperls/installed-perls/host/k93msid/v5.16.2/ac75/lib/site_perl/5.16.2
/home/sand/src/perl/repoperls/installed-perls/host/k93msid/v5.16.2/ac75/lib/5.16.2/x86_64-linux-thread-multi-ld
/home/sand/src/perl/repoperls/installed-perls/host/k93msid/v5.16.2/ac75/lib/5.16.2
.