Net-HTTP v6.19 Perl 5 v5.28.1 darwin-thread-multi-2level

Status
Pass
From
Stanislaw Pusep
Dist
Net-HTTP v6.19
Platform
Perl 5 v5.28.1 darwin-thread-multi-2level
Date
2019-05-19 14:30:21
ID
a2040e9e-7a42-11e9-a6e7-0eb8f9fe593c
This distribution has been tested as part of the CPAN Testers
project, supporting the Perl programming language.  See
http://wiki.cpantesters.org/ for more information or email
questions to cpan-testers-discuss@perl.org


--
Dear OALDERS,

This is a computer-generated report for Net-HTTP-6.19
on perl 5.28.1, created by App::cpanminus::reporter 0.17 (1.9018).

Thank you for uploading your work to CPAN.  Congratulations!
All tests were successful.

Sections of this report:

    * Tester comments
    * Program output
    * Prerequisites
    * Environment and other context

------------------------------
TESTER COMMENTS
------------------------------

Additional comments from tester:

none provided

------------------------------
PROGRAM OUTPUT
------------------------------

Output from '':

Building and testing Net-HTTP-6.19
cp lib/Net/HTTP.pm blib/lib/Net/HTTP.pm
cp lib/Net/HTTPS.pm blib/lib/Net/HTTPS.pm
cp lib/Net/HTTP/Methods.pm blib/lib/Net/HTTP/Methods.pm
cp lib/Net/HTTP/NB.pm blib/lib/Net/HTTP/NB.pm
# 
# Versions for all modules listed in MYMETA.json (including optional ones):
# 
# === Configure Requires ===
# 
#     Module              Want Have
#     ------------------- ---- ----
#     ExtUtils::MakeMaker  any 7.36
# 
# === Configure Suggests ===
# 
#     Module      Want Have
#     -------- ------- ----
#     JSON::PP 2.27300 4.02
# 
# === Test Requires ===
# 
#     Module              Want     Have
#     ------------------- ---- --------
#     Data::Dumper         any    2.173
#     ExtUtils::MakeMaker  any     7.36
#     File::Spec           any     3.75
#     IO::Select           any     1.39
#     Socket               any    2.029
#     Test::More           any 1.302164
# 
# === Test Recommends ===
# 
#     Module         Want     Have
#     ---------- -------- --------
#     CPAN::Meta 2.120900 2.150010
# 
# === Runtime Requires ===
# 
#     Module                 Want  Have
#     ---------------------- ---- -----
#     Carp                    any  1.50
#     Compress::Raw::Zlib     any 2.086
#     IO::Socket::INET        any  1.39
#     IO::Uncompress::Gunzip  any 2.086
#     URI                     any  1.76
#     base                    any  2.27
#     strict                  any  1.11
#     vars                    any  1.04
#     warnings                any  1.42
# 
# === Runtime Suggests ===
# 
#     Module             Want    Have
#     ----------------- ----- -------
#     IO::Socket          any    1.39
#     IO::Socket::INET6   any missing
#     IO::Socket::IP      any    0.39
#     IO::Socket::SSL   2.012   2.066
#     Symbol              any    1.08
# 
t/00-report-prereqs.t .. ok
t/http-nb.t ............ ok
t/http.t ............... ok
t/live-https.t ......... ok
t/live.t ............... ok
All tests successful.
Files=5, Tests=64,  1 wallclock secs ( 0.02 usr  0.02 sys +  0.58 cusr  0.10 csys =  0.72 CPU)
Result: PASS

------------------------------
PREREQUISITES
------------------------------

Prerequisite modules loaded:

    No requirements found

------------------------------
ENVIRONMENT AND OTHER CONTEXT
------------------------------

Environment variables:

    LANG = en_US.UTF-8
    LC_ALL = en_US.UTF-8
    LC_CTYPE = UTF-8
    LC_TERMINAL = iTerm2
    LC_TERMINAL_VERSION = 3.3.0beta5
    LDFLAGS = -L/usr/local/opt/curl/lib
    PATH = /usr/local/opt/curl/bin:/usr/local/bin:/usr/bin:/bin:/usr/sbin:/sbin:/opt/X11/bin:/Users/stan/.vim/bin:/Users/stan/bin:/Users/stan/node_modules/.bin:/usr/local/opt/curl/bin:/Users/stan/perl5/bin
    PERL5LIB = /Users/stan/perl5/lib/perl5
    PERL_LOCAL_LIB_ROOT = /Users/stan/perl5
    PERL_MB_OPT = --install_base "/Users/stan/perl5"
    PERL_MM_OPT = INSTALL_BASE=/Users/stan/perl5
    PERL_MM_USE_DEFAULT = 1
    SHELL = /bin/zsh
    TERM = screen
    TMPDIR = /var/folders/1m/0mbn7h096b361dk2y6kwjfn00000gn/T/

Perl special variables (and OS-specific diagnostics, for MSWin32):

    EGID = 20 20 12 61 79 80 81 98 501 702 33 100 204 250 395 398 399
    EUID = 501
    EXECUTABLE_NAME = /usr/local/Cellar/perl/5.28.1/bin/perl
    GID = 20 20 12 61 79 80 81 98 501 702 33 100 204 250 395 398 399
    UID = 501

Perl module toolchain versions installed:

    Module              Have    
    ------------------- --------
    CPAN                2.26    
    CPAN::Meta          2.150010
    Cwd                 3.75    
    ExtUtils::CBuilder  0.280231
    ExtUtils::Command   7.36    
    ExtUtils::Install   2.14    
    ExtUtils::MakeMaker 7.36    
    ExtUtils::Manifest  1.72    
    ExtUtils::ParseXS   3.39    
    File::Spec          3.75    
    JSON                4.02    
    JSON::PP            4.02    
    Module::Build       0.4229  
    Module::Signature   0.83    
    Parse::CPAN::Meta   2.150010
    Test::Harness       3.42    
    Test::More          1.302164
    YAML                1.29    
    YAML::Syck          n/a     
    version             0.9924  


--

Summary of my perl5 (revision 5 version 28 subversion 1) configuration:
   
  Platform:
    osname=darwin
    osvers=18.2.0
    archname=darwin-thread-multi-2level
    uname='darwin mojave.local 18.2.0 darwin kernel version 18.2.0: mon nov 12 20:24:46 pst 2018; root:xnu-4903.231.4~2release_x86_64 x86_64 '
    config_args='-des -Dprefix=/usr/local/Cellar/perl/5.28.1 -Dprivlib=/usr/local/Cellar/perl/5.28.1/lib/perl5/5.28.1 -Dsitelib=/usr/local/Cellar/perl/5.28.1/lib/perl5/site_perl/5.28.1 -Dotherlibdirs=/usr/local/lib/perl5/site_perl/5.28.1 -Dperlpath=/usr/local/opt/perl/bin/perl -Dstartperl=#!/usr/local/opt/perl/bin/perl -Dman1dir=/usr/local/Cellar/perl/5.28.1/share/man/man1 -Dman3dir=/usr/local/Cellar/perl/5.28.1/share/man/man3 -Duseshrplib -Duselargefiles -Dusethreads'
    hint=recommended
    useposix=true
    d_sigaction=define
    useithreads=define
    usemultiplicity=define
    use64bitint=define
    use64bitall=define
    uselongdouble=undef
    usemymalloc=n
    default_inc_excludes_dot=define
    bincompat5005=undef
  Compiler:
    cc='cc'
    ccflags ='-fno-common -DPERL_DARWIN -mmacosx-version-min=10.14 -fno-strict-aliasing -pipe -fstack-protector-strong -I/usr/local/include -DPERL_USE_SAFE_PUTENV'
    optimize='-O3'
    cppflags='-fno-common -DPERL_DARWIN -mmacosx-version-min=10.14 -fno-strict-aliasing -pipe -fstack-protector-strong -I/usr/local/include'
    ccversion=''
    gccversion='4.2.1 Compatible Apple LLVM 10.0.0 (clang-1000.11.45.5)'
    gccosandvers=''
    intsize=4
    longsize=8
    ptrsize=8
    doublesize=8
    byteorder=12345678
    doublekind=3
    d_longlong=define
    longlongsize=8
    d_longdbl=define
    longdblsize=16
    longdblkind=3
    ivtype='long'
    ivsize=8
    nvtype='double'
    nvsize=8
    Off_t='off_t'
    lseeksize=8
    alignbytes=8
    prototype=define
  Linker and Libraries:
    ld='cc'
    ldflags =' -mmacosx-version-min=10.14 -fstack-protector-strong -L/usr/local/lib'
    libpth=/usr/local/lib /Applications/Xcode.app/Contents/Developer/Platforms/MacOSX.platform/Developer/SDKs/MacOSX10.14.sdk/usr/include/libxml2 /Applications/Xcode.app/Contents/Developer/Toolchains/XcodeDefault.xctoolchain/usr/lib/clang/10.0.0/lib /Applications/Xcode.app/Contents/Developer/Toolchains/XcodeDefault.xctoolchain/usr/lib /Applications/Xcode.app/Contents/Developer/Platforms/MacOSX.platform/Developer/SDKs/MacOSX10.14.sdk/usr/lib /usr/lib
    libs=-lpthread -ldbm -ldl -lm -lutil -lc
    perllibs=-lpthread -ldl -lm -lutil -lc
    libc=
    so=dylib
    useshrplib=true
    libperl=libperl.dylib
    gnulibc_version=''
  Dynamic Linking:
    dlsrc=dl_dlopen.xs
    dlext=bundle
    d_dlsymun=undef
    ccdlflags=' '
    cccdlflags=' '
    lddlflags=' -mmacosx-version-min=10.14 -bundle -undefined dynamic_lookup -L/usr/local/lib -fstack-protector-strong'


Characteristics of this binary (from libperl): 
  Compile-time options:
    HAS_TIMES
    MULTIPLICITY
    PERLIO_LAYERS
    PERL_COPY_ON_WRITE
    PERL_DONT_CREATE_GVSV
    PERL_IMPLICIT_CONTEXT
    PERL_MALLOC_WRAP
    PERL_OP_PARENT
    PERL_PRESERVE_IVUV
    PERL_USE_SAFE_PUTENV
    USE_64_BIT_ALL
    USE_64_BIT_INT
    USE_ITHREADS
    USE_LARGE_FILES
    USE_LOCALE
    USE_LOCALE_COLLATE
    USE_LOCALE_CTYPE
    USE_LOCALE_NUMERIC
    USE_LOCALE_TIME
    USE_PERLIO
    USE_PERL_ATOF
    USE_REENTRANT_API
  Built under darwin
  Compiled at Dec 27 2018 13:39:06
  %ENV:
    PERL5LIB="/Users/stan/perl5/lib/perl5"
    PERL_LOCAL_LIB_ROOT="/Users/stan/perl5"
    PERL_MB_OPT="--install_base "/Users/stan/perl5""
    PERL_MM_OPT="INSTALL_BASE=/Users/stan/perl5"
    PERL_MM_USE_DEFAULT="1"
  @INC:
    /Users/stan/perl5/lib/perl5/5.28.1/darwin-thread-multi-2level
    /Users/stan/perl5/lib/perl5/5.28.1
    /Users/stan/perl5/lib/perl5/darwin-thread-multi-2level
    /Users/stan/perl5/lib/perl5
    /usr/local/Cellar/perl/5.28.1/lib/perl5/site_perl/5.28.1/darwin-thread-multi-2level
    /usr/local/Cellar/perl/5.28.1/lib/perl5/site_perl/5.28.1
    /usr/local/Cellar/perl/5.28.1/lib/perl5/5.28.1/darwin-thread-multi-2level
    /usr/local/Cellar/perl/5.28.1/lib/perl5/5.28.1
    /usr/local/lib/perl5/site_perl/5.28.1