Back
From: metabase:user:de0c1687-6c17-1014-803a-aa7147b9bd01
Subject: PASS Soar-WM-0.04 v5.16.2
Date: 2013-02-15T13:24:07Z
This distribution has been tested as part of the CPAN Testers
project, supporting the Perl programming language. See
http://wiki.cpantesters.org/ for more information or email
questions to cpan-testers-discuss@perl.org
--
Dear Nathan Gary Glenn,
This is a computer-generated report for Soar-WM-0.04
on perl 5.16.2, created by CPAN-Reporter-1.2009.
Thank you for uploading your work to CPAN. Congratulations!
All tests were successful.
Sections of this report:
* Tester comments
* Program output
* Prerequisites
* Environment and other context
------------------------------
TESTER COMMENTS
------------------------------
Additional comments from tester:
this report is from an automated smoke testing program
and was not reviewed by a human for accuracy
------------------------------
PROGRAM OUTPUT
------------------------------
Output from 'C:\strawberry\perl\bin\perl.exe ./Build test':
t/00-compile.t ................ ok
#
#
# Generated by Dist::Zilla::Plugin::ReportVersions::Tiny v1.08
# perl: 5.016002 (wanted 5.010) on MSWin32 from C:\strawberry\perl\bin\perl.exe
#
# Carp => 1.26 (want any version)
# Data::Dumper => 2.136 (want any version)
# Data::Section::Simple => 0.03 (want any version)
# Exporter => 5.67 (want any version)
# File::Find => 1.20 (want any version)
# File::Spec => 3.39_02 (want any version)
# File::Temp => 0.22 (want any version)
# FindBin => 1.51 (want any version)
# Module::Build => 0.4003 (want 0.3601)
# Pod::Coverage::TrustPod => module not found. (want any version)
# Test::CPAN::Meta => module not found. (want any version)
# Test::Deep => 0.11 (want any version)
# Test::More => 0.98 (want 0.88)
# Test::NoWarnings => 1.04 (want any version)
# Test::Pod => module not found. (want 1.41)
# Test::Pod::Coverage => module not found. (want 1.08)
# Test::Warn => 0.24 (want any version)
# autodie => 2.12 (want any version)
# base => 2.18 (want any version)
# strict => 1.07 (want any version)
# version => 0.9901 (want 0.9901)
# warnings => 1.13 (want any version)
#
# Thanks for using my code. I hope it works for you.
# If not, please try and include this output in the bug report.
# That will help me reproduce the issue and solve your problem.
#
t/000-report-versions-tiny.t .. ok
t/01-slurp.t .................. ok
t/02-wm.t ..................... ok
t/03-traversal.t .............. ok
t/04-errors.t ................. ok
All tests successful.
Files=6, Tests=34, 2 wallclock secs ( 0.06 usr + 0.01 sys = 0.08 CPU)
Result: PASS
------------------------------
PREREQUISITES
------------------------------
Prerequisite modules loaded:
requires:
Module Need Have
--------------------- ------ --------
autodie 0 2.12
base 0 2.18
Carp 0 1.26
Exporter 0 5.67
perl 5.010 5.016002
strict 0 1.07
warnings 0 1.13
build_requires:
Module Need Have
--------------------- ------ --------
Data::Dumper 0 2.136
Data::Section::Simple 0 0.03
File::Find 0 1.20
File::Spec 0 3.39_02
File::Temp 0 0.22
FindBin 0 1.51
Module::Build 0.3601 0.4003
Test::Deep 0 0.110
Test::More 0.88 0.98
Test::NoWarnings 0 1.04
Test::Warn 0 0.24
configure_requires:
Module Need Have
--------------------- ------ --------
Module::Build 0.3601 0.4003
------------------------------
ENVIRONMENT AND OTHER CONTEXT
------------------------------
Environment variables:
AUTOMATED_TESTING = 1
COMSPEC = C:\Windows\system32\cmd.exe
NUMBER_OF_PROCESSORS = 4
PATH = C:\Program Files (x86)\NVIDIA Corporation\PhysX\Common;C:\Windows\system32;C:\Windows;C:\Windows\System32\Wbem;C:\Windows\System32\WindowsPowerShell\v1.0\;C:\Program Files (x86)\ATI Technologies\ATI.ACE\Core-Static;C:\Program Files\MySQL\MySQL Server 5.5\bin;c:\Program Files (x86)\Microsoft SQL Server\100\Tools\Binn\;c:\Program Files\Microsoft SQL Server\100\Tools\Binn\;c:\Program Files\Microsoft SQL Server\100\DTS\Binn\;C:\strawberry\c\bin;C:\strawberry\perl\site\bin;C:\strawberry\perl\bin
PERL5LIB = C:\strawberry\cpan\build\Data-Section-Simple-0.03-CL_yW_/blib/arch;C:\strawberry\cpan\build\Data-Section-Simple-0.03-CL_yW_/blib/lib
PERL5OPT =
PERL5_CPANPLUS_IS_RUNNING = 10252
PERL5_CPAN_IS_RUNNING = 10252
PERL5_CPAN_IS_RUNNING_IN_RECURSION = 8732,10252
PERL_CR_SMOKER_CURRENT = Task-XNLSoar-Graphing-0.03
PERL_EXTUTILS_AUTOINSTALL = --defaultdeps
PERL_JSON_BACKEND = JSON::XS
PERL_MM_USE_DEFAULT = 1
PERL_YAML_BACKEND = YAML
PROCESSOR_IDENTIFIER = AMD64 Family 16 Model 4 Stepping 3, AuthenticAMD
TEMP = C:\Users\MMUSGR~1\AppData\Local\Temp
TERM = dumb
Perl special variables (and OS-specific diagnostics, for MSWin32):
$^X = C:\strawberry\perl\bin\perl.exe
$UID/$EUID = 0 / 0
$GID = 0
$EGID = 0
Win32::GetOSName = Win7
Win32::GetOSVersion = Service Pack 1, 6, 1, 7601, 2, 1, 0, 768, 1
Win32::FsType = NTFS
Win32::IsAdminUser = 0
Perl module toolchain versions installed:
Module Have
------------------- --------
CPAN 1.9800
CPAN::Meta 2.120921
Cwd 3.39_02
ExtUtils::CBuilder 0.280206
ExtUtils::Command 1.17
ExtUtils::Install 1.58
ExtUtils::MakeMaker 6.63_02
ExtUtils::Manifest 1.61
ExtUtils::ParseXS 3.16
File::Spec 3.39_02
JSON 2.53
JSON::PP 2.27200
Module::Build 0.4003
Module::Signature n/a
Parse::CPAN::Meta 1.4404
Test::Harness 3.25
Test::More 0.98
YAML 0.84
YAML::Syck 1.21
version 0.9901
--
Summary of my perl5 (revision 5 version 16 subversion 2) configuration:
Platform:
osname=MSWin32, osvers=4.0, archname=MSWin32-x64-multi-thread
uname='Win32 strawberry-perl 5.16.2.1 #1 Fri Nov 2 03:03:35 2012 x64'
config_args='undef'
hint=recommended, useposix=true, d_sigaction=undef
useithreads=define, usemultiplicity=define
useperlio=define, d_sfio=undef, uselargefiles=define, usesocks=undef
use64bitint=define, use64bitall=undef, uselongdouble=undef
usemymalloc=n, bincompat5005=undef
Compiler:
cc='gcc', ccflags =' -s -O2 -DWIN32 -DWIN64 -DCONSERVATIVE -DPERL_TEXTMODE_SCRIPTS -DPERL_IMPLICIT_CONTEXT -DPERL_IMPLICIT_SYS -fno-strict-aliasing -mms-bitfields',
optimize='-s -O2',
cppflags='-DWIN32'
ccversion='', gccversion='4.6.3', gccosandvers=''
intsize=4, longsize=4, ptrsize=8, doublesize=8, byteorder=12345678
d_longlong=define, longlongsize=8, d_longdbl=define, longdblsize=12
ivtype='long long', ivsize=8, nvtype='double', nvsize=8, Off_t='long long', lseeksize=8
alignbytes=8, prototype=define
Linker and Libraries:
ld='g++', ldflags ='-s -L"C:\strawberry\perl\lib\CORE" -L"C:\strawberry\c\lib"'
libpth=C:\strawberry\c\lib C:\strawberry\c\x86_64-w64-mingw32\lib
libs=-lmoldname -lkernel32 -luser32 -lgdi32 -lwinspool -lcomdlg32 -ladvapi32 -lshell32 -lole32 -loleaut32 -lnetapi32 -luuid -lws2_32 -lmpr -lwinmm -lversion -lodbc32 -lodbccp32 -lcomctl32
perllibs=-lmoldname -lkernel32 -luser32 -lgdi32 -lwinspool -lcomdlg32 -ladvapi32 -lshell32 -lole32 -loleaut32 -lnetapi32 -luuid -lws2_32 -lmpr -lwinmm -lversion -lodbc32 -lodbccp32 -lcomctl32
libc=, so=dll, useshrplib=true, libperl=libperl516.a
gnulibc_version=''
Dynamic Linking:
dlsrc=dl_win32.xs, dlext=dll, d_dlsymun=undef, ccdlflags=' '
cccdlflags=' ', lddlflags='-mdll -s -L"C:\strawberry\perl\lib\CORE" -L"C:\strawberry\c\lib"'
Characteristics of this binary (from libperl):
Compile-time options: HAS_TIMES HAVE_INTERP_INTERN MULTIPLICITY
PERLIO_LAYERS PERL_DONT_CREATE_GVSV
PERL_IMPLICIT_CONTEXT PERL_IMPLICIT_SYS
PERL_MALLOC_WRAP PERL_PRESERVE_IVUV PL_OP_SLAB_ALLOC
USE_64_BIT_INT USE_ITHREADS USE_LARGE_FILES
USE_LOCALE USE_LOCALE_COLLATE USE_LOCALE_CTYPE
USE_LOCALE_NUMERIC USE_PERLIO USE_PERL_ATOF
Built under MSWin32
Compiled at Nov 2 2012 03:12:17
%ENV:
PERL5LIB="C:\strawberry\cpan\build\Data-Section-Simple-0.03-CL_yW_/blib/arch;C:\strawberry\cpan\build\Data-Section-Simple-0.03-CL_yW_/blib/lib"
PERL5_CPANPLUS_IS_RUNNING="10252"
PERL5_CPAN_IS_RUNNING="10252"
PERL5_CPAN_IS_RUNNING_IN_RECURSION="8732,10252"
PERL_CR_SMOKER_CURRENT="Task-XNLSoar-Graphing-0.03"
PERL_EXTUTILS_AUTOINSTALL="--defaultdeps"
PERL_JSON_BACKEND="JSON::XS"
PERL_MM_USE_DEFAULT="1"
PERL_YAML_BACKEND="YAML"
@INC:
C:\strawberry\cpan\build\Data-Section-Simple-0.03-CL_yW_/blib/arch
C:\strawberry\cpan\build\Data-Section-Simple-0.03-CL_yW_/blib/lib
C:/strawberry/perl/site/lib
C:/strawberry/perl/vendor/lib
C:/strawberry/perl/lib
.