HTTP-AnyUA v0.904 Perl 5 v5.10.1 MSWin32-x86-multi-thread

Status
Pass
From
NONAME
Dist
HTTP-AnyUA v0.904
Platform
Perl 5 v5.10.1 MSWin32-x86-multi-thread
Date
2022-03-31 13:36:14
ID
a26cf846-6caa-1014-a178-b004032c038b
This distribution has been tested as part of the CPAN Testers
project, supporting the Perl programming language.  See
http://wiki.cpantesters.org/ for more information or email
questions to cpan-testers-discuss@perl.org


--
Dear CCM,

This is a computer-generated report for HTTP-AnyUA-0.904
on perl 5.10.1, created by App::cpanminus::reporter 0.17 (1.7045).

Thank you for uploading your work to CPAN.  Congratulations!
All tests were successful.

Sections of this report:

    * Tester comments
    * Program output
    * Prerequisites
    * Environment and other context

------------------------------
TESTER COMMENTS
------------------------------

Additional comments from tester:

none provided

------------------------------
PROGRAM OUTPUT
------------------------------

Output from '':

Building and testing HTTP-AnyUA-0.904
cp lib/HTTP/AnyUA/Backend/Net/Curl/Easy.pm blib\lib\HTTP\AnyUA\Backend\Net\Curl\Easy.pm
cp lib/HTTP/AnyUA/Backend.pm blib\lib\HTTP\AnyUA\Backend.pm
cp lib/HTTP/AnyUA/Backend/Furl.pm blib\lib\HTTP\AnyUA\Backend\Furl.pm
cp lib/HTTP/AnyUA/Backend/AnyEvent/HTTP.pm blib\lib\HTTP\AnyUA\Backend\AnyEvent\HTTP.pm
cp lib/HTTP/AnyUA.pm blib\lib\HTTP\AnyUA.pm
cp lib/HTTP/AnyUA/Middleware/RequestHeaders.pm blib\lib\HTTP\AnyUA\Middleware\RequestHeaders.pm
cp lib/HTTP/AnyUA/Util.pm blib\lib\HTTP\AnyUA\Util.pm
cp lib/HTTP/AnyUA/Middleware/ContentLength.pm blib\lib\HTTP\AnyUA\Middleware\ContentLength.pm
cp lib/HTTP/AnyUA/Middleware.pm blib\lib\HTTP\AnyUA\Middleware.pm
cp lib/HTTP/AnyUA/Middleware/Runtime.pm blib\lib\HTTP\AnyUA\Middleware\Runtime.pm
cp lib/HTTP/AnyUA/Backend/LWP/UserAgent.pm blib\lib\HTTP\AnyUA\Backend\LWP\UserAgent.pm
cp lib/HTTP/AnyUA/Backend/HTTP/AnyUA.pm blib\lib\HTTP\AnyUA\Backend\HTTP\AnyUA.pm
cp lib/HTTP/AnyUA/Backend/HTTP/Tiny.pm blib\lib\HTTP\AnyUA\Backend\HTTP\Tiny.pm
cp lib/HTTP/AnyUA/Backend/Mojo/UserAgent.pm blib\lib\HTTP\AnyUA\Backend\Mojo\UserAgent.pm
C:\"Strawberry\perl\bin\perl.exe" "-MExtUtils::Command::MM" "-MTest::Harness" "-e" "undef *Test::Harness::Switches; test_harness(0, 'blib\lib', 'blib\arch')" t/*.t
t/00-compile.t ..................... ok
# 
# Versions for all modules listed in MYMETA.json (including optional ones):
# 
# === Configure Requires ===
# 
#     Module              Want Have
#     ------------------- ---- ----
#     ExtUtils::MakeMaker  any 7.64
# 
# === Build Requires ===
# 
#     Module              Want Have
#     ------------------- ---- ----
#     ExtUtils::MakeMaker  any 7.64
# 
# === Test Requires ===
# 
#     Module              Want     Have
#     ------------------- ---- --------
#     ExtUtils::MakeMaker  any     7.64
#     File::Spec           any     3.62
#     IO::Handle           any     1.28
#     IPC::Open3           any     1.04
#     Test2::API           any 1.302190
#     Test::Exception      any     0.43
#     Test::More           any 1.302190
#     lib                  any     0.62
#     namespace::clean     any     0.27
# 
# === Test Recommends ===
# 
#     Module         Want     Have
#     ---------- -------- --------
#     CPAN::Meta 2.120900 2.150010
# 
# === Test Suggests ===
# 
#     Module          Want    Have
#     --------------- ---- -------
#     AnyEvent::HTTP   any    2.23
#     Furl             any    3.11
#     HTTP::Tiny       any   0.080
#     JSON             any    4.05
#     LWP::UserAgent   any    6.35
#     Mojo::UserAgent  any missing
#     Net::Curl::Easy  any missing
#     Plack::Runner    any   undef
#     Starman          any missing
# 
# === Runtime Requires ===
# 
#     Module         Want   Have
#     -------------- ---- ------
#     Carp            any   1.50
#     Exporter        any   5.74
#     Fcntl           any   1.06
#     Future          any   0.48
#     MIME::Base64    any   3.13
#     Module::Loader  any   0.04
#     Scalar::Util    any   1.62
#     Time::HiRes     any 1.9741
#     Time::Local     any 1.2000
#     bytes           any   1.03
#     parent          any  0.234
#     strict          any   1.04
#     warnings        any   1.06
# 
# === Runtime Recommends ===
# 
#     Module     Want  Have
#     ---------- ---- -----
#     HTTP::Tiny  any 0.080
# 
t/00-report-prereqs.t .............. ok
t/01-new.t ......................... ok
t/02-shortcuts.t ................... ok
t/03-post_form.t ................... ok
    # Can't locate Mojo/UserAgent.pm in @INC (@INC contains: t/lib C:\home\tennis\.cpanm\work\1648733696.4688\HTTP-AnyUA-0.904\blib\lib C:\home\tennis\.cpanm\work\1648733696.4688\HTTP-AnyUA-0.904\blib\arch C:\home\tennis\perl5\lib\perl5/MSWin32-x86-multi-thread C:\home\tennis\perl5\lib\perl5 C:/Strawberry/perl/lib C:/Strawberry/perl/site/lib C:\strawberry\perl\vendor\lib .) at (eval 80) line 3.
    # Can't locate Net/Curl/Easy.pm in @INC (@INC contains: t/lib C:\home\tennis\.cpanm\work\1648733696.4688\HTTP-AnyUA-0.904\blib\lib C:\home\tennis\.cpanm\work\1648733696.4688\HTTP-AnyUA-0.904\blib\arch C:\home\tennis\perl5\lib\perl5/MSWin32-x86-multi-thread C:\home\tennis\perl5\lib\perl5 C:/Strawberry/perl/lib C:/Strawberry/perl/site/lib C:\strawberry\perl\vendor\lib .) at (eval 81) line 3.
t/04-internal-exception.t .......... ok
'-' ‚́A“à•”ƒRƒ}ƒ“ƒh‚Ü‚½‚ÍŠO•”ƒRƒ}ƒ“ƒhA
‘€ì‰Â”\‚ȃvƒƒOƒ‰ƒ€‚Ü‚½‚̓oƒbƒ` ƒtƒ@ƒCƒ‹‚Æ‚µ‚Ä”FŽ¯‚³‚ê‚Ä‚¢‚Ü‚¹‚ñB
# Could not start test server at t/lib/Server.pm line 100.
t/10-get.t ......................... skipped: Could not start test server.
'-' ‚́A“à•”ƒRƒ}ƒ“ƒh‚Ü‚½‚ÍŠO•”ƒRƒ}ƒ“ƒhA
‘€ì‰Â”\‚ȃvƒƒOƒ‰ƒ€‚Ü‚½‚̓oƒbƒ` ƒtƒ@ƒCƒ‹‚Æ‚µ‚Ä”FŽ¯‚³‚ê‚Ä‚¢‚Ü‚¹‚ñB
# Could not start test server at t/lib/Server.pm line 100.
t/11-post.t ........................ skipped: Could not start test server.
'-' ‚́A“à•”ƒRƒ}ƒ“ƒh‚Ü‚½‚ÍŠO•”ƒRƒ}ƒ“ƒhA
‘€ì‰Â”\‚ȃvƒƒOƒ‰ƒ€‚Ü‚½‚̓oƒbƒ` ƒtƒ@ƒCƒ‹‚Æ‚µ‚Ä”FŽ¯‚³‚ê‚Ä‚¢‚Ü‚¹‚ñB
# Could not start test server at t/lib/Server.pm line 100.
t/12-put.t ......................... skipped: Could not start test server.
'-' ‚́A“à•”ƒRƒ}ƒ“ƒh‚Ü‚½‚ÍŠO•”ƒRƒ}ƒ“ƒhA
‘€ì‰Â”\‚ȃvƒƒOƒ‰ƒ€‚Ü‚½‚̓oƒbƒ` ƒtƒ@ƒCƒ‹‚Æ‚µ‚Ä”FŽ¯‚³‚ê‚Ä‚¢‚Ü‚¹‚ñB
# Could not start test server at t/lib/Server.pm line 100.
t/13-head.t ........................ skipped: Could not start test server.
'-' ‚́A“à•”ƒRƒ}ƒ“ƒh‚Ü‚½‚ÍŠO•”ƒRƒ}ƒ“ƒhA
‘€ì‰Â”\‚ȃvƒƒOƒ‰ƒ€‚Ü‚½‚̓oƒbƒ` ƒtƒ@ƒCƒ‹‚Æ‚µ‚Ä”FŽ¯‚³‚ê‚Ä‚¢‚Ü‚¹‚ñB
# Could not start test server at t/lib/Server.pm line 100.
t/14-delete.t ...................... skipped: Could not start test server.
'-' ‚́A“à•”ƒRƒ}ƒ“ƒh‚Ü‚½‚ÍŠO•”ƒRƒ}ƒ“ƒhA
‘€ì‰Â”\‚ȃvƒƒOƒ‰ƒ€‚Ü‚½‚̓oƒbƒ` ƒtƒ@ƒCƒ‹‚Æ‚µ‚Ä”FŽ¯‚³‚ê‚Ä‚¢‚Ü‚¹‚ñB
# Could not start test server at t/lib/Server.pm line 100.
t/15-custom-method.t ............... skipped: Could not start test server.
'-' ‚́A“à•”ƒRƒ}ƒ“ƒh‚Ü‚½‚ÍŠO•”ƒRƒ}ƒ“ƒhA
‘€ì‰Â”\‚ȃvƒƒOƒ‰ƒ€‚Ü‚½‚̓oƒbƒ` ƒtƒ@ƒCƒ‹‚Æ‚µ‚Ä”FŽ¯‚³‚ê‚Ä‚¢‚Ü‚¹‚ñB
# Could not start test server at t/lib/Server.pm line 100.
t/20-data_callback.t ............... skipped: Could not start test server.
'-' ‚́A“à•”ƒRƒ}ƒ“ƒh‚Ü‚½‚ÍŠO•”ƒRƒ}ƒ“ƒhA
‘€ì‰Â”\‚ȃvƒƒOƒ‰ƒ€‚Ü‚½‚̓oƒbƒ` ƒtƒ@ƒCƒ‹‚Æ‚µ‚Ä”FŽ¯‚³‚ê‚Ä‚¢‚Ü‚¹‚ñB
# Could not start test server at t/lib/Server.pm line 100.
t/21-basic-auth.t .................. skipped: Could not start test server.
'-' ‚́A“à•”ƒRƒ}ƒ“ƒh‚Ü‚½‚ÍŠO•”ƒRƒ}ƒ“ƒhA
‘€ì‰Â”\‚ȃvƒƒOƒ‰ƒ€‚Ü‚½‚̓oƒbƒ` ƒtƒ@ƒCƒ‹‚Æ‚µ‚Ä”FŽ¯‚³‚ê‚Ä‚¢‚Ü‚¹‚ñB
# Could not start test server at t/lib/Server.pm line 100.
t/22-redirects.t ................... skipped: Could not start test server.
'-' ‚́A“à•”ƒRƒ}ƒ“ƒh‚Ü‚½‚ÍŠO•”ƒRƒ}ƒ“ƒhA
‘€ì‰Â”\‚ȃvƒƒOƒ‰ƒ€‚Ü‚½‚̓oƒbƒ` ƒtƒ@ƒCƒ‹‚Æ‚µ‚Ä”FŽ¯‚³‚ê‚Ä‚¢‚Ü‚¹‚ñB
# Could not start test server at t/lib/Server.pm line 100.
t/23-content-coderef.t ............. skipped: Could not start test server.
t/40-middleware-content-length.t ... ok
t/40-middleware-request-headers.t .. ok
t/40-middleware-runtime.t .......... ok
    # Can't locate Mojo/UserAgent.pm in @INC (@INC contains: t/lib C:\home\tennis\.cpanm\work\1648733696.4688\HTTP-AnyUA-0.904\blib\lib C:\home\tennis\.cpanm\work\1648733696.4688\HTTP-AnyUA-0.904\blib\arch C:\home\tennis\perl5\lib\perl5/MSWin32-x86-multi-thread C:\home\tennis\perl5\lib\perl5 C:/Strawberry/perl/lib C:/Strawberry/perl/site/lib C:\strawberry\perl\vendor\lib .) at (eval 40) line 3.
t/50-future-subclass.t ............. ok
All tests successful.
Files=20, Tests=50, 19 wallclock secs ( 0.22 usr +  0.06 sys =  0.28 CPU)
Result: PASS

------------------------------
PREREQUISITES
------------------------------

Prerequisite modules loaded:

    No requirements found

------------------------------
ENVIRONMENT AND OTHER CONTEXT
------------------------------

Environment variables:

    COMSPEC = C:\windows\system32\cmd.exe
    NUMBER_OF_PROCESSORS = 4
    PATH = C:\home\tennis\perl5\bin;C:\windows\system32;C:\windows;C:\windows\System32\Wbem;C:\windows\System32\WindowsPowerShell\v1.0\;C:\Strawberry\c\bin;C:\Strawberry\perl\site\bin;C:\Strawberry\perl\bin
    PERL5LIB = C:\home\tennis\perl5\lib\perl5
    PERL_LOCAL_LIB_ROOT = C:\home\tennis\perl5
    PERL_MB_OPT = --install_base "C:\\home\\tennis\\perl5"
    PERL_MM_OPT = INSTALL_BASE=C:\\home\\tennis\\perl5
    PROCESSOR_IDENTIFIER = x86 Family 6 Model 37 Stepping 5, GenuineIntel
    TEMP = C:\Users\user\AppData\Local\Temp
    TERM = dumb
    TUGI_PERLVER = 5.010001

Perl special variables (and OS-specific diagnostics, for MSWin32):

    EGID = 0
    EUID = 0
    EXECUTABLE_NAME = C:\Strawberry\perl\bin\perl.exe
    GID = 0
    UID = 0
    Win32::FsType = NTFS
    Win32::GetOSName = Win7
    Win32::GetOSVersion = Service Pack 1, 6, 1, 7601, 2, 1, 0, 256, 1
    Win32::IsAdminUser = 0

Perl module toolchain versions installed:

    Module              Have    
    ------------------- --------
    CPAN                2.28    
    CPAN::Meta          2.150010
    Cwd                 3.62    
    ExtUtils::CBuilder  0.280224
    ExtUtils::Command   7.64    
    ExtUtils::Install   2.14    
    ExtUtils::MakeMaker 7.64    
    ExtUtils::Manifest  1.70    
    ExtUtils::ParseXS   3.44    
    File::Spec          3.62    
    JSON                4.05    
    JSON::PP            4.07    
    Module::Build       0.42_28 
    Module::Signature   0.88    
    Parse::CPAN::Meta   2.150010
    Test::Harness       3.42    
    Test::More          1.302190
    YAML                1.26    
    YAML::Syck          n/a     
    version             0.9924  


--

Summary of my perl5 (revision 5 version 10 subversion 1) configuration:
   
  Platform:
    osname=MSWin32, osvers=5.1, archname=MSWin32-x86-multi-thread
    uname='Win32 strawberryperl 5.10.1.5 #1 Sun May 15 09:44:53 2011 i386'
    config_args='undef'
    hint=recommended, useposix=true, d_sigaction=undef
    useithreads=define, usemultiplicity=define
    useperlio=define, d_sfio=undef, uselargefiles=define, usesocks=undef
    use64bitint=undef, use64bitall=undef, uselongdouble=undef
    usemymalloc=n, bincompat5005=undef
  Compiler:
    cc='gcc', ccflags =' -s -O2 -DWIN32 -DHAVE_DES_FCRYPT  -DUSE_SITECUSTOMIZE -DPERL_IMPLICIT_CONTEXT -DPERL_IMPLICIT_SYS -fno-strict-aliasing -DPERL_MSVCRT_READFIX',
    optimize='-s -O2',
    cppflags='-DWIN32'
    ccversion='', gccversion='3.4.5', gccosandvers=''
    intsize=4, longsize=4, ptrsize=4, doublesize=8, byteorder=1234
    d_longlong=undef, longlongsize=8, d_longdbl=define, longdblsize=12
    ivtype='long', ivsize=4, nvtype='double', nvsize=8, Off_t='long long', lseeksize=8
    alignbytes=8, prototype=define
  Linker and Libraries:
    ld='g++', ldflags ='-s -L"C:\strawberry\perl\lib\CORE" -L"C:\strawberry\c\lib"'
    libpth=C:\strawberry\c\lib
    libs= -lmoldname -lkernel32 -luser32 -lgdi32 -lwinspool -lcomdlg32 -ladvapi32 -lshell32 -lole32 -loleaut32 -lnetapi32 -luuid -lws2_32 -lmpr -lwinmm -lversion -lodbc32 -lodbccp32
    perllibs= -lmoldname -lkernel32 -luser32 -lgdi32 -lwinspool -lcomdlg32 -ladvapi32 -lshell32 -lole32 -loleaut32 -lnetapi32 -luuid -lws2_32 -lmpr -lwinmm -lversion -lodbc32 -lodbccp32
    libc=, so=dll, useshrplib=true, libperl=libperl510.a
    gnulibc_version=''
  Dynamic Linking:
    dlsrc=dl_win32.xs, dlext=dll, d_dlsymun=undef, ccdlflags=' '
    cccdlflags=' ', lddlflags='-mdll -s -L"C:\strawberry\perl\lib\CORE" -L"C:\strawberry\c\lib"'


Characteristics of this binary (from libperl): 
  Compile-time options: MULTIPLICITY PERL_DONT_CREATE_GVSV
                        PERL_IMPLICIT_CONTEXT PERL_IMPLICIT_SYS
                        PERL_MALLOC_WRAP PL_OP_SLAB_ALLOC USE_ITHREADS
                        USE_LARGE_FILES USE_PERLIO USE_SITECUSTOMIZE
  Built under MSWin32
  Compiled at May 15 2011 09:50:23
  %ENV:
    PERL5LIB="C:\home\tennis\perl5\lib\perl5"
    PERL_LOCAL_LIB_ROOT="C:\home\tennis\perl5"
    PERL_MB_OPT="--install_base "C:\\home\\tennis\\perl5""
    PERL_MM_OPT="INSTALL_BASE=C:\\home\\tennis\\perl5"
  @INC:
    C:\home\tennis\perl5\lib\perl5/MSWin32-x86-multi-thread
    C:\home\tennis\perl5\lib\perl5
    C:/Strawberry/perl/lib
    C:/Strawberry/perl/site/lib
    C:\strawberry\perl\vendor\lib
    .