Crypt-OpenSSL-RSA v0.30 Perl 5 v5.26.2 amd64-freebsd-thread-multi
- Status
- Pass
- From
- Slaven Rezić (SREZIC)
- Dist
-
Crypt-OpenSSL-RSA v0.30
- Platform
- Perl 5 v5.26.2 amd64-freebsd-thread-multi
- Date
- 2018-06-09 07:42:17
- ID
- a26d8462-6bb8-11e8-bca4-d343fbaa350a
This distribution has been tested as part of the CPAN Testers
project, supporting the Perl programming language. See
http://wiki.cpantesters.org/ for more information or email
questions to cpan-testers-discuss@perl.org
--
Dear Todd Rinaldo,
This is a computer-generated report for Crypt-OpenSSL-RSA-0.30
on perl 5.26.2, created by CPAN-Reporter-1.2018.
Thank you for uploading your work to CPAN. Congratulations!
All tests were successful.
Sections of this report:
* Tester comments
* Program output
* Prerequisites
* Environment and other context
------------------------------
TESTER COMMENTS
------------------------------
Additional comments from tester:
none provided
------------------------------
PROGRAM OUTPUT
------------------------------
Output from '/usr/bin/make test':
"/usr/local/bin/perl5.26.2" -MExtUtils::Command::MM -e 'cp_nonempty' -- RSA.bs blib/arch/auto/Crypt/OpenSSL/RSA/RSA.bs 644
PERL_DL_NONLAZY=1 "/usr/local/bin/perl5.26.2" "-MExtUtils::Command::MM" "-MTest::Harness" "-e" "undef *Test::Harness::Switches; test_harness(0, 'blib/lib', 'blib/arch')" t/*.t
t/bignum.t .................. skipped: Crypt::OpenSSL::Bignum required for bignum tests
t/format.t .................. ok
t/rsa.t ..................... ok
t/z_kwalitee.t .............. skipped: This test is only run for the module author
t/z_meta.t .................. skipped: This test is only run for the module author
t/z_perl_minimum_version.t .. skipped: Author tests not required for installation
t/z_pod-coverage.t .......... skipped: This test is only run for the module author
t/z_pod.t ................... skipped: This test is only run for the module author
All tests successful.
Files=8, Tests=73, 1 wallclock secs ( 0.02 usr 0.05 sys + 0.55 cusr 0.23 csys = 0.84 CPU)
Result: PASS
------------------------------
PREREQUISITES
------------------------------
Prerequisite modules loaded:
requires:
Module Need Have
---------------------- ----- --------
Crypt::OpenSSL::Random 0 0.15
perl 5.006 5.026002
Test::More 0 1.302073
build_requires:
Module Need Have
---------------------- ----- --------
ExtUtils::MakeMaker 0 7.24
configure_requires:
Module Need Have
---------------------- ----- --------
Crypt::OpenSSL::Guess 0.11 0.11
ExtUtils::MakeMaker 0 7.24
------------------------------
ENVIRONMENT AND OTHER CONTEXT
------------------------------
Environment variables:
PATH = /usr/local/bin:/usr/bin:/bin:/usr/local/sbin:/usr/sbin:/sbin:/home/cpansand/bin/freebsd12.0:/home/cpansand/bin/sh:/home/cpansand/bin:/usr/games:/home/cpansand/devel:/home/eserte/src/srezic-misc/scripts
PERL5LIB = /home/cpansand/.cpan/build/2018060915/Crypt-OpenSSL-Random-0.15-0/blib/arch:/home/cpansand/.cpan/build/2018060915/Crypt-OpenSSL-Random-0.15-0/blib/lib:/home/cpansand/.cpan/build/2018060915/Crypt-OpenSSL-Guess-0.11-0/blib/arch:/home/cpansand/.cpan/build/2018060915/Crypt-OpenSSL-Guess-0.11-0/blib/lib:/home/cpansand/.cpan/build/2018060915/Crypt-OpenSSL-DSA-0.19-0/blib/arch:/home/cpansand/.cpan/build/2018060915/Crypt-OpenSSL-DSA-0.19-0/blib/lib:/home/cpansand/.cpan/build/2018060915/Class-Accessor-0.51-0/blib/arch:/home/cpansand/.cpan/build/2018060915/Class-Accessor-0.51-0/blib/lib
PERL5OPT =
PERL5_CPANPLUS_IS_RUNNING = 59391
PERL5_CPAN_IS_RUNNING = 59391
PERL5_CPAN_IS_RUNNING_IN_RECURSION = 59376,59391
PERLDOC = -MPod::Perldoc::ToTextOverstrike
PERL_BATCH = yes
PERL_CANARY_STABILITY_NOPROMPT = 1
PERL_CPAN_REPORTER_CONFIG = /var/tmp/cpansmoker-1023/2018060915/cpanreporter_000_config.ini
PERL_EXTUTILS_AUTOINSTALL = --defaultdeps
PERL_USE_UNSAFE_INC = 1
SHELL = /usr/local/bin/zsh
TERM = screen
TMPDIR = /var/tmp/cpansmoker-1023/2018060915
Perl special variables (and OS-specific diagnostics, for MSWin32):
$^X = /usr/local/bin/perl5.26.2
$UID/$EUID = 1023 / 1023
$GID = 1023 1023
$EGID = 1023 1023
Perl module toolchain versions installed:
Module Have
------------------- ----------
CPAN 2.18
CPAN::Meta 2.150010
Cwd 3.67
ExtUtils::CBuilder 0.280225
ExtUtils::Command 7.24
ExtUtils::Install 2.04
ExtUtils::MakeMaker 7.24
ExtUtils::Manifest 1.70
ExtUtils::ParseXS 3.34
File::Spec 3.67
JSON n/a
JSON::PP 2.27400_02
Module::Build n/a
Module::Signature n/a
Parse::CPAN::Meta 2.150010
Test::Harness 3.38
Test::More 1.302073
YAML 1.24
YAML::Syck 1.27
version 0.9917
--
Summary of my perl5 (revision 5 version 26 subversion 2) configuration:
Platform:
osname=freebsd
osvers=12.0-current
archname=amd64-freebsd-thread-multi
uname='freebsd head-amd64-default-job-01 12.0-current freebsd 12.0-current 1200062 amd64 '
config_args='-sde -Dprefix=/usr/local -Dlibperl=libperl.so.5.26.2 -Darchlib=/usr/local/lib/perl5/5.26/mach -Dprivlib=/usr/local/lib/perl5/5.26 -Dman3dir=/usr/local/lib/perl5/5.26/perl/man/man3 -Dman1dir=/usr/local/lib/perl5/5.26/perl/man/man1 -Dsitearch=/usr/local/lib/perl5/site_perl/mach/5.26 -Dsitelib=/usr/local/lib/perl5/site_perl -Dscriptdir=/usr/local/bin -Dsiteman3dir=/usr/local/lib/perl5/site_perl/man/man3 -Dsiteman1dir=/usr/local/lib/perl5/site_perl/man/man1 -Ui_malloc -Ui_iconv -Uinstallusrbinperl -Dusenm=n -Dcc=cc -Duseshrplib -Dinc_version_list=none -Dcf_by=perl -Dcf_email=perl@FreeBSD.org -Dcf_time=Sat Apr 14 11:27:49 UTC 2018 -Alddlflags=-L/wrkdirs/usr/ports/lang/perl5.26/work/perl-5.26.2 -L/usr/local/lib/perl5/5.26/mach/CORE -lperl -Dshrpldflags=$(LDDLFLAGS:N-L/wrkdirs/usr/ports/lang/perl5.26/work/perl-5.26.2:N-L/usr/local/lib/perl5/5.26/mach/CORE:N-lperl) -Wl,-soname,$(LIBPERL:R) -Doptimize=-O2 -pipe -fstack-protector -fno-strict-aliasing -Dusedtrace -Ui_gdbm -Dusemultiplicity=y -Duse64bitint -Dusemymalloc=n -Dusethreads=y'
hint=recommended
useposix=true
d_sigaction=define
useithreads=define
usemultiplicity=define
use64bitint=define
use64bitall=define
uselongdouble=undef
usemymalloc=n
default_inc_excludes_dot=define
bincompat5005=undef
Compiler:
cc='cc'
ccflags ='-DHAS_FPSETMASK -DHAS_FLOATINGPOINT_H -fno-strict-aliasing -pipe -fstack-protector-strong -I/usr/local/include -D_FORTIFY_SOURCE=2'
optimize='-O2 -pipe -fstack-protector -fno-strict-aliasing'
cppflags='-DHAS_FPSETMASK -DHAS_FLOATINGPOINT_H -fno-strict-aliasing -pipe -fstack-protector-strong -I/usr/local/include'
ccversion=''
gccversion='4.2.1 Compatible FreeBSD Clang 6.0.0 (tags/RELEASE_600/final 326565)'
gccosandvers=''
intsize=4
longsize=8
ptrsize=8
doublesize=8
byteorder=12345678
doublekind=3
d_longlong=define
longlongsize=8
d_longdbl=define
longdblsize=16
longdblkind=3
ivtype='long'
ivsize=8
nvtype='double'
nvsize=8
Off_t='off_t'
lseeksize=8
alignbytes=8
prototype=define
Linker and Libraries:
ld='cc'
ldflags ='-pthread -Wl,-E -fstack-protector-strong -L/usr/local/lib'
libpth=/usr/lib /usr/local/lib /usr/lib/clang/6.0.0/lib /usr/lib
libs=-lpthread -lm -lcrypt -lutil
perllibs=-lpthread -lm -lcrypt -lutil
libc=
so=so
useshrplib=true
libperl=libperl.so.5.26.2
gnulibc_version=''
Dynamic Linking:
dlsrc=dl_dlopen.xs
dlext=so
d_dlsymun=undef
ccdlflags=' -Wl,-R/usr/local/lib/perl5/5.26/mach/CORE'
cccdlflags='-DPIC -fPIC'
lddlflags='-shared -L/usr/local/lib/perl5/5.26/mach/CORE -lperl -L/usr/local/lib -fstack-protector-strong'
Characteristics of this binary (from libperl):
Compile-time options:
HAS_TIMES
MULTIPLICITY
PERLIO_LAYERS
PERL_COPY_ON_WRITE
PERL_DONT_CREATE_GVSV
PERL_IMPLICIT_CONTEXT
PERL_MALLOC_WRAP
PERL_OP_PARENT
PERL_PRESERVE_IVUV
USE_64_BIT_ALL
USE_64_BIT_INT
USE_ITHREADS
USE_LARGE_FILES
USE_LOCALE
USE_LOCALE_COLLATE
USE_LOCALE_CTYPE
USE_LOCALE_NUMERIC
USE_LOCALE_TIME
USE_PERLIO
USE_PERL_ATOF
USE_REENTRANT_API
Built under freebsd
%ENV:
PERL5LIB="/home/cpansand/.cpan/build/2018060915/Crypt-OpenSSL-Random-0.15-0/blib/arch:/home/cpansand/.cpan/build/2018060915/Crypt-OpenSSL-Random-0.15-0/blib/lib:/home/cpansand/.cpan/build/2018060915/Crypt-OpenSSL-Guess-0.11-0/blib/arch:/home/cpansand/.cpan/build/2018060915/Crypt-OpenSSL-Guess-0.11-0/blib/lib:/home/cpansand/.cpan/build/2018060915/Crypt-OpenSSL-DSA-0.19-0/blib/arch:/home/cpansand/.cpan/build/2018060915/Crypt-OpenSSL-DSA-0.19-0/blib/lib:/home/cpansand/.cpan/build/2018060915/Class-Accessor-0.51-0/blib/arch:/home/cpansand/.cpan/build/2018060915/Class-Accessor-0.51-0/blib/lib"
PERL5OPT=""
PERL5_CPANPLUS_IS_RUNNING="59391"
PERL5_CPAN_IS_RUNNING="59391"
PERL5_CPAN_IS_RUNNING_IN_RECURSION="59376,59391"
PERLDOC="-MPod::Perldoc::ToTextOverstrike"
PERL_BATCH="yes"
PERL_CANARY_STABILITY_NOPROMPT="1"
PERL_CPAN_REPORTER_CONFIG="/var/tmp/cpansmoker-1023/2018060915/cpanreporter_000_config.ini"
PERL_EXTUTILS_AUTOINSTALL="--defaultdeps"
PERL_USE_UNSAFE_INC="1"
@INC:
/home/cpansand/.cpan/build/2018060915/Crypt-OpenSSL-Random-0.15-0/blib/arch
/home/cpansand/.cpan/build/2018060915/Crypt-OpenSSL-Random-0.15-0/blib/lib
/home/cpansand/.cpan/build/2018060915/Crypt-OpenSSL-Guess-0.11-0/blib/arch
/home/cpansand/.cpan/build/2018060915/Crypt-OpenSSL-Guess-0.11-0/blib/lib
/home/cpansand/.cpan/build/2018060915/Crypt-OpenSSL-DSA-0.19-0/blib/arch
/home/cpansand/.cpan/build/2018060915/Crypt-OpenSSL-DSA-0.19-0/blib/lib
/home/cpansand/.cpan/build/2018060915/Class-Accessor-0.51-0/blib/arch
/home/cpansand/.cpan/build/2018060915/Class-Accessor-0.51-0/blib/lib
/usr/local/lib/perl5/site_perl/mach/5.26
/usr/local/lib/perl5/site_perl
/usr/local/lib/perl5/5.26/mach
/usr/local/lib/perl5/5.26
.