FTN-Outbound-BSO v20180823 Perl 5 v5.26.1 x86_64-linux

Status
Pass
From
Nigel Horne
Dist
FTN-Outbound-BSO v20180823
Platform
Perl 5 v5.26.1 x86_64-linux
Date
2018-08-23 07:46:25
ID
a2c52bec-a6a8-11e8-8fb1-ef5133556b3f
This distribution has been tested as part of the CPAN Testers
project, supporting the Perl programming language.  See
http://wiki.cpantesters.org/ for more information or email
questions to cpan-testers-discuss@perl.org


--
Dear Valery Kalesnik,

This is a computer-generated report for FTN-Outbound-BSO-20180823
on perl 5.26.1, created by CPAN-Reporter-1.2018.

Thank you for uploading your work to CPAN.  Congratulations!
All tests were successful.

Sections of this report:

    * Tester comments
    * Program output
    * Prerequisites
    * Environment and other context

------------------------------
TESTER COMMENTS
------------------------------

Additional comments from tester:

this report is from an automated smoke testing program
and was not reviewed by a human for accuracy

------------------------------
PROGRAM OUTPUT
------------------------------

Output from '/usr/bin/make test':

PERL_DL_NONLAZY=1 "/home/njh/perl5/perlbrew/perls/perl-5.26.1/bin/perl5.26.1" "-MExtUtils::Command::MM" "-MTest::Harness" "-e" "undef *Test::Harness::Switches; test_harness(0, 'blib/lib', 'blib/arch')" t/*.t
# Testing FTN::Outbound::BSO 20180823, Perl 5.026001, /home/njh/perl5/perlbrew/perls/perl-5.26.1/bin/perl5.26.1
t/00-load.t .................... ok
t/01-select_domain_zone_dir.t .. ok
t/author-pod-coverage.t ........ skipped: these tests are for testing by the author
t/author-pod-syntax.t .......... skipped: these tests are for testing by the author
t/02-select_points_dir.t ....... ok
All tests successful.
Files=5, Tests=20,  0 wallclock secs ( 0.05 usr  0.01 sys +  0.46 cusr  0.11 csys =  0.63 CPU)
Result: PASS

------------------------------
PREREQUISITES
------------------------------

Prerequisite modules loaded:

requires:

    Module                        Need  Have    
    ----------------------------- ----- --------
    Encode                        0     2.88    
    Encode::Locale                0     1.05    
    Fcntl                         0     1.13    
    File::Spec                    0     3.67    
    FTN::Addr                     0     20160303
    FTN::Outbound::Reference_file 0     20170409
    Log::Log4perl                 0     1.49    
    perl                          5.010 5.026001
    Scalar::Util                  0     1.46_02 
    strict                        0     1.11    
    utf8                          0     1.19    
    warnings                      0     1.37    

build_requires:

    Module                        Need  Have    
    ----------------------------- ----- --------
    ExtUtils::MakeMaker           0     7.30    
    lib                           0     0.64    
    Test::More                    0     1.302136

configure_requires:

    Module                        Need  Have    
    ----------------------------- ----- --------
    ExtUtils::MakeMaker           0     7.30    


------------------------------
ENVIRONMENT AND OTHER CONTEXT
------------------------------

Environment variables:

    AUTOMATED_TESTING = 1
    HARNESS_OPTIONS = j2
    LANG = en_GB.UTF-8
    LANGUAGE = en_GB:en
    PATH = /home/njh/perl5/perlbrew/bin:/home/njh/perl5/perlbrew/perls/perl-5.26.1/bin:/usr/bin:/bin:/home/njh/src/njh/smoker/bin
    PERL5LIB = /home/njh/.cpan/build/FTN-Outbound-Reference_file-20170409-3/blib/arch:/home/njh/.cpan/build/FTN-Outbound-Reference_file-20170409-3/blib/lib:/home/njh/.cpan/build/Log-Log4perl-1.49-3/blib/arch:/home/njh/.cpan/build/Log-Log4perl-1.49-3/blib/lib:/home/njh/.cpan/build/FTN-Addr-20160303-3/blib/arch:/home/njh/.cpan/build/FTN-Addr-20160303-3/blib/lib
    PERL5OPT = 
    PERL5_CPANPLUS_IS_RUNNING = 17727
    PERL5_CPAN_IS_RUNNING = 17727
    PERLBREW_HOME = /home/njh/.perlbrew
    PERLBREW_MANPATH = /home/njh/perl5/perlbrew/perls/perl-5.26.1/man
    PERLBREW_PATH = /home/njh/perl5/perlbrew/bin:/home/njh/perl5/perlbrew/perls/perl-5.26.1/bin
    PERLBREW_PERL = perl-5.26.1
    PERLBREW_ROOT = /home/njh/perl5/perlbrew
    PERLBREW_SHELLRC_VERSION = 0.83
    PERLBREW_VERSION = 0.83
    PERL_USE_UNSAFE_INC = 1
    SHELL = /bin/sh
    TEMP = /tmp/user/1000
    TMPDIR = /tmp/user/1000/testwrapper.17713

Perl special variables (and OS-specific diagnostics, for MSWin32):

    $^X = /home/njh/perl5/perlbrew/perls/perl-5.26.1/bin/perl5.26.1
    $UID/$EUID = 1000 / 1000
    $GID = 1000 4 24 25 29 30 44 46 103 108 116 127 1000
    $EGID = 1000 4 24 25 29 30 44 46 103 108 116 127 1000

Perl module toolchain versions installed:

    Module              Have      
    ------------------- ----------
    CPAN                2.18      
    CPAN::Meta          2.150010  
    Cwd                 3.67      
    ExtUtils::CBuilder  0.280225  
    ExtUtils::Command   7.30      
    ExtUtils::Install   2.06      
    ExtUtils::MakeMaker 7.30      
    ExtUtils::Manifest  1.70      
    ExtUtils::ParseXS   3.34      
    File::Spec          3.67      
    JSON                2.97001   
    JSON::PP            2.27400_02
    Module::Build       0.4224    
    Module::Signature   n/a       
    Parse::CPAN::Meta   2.150010  
    Test::Harness       3.38      
    Test::More          1.302136  
    YAML                1.26      
    YAML::Syck          1.30      
    version             0.9917    


--

Summary of my perl5 (revision 5 version 26 subversion 1) configuration:
   
  Platform:
    osname=linux
    osvers=4.11.0-1-amd64
    archname=x86_64-linux
    uname='linux compaq 4.11.0-1-amd64 #1 smp debian 4.11.6-1 (2017-06-19) x86_64 gnulinux '
    config_args='-de -Dprefix=/home/njh/perl5/perlbrew/perls/perl-5.26.1 -Dusedevel -Accflags= -Aeval:scriptdir=/home/njh/perl5/perlbrew/perls/perl-5.26.1/bin'
    hint=recommended
    useposix=true
    d_sigaction=define
    useithreads=undef
    usemultiplicity=undef
    use64bitint=define
    use64bitall=define
    uselongdouble=undef
    usemymalloc=n
    default_inc_excludes_dot=define
    bincompat5005=undef
  Compiler:
    cc='cc'
    ccflags ='-fwrapv -fno-strict-aliasing -pipe -fstack-protector-strong -I/usr/local/include -D_LARGEFILE_SOURCE -D_FILE_OFFSET_BITS=64 -D_FORTIFY_SOURCE=2'
    optimize='-O2'
    cppflags='-fwrapv -fno-strict-aliasing -pipe -fstack-protector-strong -I/usr/local/include'
    ccversion=''
    gccversion='7.2.0'
    gccosandvers=''
    intsize=4
    longsize=8
    ptrsize=8
    doublesize=8
    byteorder=12345678
    doublekind=3
    d_longlong=define
    longlongsize=8
    d_longdbl=define
    longdblsize=16
    longdblkind=3
    ivtype='long'
    ivsize=8
    nvtype='double'
    nvsize=8
    Off_t='off_t'
    lseeksize=8
    alignbytes=8
    prototype=define
  Linker and Libraries:
    ld='cc'
    ldflags =' -fstack-protector-strong -L/usr/local/lib'
    libpth=/usr/local/lib /usr/lib/gcc/x86_64-linux-gnu/7/include-fixed /usr/include/x86_64-linux-gnu /usr/lib /lib/x86_64-linux-gnu /lib/../lib /usr/lib/x86_64-linux-gnu /usr/lib/../lib /lib /lib64 /usr/lib64
    libs=-lpthread -lnsl -lgdbm -ldb -ldl -lm -lcrypt -lutil -lc -lgdbm_compat
    perllibs=-lpthread -lnsl -ldl -lm -lcrypt -lutil -lc
    libc=
    so=so
    useshrplib=false
    libperl=libperl.a
    gnulibc_version='2.24'
  Dynamic Linking:
    dlsrc=dl_dlopen.xs
    dlext=so
    d_dlsymun=undef
    ccdlflags='-Wl,-E'
    cccdlflags='-fPIC'
    lddlflags='-shared -O2 -L/usr/local/lib -fstack-protector-strong'


Characteristics of this binary (from libperl): 
  Compile-time options:
    HAS_TIMES
    PERLIO_LAYERS
    PERL_COPY_ON_WRITE
    PERL_DONT_CREATE_GVSV
    PERL_MALLOC_WRAP
    PERL_OP_PARENT
    PERL_PRESERVE_IVUV
    PERL_USE_DEVEL
    USE_64_BIT_ALL
    USE_64_BIT_INT
    USE_LARGE_FILES
    USE_LOCALE
    USE_LOCALE_COLLATE
    USE_LOCALE_CTYPE
    USE_LOCALE_NUMERIC
    USE_LOCALE_TIME
    USE_PERLIO
    USE_PERL_ATOF
  Built under linux
  Compiled at Sep 29 2017 00:34:28
  %ENV:
    PERL5LIB="/home/njh/.cpan/build/FTN-Outbound-Reference_file-20170409-3/blib/arch:/home/njh/.cpan/build/FTN-Outbound-Reference_file-20170409-3/blib/lib:/home/njh/.cpan/build/Log-Log4perl-1.49-3/blib/arch:/home/njh/.cpan/build/Log-Log4perl-1.49-3/blib/lib:/home/njh/.cpan/build/FTN-Addr-20160303-3/blib/arch:/home/njh/.cpan/build/FTN-Addr-20160303-3/blib/lib"
    PERL5OPT=""
    PERL5_CPANPLUS_IS_RUNNING="17727"
    PERL5_CPAN_IS_RUNNING="17727"
    PERLBREW_HOME="/home/njh/.perlbrew"
    PERLBREW_MANPATH="/home/njh/perl5/perlbrew/perls/perl-5.26.1/man"
    PERLBREW_PATH="/home/njh/perl5/perlbrew/bin:/home/njh/perl5/perlbrew/perls/perl-5.26.1/bin"
    PERLBREW_PERL="perl-5.26.1"
    PERLBREW_ROOT="/home/njh/perl5/perlbrew"
    PERLBREW_SHELLRC_VERSION="0.83"
    PERLBREW_VERSION="0.83"
    PERL_USE_UNSAFE_INC="1"
  @INC:
    /home/njh/.cpan/build/FTN-Outbound-Reference_file-20170409-3/blib/arch
    /home/njh/.cpan/build/FTN-Outbound-Reference_file-20170409-3/blib/lib
    /home/njh/.cpan/build/Log-Log4perl-1.49-3/blib/arch
    /home/njh/.cpan/build/Log-Log4perl-1.49-3/blib/lib
    /home/njh/.cpan/build/FTN-Addr-20160303-3/blib/arch
    /home/njh/.cpan/build/FTN-Addr-20160303-3/blib/lib
    /home/njh/perl5/perlbrew/perls/perl-5.26.1/lib/site_perl/5.26.1/x86_64-linux
    /home/njh/perl5/perlbrew/perls/perl-5.26.1/lib/site_perl/5.26.1
    /home/njh/perl5/perlbrew/perls/perl-5.26.1/lib/5.26.1/x86_64-linux
    /home/njh/perl5/perlbrew/perls/perl-5.26.1/lib/5.26.1
    .