Back
From: metabase:user:f1a67388-c326-11df-83bd-eeb6a60ca1d3
Subject: PASS ExtUtils-CChecker-0.07 v5.12.3 GNU/Linux
Date: 2011-12-03T17:10:01Z
This distribution has been tested as part of the CPAN Testers
project, supporting the Perl programming language. See
http://wiki.cpantesters.org/ for more information or email
questions to cpan-testers-discuss@perl.org
--
Dear Paul Evans,
This is a computer-generated report for ExtUtils-CChecker-0.07
on perl 5.12.3, created by CPAN-Reporter-1.2002.
Thank you for uploading your work to CPAN. Congratulations!
All tests were successful.
Sections of this report:
* Tester comments
* Program output
* Prerequisites
* Environment and other context
------------------------------
TESTER COMMENTS
------------------------------
Additional comments from tester:
none provided
------------------------------
PROGRAM OUTPUT
------------------------------
Output from './Build test':
t/00use.t ........... ok
test-1.c:1:9: error: expected â=â, â,â, â;â, âasmâ or â__attribute__â before âbarâ
t/01run.t ........... ok
test-1.c:1:9: error: expected â=â, â,â, â;â, âasmâ or â__attribute__â before âbarâ
t/02assert.t ........ ok
t/03accessors.t ..... ok
t/04module_build.t .. ok
t/05defines_to.t .... ok
t/99pod.t ........... ok
All tests successful.
Files=7, Tests=25, 3 wallclock secs ( 0.04 usr 0.03 sys + 1.44 cusr 0.30 csys = 1.81 CPU)
Result: PASS
------------------------------
PREREQUISITES
------------------------------
Prerequisite modules loaded:
requires:
Module Need Have
------------------ ---- --------
ExtUtils::CBuilder 0 0.280202
build_requires:
Module Need Have
------------------ ---- --------
Module::Build 0 0.3800
Test::Fatal 0 0.008
Test::More 0 0.98
configure_requires:
Module Need Have
------------------ ---- --------
Module::Build 0.36 0.3800
------------------------------
ENVIRONMENT AND OTHER CONTEXT
------------------------------
Environment variables:
LANG = en_GB.UTF-8
LD_LIBRARY_PATH = /usr/lib64/mpi/gcc/openmpi/lib64
PATH = /usr/local/cuda/bin:/usr/local/cuda/bin:/usr/lib64/mpi/gcc/openmpi/bin:/home/mike/bin:/usr/local/bin:/usr/bin:/bin:/usr/bin/X11:/usr/X11R6/bin:/usr/games:/usr/lib64/jvm/jre/bin:/usr/lib/mit/bin:/usr/lib/mit/sbin:/usr/lib/qt3/bin
PERL5LIB =
PERL5OPT =
PERL5_CPANPLUS_IS_RUNNING = 24019
PERL5_CPAN_IS_RUNNING = 24019
SHELL = /bin/bash
TERM = xterm
TMPDIR = /tmp
Perl special variables (and OS-specific diagnostics, for MSWin32):
$^X = /usr/bin/perl
$UID/$EUID = 1000 / 1000
$GID = 100 33 100
$EGID = 100 33 100
Perl module toolchain versions installed:
Module Have
------------------- --------
CPAN 1.9800
CPAN::Meta 2.112621
Cwd 3.33
ExtUtils::CBuilder 0.280202
ExtUtils::Command 1.17
ExtUtils::Install 1.55
ExtUtils::MakeMaker 6.62
ExtUtils::Manifest 1.60
ExtUtils::ParseXS 3.05
File::Spec 3.33
JSON 2.53
JSON::PP 2.27200
Module::Build 0.3800
Module::Signature 0.68
Parse::CPAN::Meta 1.4401
Test::Harness 3.23
Test::More 0.98
YAML 0.77
YAML::Syck 1.19
version 0.95
--
Summary of my perl5 (revision 5 version 12 subversion 3) configuration:
Platform:
osname=linux, osvers=2.6.36, archname=x86_64-linux-thread-multi
uname='linux build33 2.6.36 #1 smp thu nov 3 14:45:45 utc 2011 (187dde0) x86_64 x86_64 x86_64 gnulinux '
config_args='-ds -e -Dprefix=/usr -Dvendorprefix=/usr -Dinstallusrbinperl -Dusethreads -Di_db -Di_dbm -Di_ndbm -Di_gdbm -Duseshrplib=true -Doptimize=-fmessage-length=0 -O2 -Wall -D_FORTIFY_SOURCE=2 -fstack-protector -funwind-tables -fasynchronous-unwind-tables -g -Wall -pipe -Accflags=-DPERL_USE_SAFE_PUTENV'
hint=recommended, useposix=true, d_sigaction=define
useithreads=define, usemultiplicity=define
useperlio=define, d_sfio=undef, uselargefiles=define, usesocks=undef
use64bitint=define, use64bitall=define, uselongdouble=undef
usemymalloc=n, bincompat5005=undef
Compiler:
cc='cc', ccflags ='-D_REENTRANT -D_GNU_SOURCE -DPERL_USE_SAFE_PUTENV -DDEBUGGING -fno-strict-aliasing -pipe -fstack-protector -D_LARGEFILE_SOURCE -D_FILE_OFFSET_BITS=64',
optimize='-fmessage-length=0 -O2 -Wall -D_FORTIFY_SOURCE=2 -fstack-protector -funwind-tables -fasynchronous-unwind-tables -g -Wall -pipe',
cppflags='-D_REENTRANT -D_GNU_SOURCE -DPERL_USE_SAFE_PUTENV -DDEBUGGING -fno-strict-aliasing -pipe -fstack-protector'
ccversion='', gccversion='4.5.1 20101208 [gcc-4_5-branch revision 167585]', gccosandvers=''
intsize=4, longsize=8, ptrsize=8, doublesize=8, byteorder=12345678
d_longlong=define, longlongsize=8, d_longdbl=define, longdblsize=16
ivtype='long', ivsize=8, nvtype='double', nvsize=8, Off_t='off_t', lseeksize=8
alignbytes=8, prototype=define
Linker and Libraries:
ld='cc', ldflags =' -L/usr/local/lib64 -fstack-protector'
libpth=/lib64 /usr/lib64 /usr/local/lib64
libs=-lm -ldl -lcrypt -lpthread
perllibs=-lm -ldl -lcrypt -lpthread
libc=/lib64/libc-2.11.3.so, so=so, useshrplib=true, libperl=libperl.so
gnulibc_version='2.11.3'
Dynamic Linking:
dlsrc=dl_dlopen.xs, dlext=so, d_dlsymun=undef, ccdlflags='-Wl,-E -Wl,-rpath,/usr/lib/perl5/5.12.3/x86_64-linux-thread-multi/CORE'
cccdlflags='-fPIC', lddlflags='-shared -L/usr/local/lib64 -fstack-protector'
Characteristics of this binary (from libperl):
Compile-time options: DEBUGGING MULTIPLICITY PERL_DONT_CREATE_GVSV
PERL_IMPLICIT_CONTEXT PERL_MALLOC_WRAP
PERL_TRACK_MEMPOOL PERL_USE_SAFE_PUTENV
USE_64_BIT_ALL USE_64_BIT_INT USE_ITHREADS
USE_LARGE_FILES USE_PERLIO USE_PERL_ATOF
USE_REENTRANT_API
Built under linux
Compiled at Nov 22 2011 14:59:55
%ENV:
PERL5LIB=""
PERL5OPT=""
PERL5_CPANPLUS_IS_RUNNING="24019"
PERL5_CPAN_IS_RUNNING="24019"
@INC:
/usr/lib/perl5/site_perl/5.12.3/x86_64-linux-thread-multi
/usr/lib/perl5/site_perl/5.12.3
/usr/lib/perl5/vendor_perl/5.12.3/x86_64-linux-thread-multi
/usr/lib/perl5/vendor_perl/5.12.3
/usr/lib/perl5/5.12.3/x86_64-linux-thread-multi
/usr/lib/perl5/5.12.3
.