MIDI-Util v0.1302 Perl 5 v5.16.2 amd64-freebsd-thread-multi

Status
Pass
From
Chris Williams (BINGOS)
Dist
MIDI-Util v0.1302
Platform
Perl 5 v5.16.2 amd64-freebsd-thread-multi
Date
2024-05-25T18:43:10
ID
a2d9ea4e-1ac6-11ef-98b0-b3c3213a625c
This distribution has been tested as part of the CPAN Testers
project, supporting the Perl programming language.  See
http://wiki.cpantesters.org/ for more information or email
questions to cpan-testers-discuss@perl.org


--

Dear Gene Boggs,

This is a computer-generated error report created automatically by
CPANPLUS, version 0.9914. Testers personal comments may appear
at the end of this report.


Thank you for uploading your work to CPAN.  Congratulations!
All tests were successful.

TEST RESULTS:

Below is the error stack from stage 'make test':

PERL_DL_NONLAZY=1 "/usr/home/cpan/pit/thr/perl-5.16.2/bin/perl" "-MExtUtils::Command::MM" "-MTest::Harness" "-e" "undef *Test::Harness::Switches; test_harness(0, 'blib/lib', 'blib/arch')" t/*.t
t/00-compile.t ........... ok
t/01-functions.t ......... ok
t/author-eol.t ........... skipped: these tests are for testing by the author
t/author-no-tabs.t ....... skipped: these tests are for testing by the author
t/author-pod-coverage.t .. skipped: these tests are for testing by the author
t/author-pod-spell.t ..... skipped: these tests are for testing by the author
t/author-pod-syntax.t .... skipped: these tests are for testing by the author
t/author-synopsis.t ...... skipped: these tests are for testing by the author
All tests successful.
Files=8, Tests=12,  1 wallclock secs ( 0.06 usr  0.03 sys +  0.33 cusr  0.25 csys =  0.67 CPU)
Result: PASS


PREREQUISITES:

Here is a list of prerequisites you specified and versions we
managed to load:

	  Module Name                        Have     Want
	  Exporter                           5.66        0
	  ExtUtils::MakeMaker                7.70        0
	  File::Slurper                     0.014        0
	  File::Spec                         3.75        0
	  IO::Handle                         1.33        0
	  IPC::Open3                         1.12        0
	  List::Util                         1.25        0
	  MIDI                               0.84        0
	  MIDI::Simple                       0.84        0
	  Music::Tempo                       0.02        0
	  Test::Exception                    0.43        0
	  Test::More                     1.302198        0
	  constant                           1.23        0
	  strict                             1.07        0
	  warnings                           1.13        0

Perl module toolchain versions installed:
	Module Name                        Have
	CPANPLUS                         0.9914
	CPANPLUS::Dist::Build              0.90
	Cwd                                3.75
	ExtUtils::CBuilder             0.280236
	ExtUtils::Command                  7.70
	ExtUtils::Install                  2.22
	ExtUtils::MakeMaker                7.70
	ExtUtils::Manifest                 1.75
	ExtUtils::ParseXS                  3.51
	File::Spec                         3.75
	Module::Build                    0.4234
	Pod::Parser                        1.51
	Pod::Simple                        3.20
	Test2                          1.302198
	Test::Harness                      3.48
	Test::More                     1.302198
	version                          0.9930

******************************** NOTE ********************************
The comments above are created mechanically, possibly without manual
checking by the sender.  As there are many people performing automatic
tests on each upload to CPAN, it is likely that you will receive
identical messages about the same problem.

If you believe that the message is mistaken, please reply to the first
one with correction and/or additional informations, and do not take
it personally.  We appreciate your patience. :)
**********************************************************************

Additional comments:


This report was machine-generated by CPANPLUS::Dist::YACSmoke 1.08.
Powered by minismokebox version 0.68

CPANPLUS is prefering Build.PL

------------------------------
ENVIRONMENT AND OTHER CONTEXT
------------------------------

Environment variables:

    AUTOMATED_TESTING = 1
    NONINTERACTIVE_TESTING = 1
    PATH = /sbin:/bin:/usr/sbin:/usr/bin:/usr/local/sbin:/usr/local/bin:/home/cpan/bin
    PERL5LIB = /usr/home/cpan/pit/jail/u22p80rISc/lib/perl5:/usr/home/cpan/pit/thr/conf/perl-5.16.2/.cpanplus/5.16.2/build/kIvXbReqmO/MIDI-Util-0.1302/blib/lib:/usr/home/cpan/pit/thr/conf/perl-5.16.2/.cpanplus/5.16.2/build/kIvXbReqmO/MIDI-Util-0.1302/blib/arch
    PERL5_CPANPLUS_IS_RUNNING = 68018
    PERL5_CPANPLUS_IS_VERSION = 0.9914
    PERL5_MINISMOKEBOX = 0.68
    PERL5_YACSMOKE_BASE = /usr/home/cpan/pit/thr/conf/perl-5.16.2
    PERL_EXTUTILS_AUTOINSTALL = --defaultdeps
    PERL_LOCAL_LIB_ROOT = /usr/home/cpan/pit/jail/u22p80rISc
    PERL_MB_OPT = --install_base "/usr/home/cpan/pit/jail/u22p80rISc"
    PERL_MM_OPT = INSTALL_BASE=/usr/home/cpan/pit/jail/u22p80rISc
    PERL_MM_USE_DEFAULT = 1
    PERL_USE_UNSAFE_INC = 1
    SHELL = /usr/local/bin/bash
    TERM = screen

Perl special variables (and OS-specific diagnostics, for MSWin32):

    Perl: $^X = /usr/home/cpan/pit/thr/perl-5.16.2/bin/perl
    UID:  $<  = 1002
    EUID: $>  = 1002
    GID:  $(  = 1002 1002
    EGID: $)  = 1002 1002


-------------------------------


--

Summary of my perl5 (revision 5 version 16 subversion 2) configuration:
   
  Platform:
    osname=freebsd, osvers=12.4-release-p1, archname=amd64-freebsd-thread-multi
    uname='freebsd fforc 12.4-release-p1 freebsd 12.4-release-p1 generic amd64 '
    config_args='-des -Dprefix=/usr/home/cpan/pit/thr/perl-5.16.2 -Dusethreads'
    hint=recommended, useposix=true, d_sigaction=define
    useithreads=define, usemultiplicity=define
    useperlio=define, d_sfio=undef, uselargefiles=define, usesocks=undef
    use64bitint=define, use64bitall=define, uselongdouble=undef
    usemymalloc=n, bincompat5005=undef
  Compiler:
    cc='cc', ccflags ='-DHAS_FPSETMASK -DHAS_FLOATINGPOINT_H -fno-strict-aliasing -pipe -fstack-protector -I/usr/local/include',
    optimize='-O2',
    cppflags='-DHAS_FPSETMASK -DHAS_FLOATINGPOINT_H -fno-strict-aliasing -pipe -fstack-protector -I/usr/local/include'
    ccversion='', gccversion='FreeBSD Clang 13.0.0 (git@github.com:llvm/llvm-project.git llvmorg-13.0.0-0-gd7b669b3a303)', gccosandvers=''
    intsize=4, longsize=8, ptrsize=8, doublesize=8, byteorder=12345678
    d_longlong=define, longlongsize=8, d_longdbl=define, longdblsize=16
    ivtype='long', ivsize=8, nvtype='double', nvsize=8, Off_t='off_t', lseeksize=8
    alignbytes=8, prototype=define
  Linker and Libraries:
    ld='cc', ldflags ='-pthread -Wl,-E  -fstack-protector -L/usr/local/lib'
    libpth=/usr/lib /usr/local/lib
    libs=-lgdbm -ldl -lm -lcrypt -lutil
    perllibs=-ldl -lm -lcrypt -lutil
    libc=, so=so, useshrplib=false, libperl=libperl.a
    gnulibc_version=''
  Dynamic Linking:
    dlsrc=dl_dlopen.xs, dlext=so, d_dlsymun=undef, ccdlflags=' '
    cccdlflags='-DPIC -fPIC', lddlflags='-shared  -L/usr/local/lib -fstack-protector'


Characteristics of this binary (from libperl): 
  Compile-time options: HAS_TIMES MULTIPLICITY PERLIO_LAYERS
                        PERL_DONT_CREATE_GVSV PERL_IMPLICIT_CONTEXT
                        PERL_MALLOC_WRAP PERL_PRESERVE_IVUV USE_64_BIT_ALL
                        USE_64_BIT_INT USE_ITHREADS USE_LARGE_FILES
                        USE_LOCALE USE_LOCALE_COLLATE USE_LOCALE_CTYPE
                        USE_LOCALE_NUMERIC USE_PERLIO USE_PERL_ATOF
                        USE_REENTRANT_API
  Locally applied patches:
	Devel::PatchPerl 2.08
  Built under freebsd
  Compiled at Mar 30 2023 19:52:51
  %ENV:
    PERL5LIB="/usr/home/cpan/pit/jail/u22p80rISc/lib/perl5:/usr/home/cpan/pit/thr/conf/perl-5.16.2/.cpanplus/5.16.2/build/kIvXbReqmO/MIDI-Util-0.1302/blib/lib:/usr/home/cpan/pit/thr/conf/perl-5.16.2/.cpanplus/5.16.2/build/kIvXbReqmO/MIDI-Util-0.1302/blib/arch"
    PERL5_CPANPLUS_IS_RUNNING="68018"
    PERL5_CPANPLUS_IS_VERSION="0.9914"
    PERL5_MINISMOKEBOX="0.68"
    PERL5_YACSMOKE_BASE="/usr/home/cpan/pit/thr/conf/perl-5.16.2"
    PERL_EXTUTILS_AUTOINSTALL="--defaultdeps"
    PERL_LOCAL_LIB_ROOT="/usr/home/cpan/pit/jail/u22p80rISc"
    PERL_MB_OPT="--install_base "/usr/home/cpan/pit/jail/u22p80rISc""
    PERL_MM_OPT="INSTALL_BASE=/usr/home/cpan/pit/jail/u22p80rISc"
    PERL_MM_USE_DEFAULT="1"
    PERL_USE_UNSAFE_INC="1"
  @INC:
    /usr/home/cpan/pit/jail/u22p80rISc/lib/perl5/5.16.2/amd64-freebsd-thread-multi
    /usr/home/cpan/pit/jail/u22p80rISc/lib/perl5/5.16.2
    /usr/home/cpan/pit/jail/u22p80rISc/lib/perl5/amd64-freebsd-thread-multi
    /usr/home/cpan/pit/jail/u22p80rISc/lib/perl5
    /usr/home/cpan/pit/thr/conf/perl-5.16.2/.cpanplus/5.16.2/build/kIvXbReqmO/MIDI-Util-0.1302/blib/lib
    /usr/home/cpan/pit/thr/conf/perl-5.16.2/.cpanplus/5.16.2/build/kIvXbReqmO/MIDI-Util-0.1302/blib/arch
    /usr/home/cpan/pit/thr/perl-5.16.2/lib/site_perl/5.16.2/amd64-freebsd-thread-multi
    /usr/home/cpan/pit/thr/perl-5.16.2/lib/site_perl/5.16.2
    /usr/home/cpan/pit/thr/perl-5.16.2/lib/5.16.2/amd64-freebsd-thread-multi
    /usr/home/cpan/pit/thr/perl-5.16.2/lib/5.16.2
    .