XSLoader v0.24 Perl 5 v5.16.3 darwin-2level
- Status
- Pass
- From
- Karen Etheridge
- Dist
-
XSLoader v0.24
- Platform
- Perl 5 v5.16.3 darwin-2level
- Date
- 2021-03-20 19:15:30
- ID
- a2e29b94-89b0-11eb-b5d5-a3c87c4bdb2e
This distribution has been tested as part of the CPAN Testers
project, supporting the Perl programming language. See
http://wiki.cpantesters.org/ for more information or email
questions to cpan-testers-discuss@perl.org
--
Dear SAPER,
This is a computer-generated report for XSLoader-0.24
on perl 5.16.3, created by App::cpanminus::reporter 0.17 (1.9018).
Thank you for uploading your work to CPAN. Congratulations!
All tests were successful.
Sections of this report:
* Tester comments
* Program output
* Prerequisites
* Environment and other context
------------------------------
TESTER COMMENTS
------------------------------
Additional comments from tester:
none provided
------------------------------
PROGRAM OUTPUT
------------------------------
Output from '':
Building and testing XSLoader-0.24
"/Volumes/amaretto/Users/ether/perl5/perlbrew/perls/16.3/bin/perl" XSLoader_pm.PL XSLoader.pm
PERL_DL_NONLAZY=1 "/Volumes/amaretto/Users/ether/perl5/perlbrew/perls/16.3/bin/perl" "-MExtUtils::Command::MM" "-MTest::Harness" "-e" "undef *Test::Harness::Switches; test_harness(0, 'blib/lib', 'blib/arch')" t/*.t
# testing XSLoader v0.24 under Perl 5.016003
t/00-load.t ... ok
t/distchk.t ... skipped: Test::Distribution required for checking distribution
t/01-api.t .... ok
t/podcover.t .. skipped: Test::Pod::Coverage 1.04 required for testing POD coverage
t/portfs.t .... ok
t/pod.t ....... ok
t/XSLoader.t .. ok
All tests successful.
Files=7, Tests=30, 0 wallclock secs ( 0.03 usr 0.01 sys + 0.51 cusr 0.12 csys = 0.67 CPU)
Result: PASS
------------------------------
PREREQUISITES
------------------------------
Prerequisite modules loaded:
No requirements found
------------------------------
ENVIRONMENT AND OTHER CONTEXT
------------------------------
Environment variables:
HARNESS_OPTIONS = j6:c
LANG = en_CA.UTF-8
NO_NETWORK_TESTING = 1
PATH = /Volumes/amaretto/Users/ether/.perlbrew/libs/16.3@std/bin:/Volumes/amaretto/Users/ether/perl5/perlbrew/bin:/Volumes/amaretto/Users/ether/perl5/perlbrew/perls/16.3/bin:/Volumes/amaretto/Users/ether/bin:/Volumes/amaretto/Users/ether/git/misc/install/jaeger/bin:/Volumes/amaretto/Users/ether/git/misc/install/generic/bin:/opt/local/bin:/opt/local/sbin:/Volumes/amaretto/Users/ether/git/git-hub/lib:/usr/local/bin:/usr/bin:/bin:/usr/sbin:/sbin:/Library/Apple/usr/bin:/opt/local/share/git-core/contrib/workdir
PERL5LIB = /Volumes/amaretto/Users/ether/.perlbrew/libs/16.3@std/lib/perl5
PERLBREW_HOME = /Volumes/amaretto/Users/ether/.perlbrew
PERLBREW_LIB = std
PERLBREW_MANPATH = /Volumes/amaretto/Users/ether/.perlbrew/libs/16.3@std/man:/Volumes/amaretto/Users/ether/perl5/perlbrew/perls/16.3/man
PERLBREW_PATH = /Volumes/amaretto/Users/ether/.perlbrew/libs/16.3@std/bin:/Volumes/amaretto/Users/ether/perl5/perlbrew/bin:/Volumes/amaretto/Users/ether/perl5/perlbrew/perls/16.3/bin
PERLBREW_PERL = 16.3
PERLBREW_ROOT = /Volumes/amaretto/Users/ether/perl5/perlbrew
PERLBREW_SHELLRC_VERSION = 0.89
PERLBREW_VERSION = 0.91
PERLDOC = -oman
PERLDOC_PAGER = less -sicMr
PERL_AUTOINSTALL_PREFER_CPAN = 1
PERL_INSTALL_QUIET = 1
PERL_LOCAL_LIB_ROOT = /Volumes/amaretto/Users/ether/.perlbrew/libs/16.3@std
PERL_MB_OPT = --install_base /Volumes/amaretto/Users/ether/.perlbrew/libs/16.3@std
PERL_MM_OPT = INSTALL_BASE=/Volumes/amaretto/Users/ether/.perlbrew/libs/16.3@std
PERL_USE_UNSAFE_INC = 0
SHELL = /bin/bash
TERM = xterm-color
Perl special variables (and OS-specific diagnostics, for MSWin32):
EGID = 20 20 12 61 79 80 81 98 701 33 100 204 250 395 398 399 400
EUID = 502
EXECUTABLE_NAME = /Volumes/amaretto/Users/ether/perl5/perlbrew/perls/16.3/bin/perl
GID = 20 20 12 61 79 80 81 98 701 33 100 204 250 395 398 399 400
UID = 502
Perl module toolchain versions installed:
Module Have
------------------- --------
CPAN 1.9800
CPAN::Meta 2.150010
Cwd 3.47
ExtUtils::CBuilder 0.280206
ExtUtils::Command 7.60
ExtUtils::Install 2.16
ExtUtils::MakeMaker 7.60
ExtUtils::Manifest 1.70
ExtUtils::ParseXS 3.35
File::Spec 3.47
JSON 4.02
JSON::PP 4.05
Module::Build 0.4211
Module::Signature 0.83
Parse::CPAN::Meta 2.150010
Test::Harness 3.35
Test::More 1.302183
YAML 1.30
YAML::Syck n/a
version 0.9925
--
Summary of my perl5 (revision 5 version 16 subversion 3) configuration:
Platform:
osname=darwin, osvers=14.1.0, archname=darwin-2level
uname='darwin jaeger 14.1.0 darwin kernel version 14.1.0: mon dec 22 23:10:38 pst 2014; root:xnu-2782.10.72~2release_x86_64 x86_64 '
config_args='-de -Dprefix=/Volumes/amaretto/Users/ether/perl5/perlbrew/perls/16.3 -Dman1dir=none -Dman3dir=none -Aeval:scriptdir=/Volumes/amaretto/Users/ether/perl5/perlbrew/perls/16.3/bin'
hint=recommended, useposix=true, d_sigaction=define
useithreads=undef, usemultiplicity=undef
useperlio=define, d_sfio=undef, uselargefiles=define, usesocks=undef
use64bitint=define, use64bitall=define, uselongdouble=undef
usemymalloc=n, bincompat5005=undef
Compiler:
cc='cc', ccflags ='-fno-common -DPERL_DARWIN -fno-strict-aliasing -pipe -fstack-protector -I/opt/local/include',
optimize='-O3',
cppflags='-fno-common -DPERL_DARWIN -fno-strict-aliasing -pipe -fstack-protector -I/opt/local/include'
ccversion='', gccversion='4.2.1 Compatible Apple LLVM 6.0 (clang-600.0.56)', gccosandvers=''
intsize=4, longsize=8, ptrsize=8, doublesize=8, byteorder=12345678
d_longlong=define, longlongsize=8, d_longdbl=define, longdblsize=16
ivtype='long', ivsize=8, nvtype='double', nvsize=8, Off_t='off_t', lseeksize=8
alignbytes=8, prototype=define
Linker and Libraries:
ld='env MACOSX_DEPLOYMENT_TARGET=10.3 cc', ldflags =' -fstack-protector -L/opt/local/lib'
libpth=/opt/local/lib /usr/lib
libs=-lgdbm -ldbm -ldl -lm -lutil -lc
perllibs=-ldl -lm -lutil -lc
libc=, so=dylib, useshrplib=false, libperl=libperl.a
gnulibc_version=''
Dynamic Linking:
dlsrc=dl_dlopen.xs, dlext=bundle, d_dlsymun=undef, ccdlflags=' '
cccdlflags=' ', lddlflags=' -bundle -undefined dynamic_lookup -L/opt/local/lib -fstack-protector'
Characteristics of this binary (from libperl):
Compile-time options: HAS_TIMES PERLIO_LAYERS PERL_DONT_CREATE_GVSV
PERL_MALLOC_WRAP PERL_PRESERVE_IVUV USE_64_BIT_ALL
USE_64_BIT_INT USE_LARGE_FILES USE_LOCALE
USE_LOCALE_COLLATE USE_LOCALE_CTYPE
USE_LOCALE_NUMERIC USE_PERLIO USE_PERL_ATOF
Locally applied patches:
Devel::PatchPerl 1.30
Built under darwin
Compiled at Feb 22 2015 17:50:07
%ENV:
PERL5LIB="/Volumes/amaretto/Users/ether/.perlbrew/libs/16.3@std/lib/perl5"
PERLBREW_HOME="/Volumes/amaretto/Users/ether/.perlbrew"
PERLBREW_LIB="std"
PERLBREW_MANPATH="/Volumes/amaretto/Users/ether/.perlbrew/libs/16.3@std/man:/Volumes/amaretto/Users/ether/perl5/perlbrew/perls/16.3/man"
PERLBREW_PATH="/Volumes/amaretto/Users/ether/.perlbrew/libs/16.3@std/bin:/Volumes/amaretto/Users/ether/perl5/perlbrew/bin:/Volumes/amaretto/Users/ether/perl5/perlbrew/perls/16.3/bin"
PERLBREW_PERL="16.3"
PERLBREW_ROOT="/Volumes/amaretto/Users/ether/perl5/perlbrew"
PERLBREW_SHELLRC_VERSION="0.89"
PERLBREW_VERSION="0.91"
PERLDOC="-oman"
PERLDOC_PAGER="less -sicMr"
PERL_AUTOINSTALL_PREFER_CPAN="1"
PERL_INSTALL_QUIET="1"
PERL_LOCAL_LIB_ROOT="/Volumes/amaretto/Users/ether/.perlbrew/libs/16.3@std"
PERL_MB_OPT="--install_base /Volumes/amaretto/Users/ether/.perlbrew/libs/16.3@std"
PERL_MM_OPT="INSTALL_BASE=/Volumes/amaretto/Users/ether/.perlbrew/libs/16.3@std"
PERL_USE_UNSAFE_INC="0"
@INC:
/Volumes/amaretto/Users/ether/.perlbrew/libs/16.3@std/lib/perl5/darwin-2level
/Volumes/amaretto/Users/ether/.perlbrew/libs/16.3@std/lib/perl5
/Volumes/amaretto/Users/ether/perl5/perlbrew/perls/16.3/lib/site_perl/5.16.3/darwin-2level
/Volumes/amaretto/Users/ether/perl5/perlbrew/perls/16.3/lib/site_perl/5.16.3
/Volumes/amaretto/Users/ether/perl5/perlbrew/perls/16.3/lib/5.16.3/darwin-2level
/Volumes/amaretto/Users/ether/perl5/perlbrew/perls/16.3/lib/5.16.3
.