Report for Benchmark-Perl-Formance-0.53

Back
From: metabase:user:30f4dfbe-2aae-11df-837a-5e0a49663a4f
Subject: PASS Benchmark-Perl-Formance-0.53 v5.23.8 Mac OS X
Date: 2016-04-27T00:40:27Z

This distribution has been tested as part of the CPAN Testers
project, supporting the Perl programming language.  See
http://wiki.cpantesters.org/ for more information or email
questions to cpan-testers-discuss@perl.org


--
Dear Steffen Schwigon,

This is a computer-generated report for Benchmark-Perl-Formance-0.53
on perl 5.23.8, created by CPAN-Reporter-1.2017.

Thank you for uploading your work to CPAN.  Congratulations!
All tests were successful.

Sections of this report:

    * Tester comments
    * Program output
    * Prerequisites
    * Environment and other context

------------------------------
TESTER COMMENTS
------------------------------

Additional comments from tester:

this report is from an automated smoke testing program
and was not reviewed by a human for accuracy

------------------------------
PROGRAM OUTPUT
------------------------------

Output from '/sw/bin/make test':

PERL_DL_NONLAZY=1 "/Users/hornenj/perl5/perlbrew/perls/perl-5.23.8/bin/perl5.23.8" "-MExtUtils::Command::MM" "-MTest::Harness" "-e" "undef *Test::Harness::Switches; test_harness(0, 'blib/lib', 'blib/arch')" t/*.t
t/00-compile.t ......... ok
# 
# Testing Benchmark::Perl::Formance 0.53, Perl 5.023008, /Users/hornenj/perl5/perlbrew/perls/perl-5.23.8/bin/perl5.23.8
t/00-load.t ............ ok
t/author-eol.t ......... skipped: these tests are for testing by the author
t/author-pod-syntax.t .. skipped: these tests are for testing by the author
t/basic.t .............. ok
# 
# Sample run. May take some seconds...
# Run DPath...
# Run Fib...
# Run FibOO...
# Run Mem...
# Run MatrixReal...
# Run Prime...
# Run Rx...
# Run RxMicro...
# Run Shootout::fasta...
# Run Shootout::regexdna...
# Run Shootout::binarytrees...
# Run Shootout::revcomp...
# Run Shootout::nbody...
# Run Shootout::spectralnorm...
# 
# perlformance.perl5.DPath.dpath                        : 0.044059
# perlformance.perl5.Fib                                : 0.015324
# perlformance.perl5.FibOO                              : 0.021543
# perlformance.perl5.MatrixReal.det.005                 : 0.074372
# perlformance.perl5.MatrixReal.det_LR.005              : 0.069442
# perlformance.perl5.MatrixReal.inverse.005             : 0.276518
# perlformance.perl5.MatrixReal.invert_LR.005           : 0.267965
# perlformance.perl5.MatrixReal.matrix_squared.005      : 0.069164
# perlformance.perl5.MatrixReal.matrix_times_itself.005 : 0.051817
# perlformance.perl5.MatrixReal.to_negative_one.005     : 0.320900
# perlformance.perl5.Mem.allocate                       : 0.188174
# perlformance.perl5.Mem.copy                           : 0.285518
# perlformance.perl5.Rx.regexes.fieldsplit1             : 0.404687
# perlformance.perl5.Rx.regexes.fieldsplit2             : 0.099834
# perlformance.perl5.Rx.regexes.pathological            : 0.207066
# perlformance.perl5.RxMicro.code-literal               : 0.242083
# perlformance.perl5.RxMicro.code-runtime               : 0.158162
# perlformance.perl5.RxMicro.precompile-access          : 0.413577
# perlformance.perl5.RxMicro.runtime-compile            : 0.415655
# perlformance.perl5.RxMicro.runtime-compile-nocache    : 0.321007
# perlformance.perl5.Shootout.binarytrees               : 0.117768
# perlformance.perl5.Shootout.fasta                     : 0.070129
# perlformance.perl5.Shootout.nbody                     : 0.032317
# perlformance.perl5.Shootout.spectralnorm              : 0.202751
t/samplerun.t .......... ok
All tests successful.
Files=6, Tests=21,  6 wallclock secs ( 0.02 usr  0.01 sys +  5.50 cusr  0.46 csys =  5.99 CPU)
Result: PASS

------------------------------
PREREQUISITES
------------------------------

Prerequisite modules loaded:

requires:

    Module                Need Have    
    --------------------- ---- --------
    Config::Perl::V       0    0.25    
    Data::DPath           0    0.55    
    Data::Structure::Util 0    0.16    
    Data::YAML::Writer    0    0.0.7   
    Devel::Platform::Info 0    0.16    
    JSON                  0    2.90    
    List::Util            0    1.45    
    Math::MatrixReal      0    2.12    
  ! Math::Primality       0    n/a     
    Sys::Hostname         0    1.20    
    Sys::Info             0    0.78    

build_requires:

    Module                Need Have    
    --------------------- ---- --------
    Data::YAML::Reader    0    0.0.7   
    ExtUtils::MakeMaker   0    7.10_01 
    File::Spec            0    3.63    
    IO::Handle            0    1.35    
    IPC::Open3            0    1.20    
    Test::More            0.88 1.001014

configure_requires:

    Module                Need Have    
    --------------------- ---- --------
    ExtUtils::MakeMaker   0    7.10_01 


------------------------------
ENVIRONMENT AND OTHER CONTEXT
------------------------------

Environment variables:

    AUTOMATED_TESTING = 1
    LANG = en_US.UTF-8
    LC_ALL = POSIX
    LD_LIBRARY_PATH = :/net/traces01.be-md.ncbi.nlm.nih.gov/trace_software/vdb/mac/release/x86_64/lib
    NO_NETWORK_TESTING = 1
    PATH = /Users/hornenj/perl5/perlbrew/bin:/Users/hornenj/perl5/perlbrew/perls/perl-5.23.8/bin:/Users/hornenj/perl5/perlbrew/bin:/Users/hornenj/perl5/perlbrew/perls/perl-5.14.2/bin:/Users/hornenj/bin:/sw/lib/perl5/ExtUtils:/sw/bin:/am/ncbiapdata/bin:/usr/bin:/bin:/usr/X11R6/bin:/netopt/ncbi_tools/bin:/usr/local/ncbi/blast/bin:/net/traces01.be-md.ncbi.nlm.nih.gov/trace_software/vdb/mac/release/x86_64/bin
    PERL5LIB = /Users/hornenj/.cpan/build/Data-YAML-0.0.7-DfFw2O/blib/arch:/Users/hornenj/.cpan/build/Data-YAML-0.0.7-DfFw2O/blib/lib:/Users/hornenj/.cpan/build/Data-Structure-Util-0.16-EQkNJD/blib/arch:/Users/hornenj/.cpan/build/Data-Structure-Util-0.16-EQkNJD/blib/lib:/Users/hornenj/.cpan/build/Data-DPath-0.55-KGgTxE/blib/arch:/Users/hornenj/.cpan/build/Data-DPath-0.55-KGgTxE/blib/lib:/Users/hornenj/.cpan/build/Iterator-Util-0.02-h6194j/blib/arch:/Users/hornenj/.cpan/build/Iterator-Util-0.02-h6194j/blib/lib:/Users/hornenj/.cpan/build/Iterator-0.03-eQbT9n/blib/arch:/Users/hornenj/.cpan/build/Iterator-0.03-eQbT9n/blib/lib:/Users/hornenj/.cpan/build/Devel-Platform-Info-0.16-QOUp9C/blib/arch:/Users/hornenj/.cpan/build/Devel-Platform-Info-0.16-QOUp9C/blib/lib:/Users/hornenj/.cpan/build/Sys-Info-0.78-w000ng/blib/arch:/Users/hornenj/.cpan/build/Sys-Info-0.78-w000ng/blib/lib:/Users/hornenj/.cpan/build/Sys-Info-Driver-OSX-0.7958-rfjeRV/blib/arch:/Users/hornenj/.cpan/build/Sys-Info-Driver-OSX-0.7958-rfjeRV/blib/lib:/Users/hornenj/.cpan/build/Mac-PropertyList-1.41-Dol3zu/blib/arch:/Users/hornenj/.cpan/build/Mac-PropertyList-1.41-Dol3zu/blib/lib:/Users/hornenj/.cpan/build/XML-Entities-FYJilx/blib/arch:/Users/hornenj/.cpan/build/XML-Entities-FYJilx/blib/lib:/Users/hornenj/.cpan/build/Test-Sys-Info-0.20-1uswWm/blib/arch:/Users/hornenj/.cpan/build/Test-Sys-Info-0.20-1uswWm/blib/lib:/Users/hornenj/.cpan/build/Math-MatrixReal-2.12-KfCxNd/blib/arch:/Users/hornenj/.cpan/build/Math-MatrixReal-2.12-KfCxNd/blib/lib:/Users/hornenj/.cpan/build/re-engine-Lua-0.16-9X8Pq1/blib/arch:/Users/hornenj/.cpan/build/re-engine-Lua-0.16-9X8Pq1/blib/lib
    PERL5OPT = 
    PERL5_CPANPLUS_IS_RUNNING = 69770
    PERL5_CPAN_IS_RUNNING = 69770
    PERL5_MINISMOKEBOX = 0.58
    PERLBREW_BASHRC_VERSION = 0.75
    PERLBREW_HOME = /Users/hornenj/.perlbrew
    PERLBREW_LIB = 
    PERLBREW_MANPATH = /Users/hornenj/perl5/perlbrew/perls/perl-5.23.8/man
    PERLBREW_PATH = /Users/hornenj/perl5/perlbrew/bin:/Users/hornenj/perl5/perlbrew/perls/perl-5.23.8/bin
    PERLBREW_PERL = perl-5.23.8
    PERLBREW_ROOT = /Users/hornenj/perl5/perlbrew
    PERLBREW_VERSION = 0.75
    PERL_EXTUTILS_AUTOINSTALL = --defaultdeps
    PERL_LOCAL_LIB_ROOT = 
    PERL_MM_USE_DEFAULT = 1
    SHELL = /bin/bash
    TERM = xterm-256color
    TMPDIR = /var/folders/pz/pd7y1qjs6s3cbk170cw50fjc000c61/T/
    ac_cv_path_INTLTOOL_PERL = /usr/bin/perl

Perl special variables (and OS-specific diagnostics, for MSWin32):

    $^X = /Users/hornenj/perl5/perlbrew/perls/perl-5.23.8/bin/perl5.23.8
    $UID/$EUID = 12481 / 12481
    $GID = 14 14 5344 37191 527 241
    $EGID = 14 14 5344 37191 527 241

Perl module toolchain versions installed:

    Module              Have    
    ------------------- --------
    CPAN                2.10    
    CPAN::Meta          2.150005
    Cwd                 3.63    
    ExtUtils::CBuilder  0.280225
    ExtUtils::Command   7.10    
    ExtUtils::Install   2.04    
    ExtUtils::MakeMaker 7.10_01 
    ExtUtils::Manifest  1.70    
    ExtUtils::ParseXS   3.31    
    File::Spec          3.63    
    JSON                2.90    
    JSON::PP            2.27300 
    Module::Build       0.4216  
    Module::Signature   0.79    
    Parse::CPAN::Meta   1.4417  
    Test::Harness       3.36    
    Test::More          1.001014
    YAML                1.15    
    YAML::Syck          1.29    
    version             0.9916  


--

Summary of my perl5 (revision 5 version 23 subversion 8) configuration:
   
  Platform:
    osname=darwin, osvers=14.5.0, archname=darwin-thread-multi-2level
    uname='darwin ncbimac2027.ncbi.nlm.nih.gov 14.5.0 darwin kernel version 14.5.0: tue sep 1 21:23:09 pdt 2015; root:xnu-2782.50.1~1release_x86_64 x86_64 '
    config_args='-de -Dprefix=/Users/hornenj/perl5/perlbrew/perls/perl-5.23.8 -Duseithreads -Dusemultiplicity -Dusedevel -Dusedevel -Accflags=-O2 -W -Wformat=2 -Wswitch -Wshadow -Wwrite-strings -Wuninitialized -Wall -pipe -mtune=native -march=native -fomit-frame-pointer -msse2 -msse -mmmx -pedantic -D_FORTIFY_SOURCE=2 -Wpointer-arith -Wstrict-prototypes -fstack-protector -Wstack-protector -Wextra -Wbad-function-cast -Wcast-align -Wcast-qual -Wdisabled-optimization -Wendif-labels -Wfloat-equal -Wformat-nonliteral -Winline -Wmissing-declarations -Wmissing-prototypes -Wnested-externs -Wpointer-arith -Wundef -Wformat-security -fassociative-math -Acc=cc -Aeval:scriptdir=/Users/hornenj/perl5/perlbrew/perls/perl-5.23.8/bin'
    hint=recommended, useposix=true, d_sigaction=define
    useithreads=define, usemultiplicity=define
    use64bitint=define, use64bitall=define, uselongdouble=undef
    usemymalloc=n, bincompat5005=undef
  Compiler:
    cc=' cc', ccflags ='-fno-common -DPERL_DARWIN -O2 -W -Wformat=2 -Wswitch -Wshadow -Wwrite-strings -Wuninitialized -Wall -pipe -mtune=native -march=native -fomit-frame-pointer -msse2 -msse -mmmx -pedantic -D_FORTIFY_SOURCE=2 -Wpointer-arith -Wstrict-prototypes -fstack-protector -Wstack-protector -Wextra -Wbad-function-cast -Wcast-align -Wcast-qual -Wdisabled-optimization -Wendif-labels -Wfloat-equal -Wformat-nonliteral -Winline -Wmissing-declarations -Wmissing-prototypes -Wnested-externs -Wpointer-arith -Wundef -Wformat-security -fassociative-math -fno-strict-aliasing -fstack-protector-strong -I/usr/local/include',
    optimize='-O3',
    cppflags='-fno-common -DPERL_DARWIN -O2 -W -Wformat=2 -Wswitch -Wshadow -Wwrite-strings -Wuninitialized -Wall -pipe -mtune=native -march=native -fomit-frame-pointer -msse2 -msse -mmmx -pedantic -D_FORTIFY_SOURCE=2 -Wpointer-arith -Wstrict-prototypes -fstack-protector -Wstack-protector -Wextra -Wbad-function-cast -Wcast-align -Wcast-qual -Wdisabled-optimization -Wendif-labels -Wfloat-equal -Wformat-nonliteral -Winline -Wmissing-declarations -Wmissing-prototypes -Wnested-externs -Wpointer-arith -Wundef -Wformat-security -fassociative-math -fno-strict-aliasing -fstack-protector-strong -I/usr/local/include'
    ccversion='', gccversion='4.2.1 Compatible Apple LLVM 7.0.0 (clang-700.0.72)', gccosandvers=''
    intsize=4, longsize=8, ptrsize=8, doublesize=8, byteorder=12345678, doublekind=3
    d_longlong=define, longlongsize=8, d_longdbl=define, longdblsize=16, longdblkind=3
    ivtype='long', ivsize=8, nvtype='double', nvsize=8, Off_t='off_t', lseeksize=8
    alignbytes=8, prototype=define
  Linker and Libraries:
    ld='env MACOSX_DEPLOYMENT_TARGET=10.3 cc', ldflags =' -fstack-protector-strong -L/usr/local/lib'
    libpth=/Applications/Xcode.app/Contents/Developer/Toolchains/XcodeDefault.xctoolchain/usr/bin/../lib/clang/7.0.0/lib /Applications/Xcode.app/Contents/Developer/Toolchains/XcodeDefault.xctoolchain/usr/lib /Applications/Xcode.app/Contents/Developer/Platforms/MacOSX.platform/Developer/SDKs/MacOSX10.11.sdk/usr/lib /usr/local/lib /usr/lib
    libs=-lpthread -ldbm -ldl -lm -lutil -lc
    perllibs=-lpthread -ldl -lm -lutil -lc
    libc=, so=dylib, useshrplib=false, libperl=libperl.a
    gnulibc_version=''
  Dynamic Linking:
    dlsrc=dl_dlopen.xs, dlext=bundle, d_dlsymun=undef, ccdlflags=' '
    cccdlflags=' ', lddlflags=' -bundle -undefined dynamic_lookup -L/usr/local/lib -fstack-protector-strong'


Characteristics of this binary (from libperl): 
  Compile-time options: HAS_TIMES MULTIPLICITY PERLIO_LAYERS
                        PERL_COPY_ON_WRITE PERL_DONT_CREATE_GVSV
                        PERL_HASH_FUNC_ONE_AT_A_TIME_HARD
                        PERL_IMPLICIT_CONTEXT PERL_MALLOC_WRAP
                        PERL_PRESERVE_IVUV PERL_USE_DEVEL USE_64_BIT_ALL
                        USE_64_BIT_INT USE_ITHREADS USE_LARGE_FILES
                        USE_LOCALE USE_LOCALE_COLLATE USE_LOCALE_CTYPE
                        USE_LOCALE_NUMERIC USE_LOCALE_TIME USE_PERLIO
                        USE_PERL_ATOF USE_REENTRANT_API
  Locally applied patches:
	Devel::PatchPerl 1.30
  Built under darwin
  Compiled at Mar 21 2016 10:48:36
  %ENV:
    PERL5LIB="/Users/hornenj/.cpan/build/Data-YAML-0.0.7-DfFw2O/blib/arch:/Users/hornenj/.cpan/build/Data-YAML-0.0.7-DfFw2O/blib/lib:/Users/hornenj/.cpan/build/Data-Structure-Util-0.16-EQkNJD/blib/arch:/Users/hornenj/.cpan/build/Data-Structure-Util-0.16-EQkNJD/blib/lib:/Users/hornenj/.cpan/build/Data-DPath-0.55-KGgTxE/blib/arch:/Users/hornenj/.cpan/build/Data-DPath-0.55-KGgTxE/blib/lib:/Users/hornenj/.cpan/build/Iterator-Util-0.02-h6194j/blib/arch:/Users/hornenj/.cpan/build/Iterator-Util-0.02-h6194j/blib/lib:/Users/hornenj/.cpan/build/Iterator-0.03-eQbT9n/blib/arch:/Users/hornenj/.cpan/build/Iterator-0.03-eQbT9n/blib/lib:/Users/hornenj/.cpan/build/Devel-Platform-Info-0.16-QOUp9C/blib/arch:/Users/hornenj/.cpan/build/Devel-Platform-Info-0.16-QOUp9C/blib/lib:/Users/hornenj/.cpan/build/Sys-Info-0.78-w000ng/blib/arch:/Users/hornenj/.cpan/build/Sys-Info-0.78-w000ng/blib/lib:/Users/hornenj/.cpan/build/Sys-Info-Driver-OSX-0.7958-rfjeRV/blib/arch:/Users/hornenj/.cpan/build/Sys-Info-Driver-OSX-0.7958-rfjeRV/blib/lib:/Users/hornenj/.cpan/build/Mac-PropertyList-1.41-Dol3zu/blib/arch:/Users/hornenj/.cpan/build/Mac-PropertyList-1.41-Dol3zu/blib/lib:/Users/hornenj/.cpan/build/XML-Entities-FYJilx/blib/arch:/Users/hornenj/.cpan/build/XML-Entities-FYJilx/blib/lib:/Users/hornenj/.cpan/build/Test-Sys-Info-0.20-1uswWm/blib/arch:/Users/hornenj/.cpan/build/Test-Sys-Info-0.20-1uswWm/blib/lib:/Users/hornenj/.cpan/build/Math-MatrixReal-2.12-KfCxNd/blib/arch:/Users/hornenj/.cpan/build/Math-MatrixReal-2.12-KfCxNd/blib/lib:/Users/hornenj/.cpan/build/re-engine-Lua-0.16-9X8Pq1/blib/arch:/Users/hornenj/.cpan/build/re-engine-Lua-0.16-9X8Pq1/blib/lib"
    PERL5OPT=""
    PERL5_CPANPLUS_IS_RUNNING="69770"
    PERL5_CPAN_IS_RUNNING="69770"
    PERL5_MINISMOKEBOX="0.58"
    PERLBREW_BASHRC_VERSION="0.75"
    PERLBREW_HOME="/Users/hornenj/.perlbrew"
    PERLBREW_LIB=""
    PERLBREW_MANPATH="/Users/hornenj/perl5/perlbrew/perls/perl-5.23.8/man"
    PERLBREW_PATH="/Users/hornenj/perl5/perlbrew/bin:/Users/hornenj/perl5/perlbrew/perls/perl-5.23.8/bin"
    PERLBREW_PERL="perl-5.23.8"
    PERLBREW_ROOT="/Users/hornenj/perl5/perlbrew"
    PERLBREW_VERSION="0.75"
    PERL_EXTUTILS_AUTOINSTALL="--defaultdeps"
    PERL_LOCAL_LIB_ROOT=""
    PERL_MM_USE_DEFAULT="1"
  @INC:
    /Users/hornenj/.cpan/build/Data-YAML-0.0.7-DfFw2O/blib/arch
    /Users/hornenj/.cpan/build/Data-YAML-0.0.7-DfFw2O/blib/lib
    /Users/hornenj/.cpan/build/Data-Structure-Util-0.16-EQkNJD/blib/arch
    /Users/hornenj/.cpan/build/Data-Structure-Util-0.16-EQkNJD/blib/lib
    /Users/hornenj/.cpan/build/Data-DPath-0.55-KGgTxE/blib/arch
    /Users/hornenj/.cpan/build/Data-DPath-0.55-KGgTxE/blib/lib
    /Users/hornenj/.cpan/build/Iterator-Util-0.02-h6194j/blib/arch
    /Users/hornenj/.cpan/build/Iterator-Util-0.02-h6194j/blib/lib
    /Users/hornenj/.cpan/build/Iterator-0.03-eQbT9n/blib/arch
    /Users/hornenj/.cpan/build/Iterator-0.03-eQbT9n/blib/lib
    /Users/hornenj/.cpan/build/Devel-Platform-Info-0.16-QOUp9C/blib/arch
    /Users/hornenj/.cpan/build/Devel-Platform-Info-0.16-QOUp9C/blib/lib
    /Users/hornenj/.cpan/build/Sys-Info-0.78-w000ng/blib/arch
    /Users/hornenj/.cpan/build/Sys-Info-0.78-w000ng/blib/lib
    /Users/hornenj/.cpan/build/Sys-Info-Driver-OSX-0.7958-rfjeRV/blib/arch
    /Users/hornenj/.cpan/build/Sys-Info-Driver-OSX-0.7958-rfjeRV/blib/lib
    /Users/hornenj/.cpan/build/Mac-PropertyList-1.41-Dol3zu/blib/arch
    /Users/hornenj/.cpan/build/Mac-PropertyList-1.41-Dol3zu/blib/lib
    /Users/hornenj/.cpan/build/XML-Entities-FYJilx/blib/arch
    /Users/hornenj/.cpan/build/XML-Entities-FYJilx/blib/lib
    /Users/hornenj/.cpan/build/Test-Sys-Info-0.20-1uswWm/blib/arch
    /Users/hornenj/.cpan/build/Test-Sys-Info-0.20-1uswWm/blib/lib
    /Users/hornenj/.cpan/build/Math-MatrixReal-2.12-KfCxNd/blib/arch
    /Users/hornenj/.cpan/build/Math-MatrixReal-2.12-KfCxNd/blib/lib
    /Users/hornenj/.cpan/build/re-engine-Lua-0.16-9X8Pq1/blib/arch
    /Users/hornenj/.cpan/build/re-engine-Lua-0.16-9X8Pq1/blib/lib
    /Users/hornenj/perl5/perlbrew/perls/perl-5.23.8/lib/site_perl/5.23.8/darwin-thread-multi-2level
    /Users/hornenj/perl5/perlbrew/perls/perl-5.23.8/lib/site_perl/5.23.8
    /Users/hornenj/perl5/perlbrew/perls/perl-5.23.8/lib/5.23.8/darwin-thread-multi-2level
    /Users/hornenj/perl5/perlbrew/perls/perl-5.23.8/lib/5.23.8
    .