IPC-Run v0.96 Perl 5 v5.10.0 OpenBSD.amd64-openbsd-multi

Status
Pass
From
Nigel Horne
Dist
IPC-Run v0.96
Platform
Perl 5 v5.10.0 OpenBSD.amd64-openbsd-multi
Date
2018-01-31 18:00:35
ID
a2e93142-06b0-11e8-af2b-acaf1d79aee4
This distribution has been tested as part of the CPAN Testers
project, supporting the Perl programming language.  See
http://wiki.cpantesters.org/ for more information or email
questions to cpan-testers-discuss@perl.org


--
Dear Todd Rinaldo,

This is a computer-generated report for IPC-Run-0.96
on perl 5.10.0, created by CPAN-Reporter-1.2018.

Thank you for uploading your work to CPAN.  Congratulations!
All tests were successful.

Sections of this report:

    * Tester comments
    * Program output
    * Prerequisites
    * Environment and other context

------------------------------
TESTER COMMENTS
------------------------------

Additional comments from tester:

none provided

------------------------------
PROGRAM OUTPUT
------------------------------

Output from '/usr/bin/make test':

PERL_DL_NONLAZY=1 "/home/njh/perl5/perlbrew/perls/perl-5.10.0-multi/bin/perl5.10.0" "-MExtUtils::Command::MM" "-MTest::Harness" "-e" "undef *Test::Harness::Switches; test_harness(0, 'blib/lib', 'blib/arch')" t/*.t
perl5.10.0:/home/njh/perl5/perlbrew/perls/perl-5.10.0-multi/lib/5.10.0/OpenBSD.amd64-openbsd-multi/auto/Cwd/Cwd.so: undefined symbol 'croak_xs_usage'
perl5.10.0:/home/njh/perl5/perlbrew/perls/perl-5.10.0-multi/lib/5.10.0/OpenBSD.amd64-openbsd-multi/auto/Cwd/Cwd.so: undefined symbol 'croak_xs_usage'
t/97_meta....................skipped
        all skipped: Author tests not required for installation
t/98_pod.....................skipped
        all skipped: Author tests not required for installation
t/98_pod_coverage............skipped
        all skipped: Author tests not required for installation
t/99_perl_minimum_version....skipped
        all skipped: Author tests not required for installation
t/adopt......................skipped
        all skipped: adopt not implemented yet
t/binmode....................ok
t/bogus......................ok
t/filter.....................ok
t/harness....................ok
t/io.........................ok
t/kill_kill..................ok
t/parallel...................ok
t/pty........................skipped
        all skipped: IO::Pty not installed
t/pump.......................ok
t/run........................ok
t/signal.....................ok
t/timeout....................ok
t/timer......................ok
t/win32_compile..............ok
t/windows_search_path........ok
All tests successful, 6 tests skipped.
Files=20, Tests=661, 28 wallclock secs ( 8.22 cusr +  4.02 csys = 12.24 CPU)

------------------------------
PREREQUISITES
------------------------------

Prerequisite modules loaded:

requires:

    Module              Need Have    
    ------------------- ---- --------
    Test::More          0.47 1.302120

build_requires:

    Module              Need Have    
    ------------------- ---- --------
    ExtUtils::MakeMaker 0    7.30    

configure_requires:

    Module              Need Have    
    ------------------- ---- --------
    ExtUtils::MakeMaker 0    7.30    


------------------------------
ENVIRONMENT AND OTHER CONTEXT
------------------------------

Environment variables:

    HARNESS_OPTIONS = j2:c
    NONINTERACTIVE_TESTING = 1
    PATH = /home/njh/perl5/perlbrew/bin:/home/njh/perl5/perlbrew/perls/perl-5.10.0-multi/bin:/home/njh/perl5/perlbrew/bin:/home/njh/perl5/perlbrew/perls/perl-5.26.1/bin:/home/njh/bin:/bin:/sbin:/usr/bin:/usr/sbin:/usr/X11R6/bin:/usr/local/bin:/usr/local/sbin:/usr/games:.
    PERL5LIB = 
    PERL5OPT = 
    PERL5_CPANPLUS_IS_RUNNING = 16492
    PERL5_CPAN_IS_RUNNING = 16492
    PERLBREW_HOME = /home/njh/.perlbrew
    PERLBREW_LIB = 
    PERLBREW_MANPATH = /home/njh/perl5/perlbrew/perls/perl-5.10.0-multi/man
    PERLBREW_PATH = /home/njh/perl5/perlbrew/bin:/home/njh/perl5/perlbrew/perls/perl-5.10.0-multi/bin
    PERLBREW_PERL = perl-5.10.0-multi
    PERLBREW_ROOT = /home/njh/perl5/perlbrew
    PERLBREW_SHELLRC_VERSION = 0.82
    PERLBREW_VERSION = 0.82
    PERL_LOCAL_LIB_ROOT = 
    PERL_MM_USE_DEFAULT = 1
    SHELL = /usr/local/bin/bash
    TERM = xterm-256color

Perl special variables (and OS-specific diagnostics, for MSWin32):

    $^X = /home/njh/perl5/perlbrew/perls/perl-5.10.0-multi/bin/perl5.10.0
    $UID/$EUID = 1000 / 1000
    $GID = 1000 1000 0
    $EGID = 1000 1000 0

Perl module toolchain versions installed:

    Module              Have     
    ------------------- ---------
    CPAN                2.16     
    CPAN::Meta          2.143240 
    Cwd                 3.62     
    ExtUtils::CBuilder  0.21     
    ExtUtils::Command   7.30     
    ExtUtils::Install   2.06     
    ExtUtils::MakeMaker 7.30     
    ExtUtils::Manifest  1.70     
    ExtUtils::ParseXS   2.18_02  
    File::Spec          3.62     
    JSON                n/a      
    JSON::PP            2.27203  
    Module::Build       0.2808_01
    Module::Signature   n/a      
    Parse::CPAN::Meta   1.4414   
    Test::Harness       2.64     
    Test::More          1.302120 
    YAML                n/a      
    YAML::Syck          n/a      
    version             0.9918   


--

Summary of my perl5 (revision 5 version 10 subversion 0) configuration:
  Platform:
    osname=openbsd, osvers=6.2, archname=OpenBSD.amd64-openbsd-multi
    uname='openbsd netgate1.bandsman.co.uk 6.2 generic.mp#2 amd64 '
    config_args='-de -Dprefix=/home/njh/perl5/perlbrew/perls/perl-5.10.0-multi -Dusedevel -Dusemultiplicity -Accflags= -Aeval:scriptdir=/home/njh/perl5/perlbrew/perls/perl-5.10.0-multi/bin'
    hint=recommended, useposix=true, d_sigaction=define
    useithreads=undef, usemultiplicity=define
    useperlio=define, d_sfio=undef, uselargefiles=define, usesocks=undef
    use64bitint=define, use64bitall=define, uselongdouble=undef
    usemymalloc=n, bincompat5005=undef
  Compiler:
    cc='cc', ccflags ='-fno-strict-aliasing -pipe -I/usr/local/include',
    optimize='-O2',
    cppflags='-fno-strict-aliasing -pipe -I/usr/local/include'
    ccversion='', gccversion='4.2.1 Compatible OpenBSD Clang 4.0.0 (tags/RELEASE_400/final)', gccosandvers=''
    intsize=4, longsize=8, ptrsize=8, doublesize=8, byteorder=12345678
    d_longlong=define, longlongsize=8, d_longdbl=define, longdblsize=16
    ivtype='long', ivsize=8, nvtype='double', nvsize=8, Off_t='off_t', lseeksize=8
    alignbytes=8, prototype=define
  Linker and Libraries:
    ld='cc', ldflags ='-Wl,-E  -L/usr/local/lib'
    libpth=/usr/local/lib /usr/lib
    libs=-lm -lutil -lc
    perllibs=-lm -lutil -lc
    libc=/usr/lib/libc.so.90.0, so=so, useshrplib=false, libperl=libperl.a
    gnulibc_version=''
  Dynamic Linking:
    dlsrc=dl_dlopen.xs, dlext=so, d_dlsymun=undef, ccdlflags=' '
    cccdlflags='-DPIC -fPIC ', lddlflags='-shared -fPIC  -L/usr/local/lib'


Characteristics of this binary (from libperl): 
  Compile-time options: MULTIPLICITY PERL_DONT_CREATE_GVSV
                        PERL_IMPLICIT_CONTEXT PERL_MALLOC_WRAP USE_64_BIT_ALL
                        USE_64_BIT_INT USE_LARGE_FILES USE_PERLIO
  Locally applied patches:
	Devel::PatchPerl 1.48
  Built under openbsd
  Compiled at Jan 23 2018 09:46:50
  %ENV:
    PERL5LIB=""
    PERL5OPT=""
    PERL5_CPANPLUS_IS_RUNNING="16492"
    PERL5_CPAN_IS_RUNNING="16492"
    PERLBREW_HOME="/home/njh/.perlbrew"
    PERLBREW_LIB=""
    PERLBREW_MANPATH="/home/njh/perl5/perlbrew/perls/perl-5.10.0-multi/man"
    PERLBREW_PATH="/home/njh/perl5/perlbrew/bin:/home/njh/perl5/perlbrew/perls/perl-5.10.0-multi/bin"
    PERLBREW_PERL="perl-5.10.0-multi"
    PERLBREW_ROOT="/home/njh/perl5/perlbrew"
    PERLBREW_SHELLRC_VERSION="0.82"
    PERLBREW_VERSION="0.82"
    PERL_LOCAL_LIB_ROOT=""
    PERL_MM_USE_DEFAULT="1"
  @INC:
    /home/njh/perl5/perlbrew/perls/perl-5.10.0-multi/lib/5.10.0/OpenBSD.amd64-openbsd-multi
    /home/njh/perl5/perlbrew/perls/perl-5.10.0-multi/lib/5.10.0
    /home/njh/perl5/perlbrew/perls/perl-5.10.0-multi/lib/site_perl/5.10.0/OpenBSD.amd64-openbsd-multi
    /home/njh/perl5/perlbrew/perls/perl-5.10.0-multi/lib/site_perl/5.10.0
    .