Report for PadWalker-1.98

Back
From: metabase:user:c086eaf4-c8a4-11e2-b158-c35ef8e388f9
Subject: PASS PadWalker-1.98 v5.18.2 Mac OS X
Date: 2014-01-15T04:22:25Z

This distribution has been tested as part of the CPAN Testers
project, supporting the Perl programming language.  See
http://wiki.cpantesters.org/ for more information or email
questions to cpan-testers-discuss@perl.org


--
Dear ROBIN,

This is a computer-generated report for PadWalker-1.98
on perl 5.18.2, created by App::cpanminus::reporter 0.10 (1.7001).

Thank you for uploading your work to CPAN.  Congratulations!
All tests were successful.

Sections of this report:

    * Tester comments
    * Program output
    * Prerequisites
    * Environment and other context

------------------------------
TESTER COMMENTS
------------------------------

Additional comments from tester:

none provided

------------------------------
PROGRAM OUTPUT
------------------------------

Output from '':

Building and testing PadWalker-1.98
cp PadWalker.pm blib/lib/PadWalker.pm
Running Mkbootstrap for PadWalker ()
chmod 644 PadWalker.bs
/Users/ether/perl5/perlbrew/perls/18.2/bin/perl /Users/ether/perl5/perlbrew/perls/18.2/lib/5.18.2/ExtUtils/xsubpp  -typemap /Users/ether/perl5/perlbrew/perls/18.2/lib/5.18.2/ExtUtils/typemap  PadWalker.xs > PadWalker.xsc && mv PadWalker.xsc PadWalker.c
cc -c   -fno-common -DPERL_DARWIN -fno-strict-aliasing -pipe -fstack-protector -I/usr/local/include -I/opt/local/include -O3   -DVERSION=\"1.98\" -DXS_VERSION=\"1.98\"  "-I/Users/ether/perl5/perlbrew/perls/18.2/lib/5.18.2/darwin-2level/CORE"   PadWalker.c
rm -f blib/arch/auto/PadWalker/PadWalker.bundle
env MACOSX_DEPLOYMENT_TARGET=10.3 cc  -bundle -undefined dynamic_lookup -L/usr/local/lib -L/opt/local/lib -fstack-protector PadWalker.o  -o blib/arch/auto/PadWalker/PadWalker.bundle 	\
	     	\
	  
chmod 755 blib/arch/auto/PadWalker/PadWalker.bundle
/Users/ether/perl5/perlbrew/perls/18.2/bin/perl -MExtUtils::Command::MM -e 'cp_nonempty' -- PadWalker.bs blib/arch/auto/PadWalker/PadWalker.bs 644
Manifying blib/man3/PadWalker.0
Running Mkbootstrap for PadWalker ()
chmod 644 PadWalker.bs
PERL_DL_NONLAZY=1 /Users/ether/perl5/perlbrew/perls/18.2/bin/perl "-MExtUtils::Command::MM" "-MTest::Harness" "-e" "undef *Test::Harness::Switches; test_harness(0, 'blib/lib', 'blib/arch')" t/*.t
t/foo.t ....... ok
t/dm.t ........ ok
t/closure.t ... ok
t/our.t ....... ok
t/sub.t ....... ok
t/test.t ...... ok
t/recurse.t ... ok
t/tt.t ........ ok
t/var_name.t .. ok
All tests successful.
Files=9, Tests=81,  0 wallclock secs ( 0.06 usr  0.04 sys +  0.10 cusr  0.05 csys =  0.25 CPU)
Result: PASS

------------------------------
PREREQUISITES
------------------------------

Prerequisite modules loaded:

    No requirements found

------------------------------
ENVIRONMENT AND OTHER CONTEXT
------------------------------

Environment variables:

    LANG = en_CA.UTF-8
    PATH = /Users/ether/.perlbrew/libs/18.2@std/bin:/Users/ether/perl5/perlbrew/bin:/Users/ether/perl5/perlbrew/perls/18.2/bin:/Users/ether/bin:/Users/ether/git/misc/install/tequila/bin:/Users/ether/perl5/perlbrew/bin:/Users/ether/perl5/perlbrew/perls/19.7/bin:/opt/local/bin:/opt/local/sbin:/usr/bin:/bin:/usr/sbin:/sbin:/usr/local/bin:/usr/X11/bin:/opt/local/share/git-core/contrib/workdir
    PERL5LIB = /Users/ether/.perlbrew/libs/18.2@std/lib/perl5
    PERLBREW_BASHRC_VERSION = 0.67
    PERLBREW_HOME = /Users/ether/.perlbrew
    PERLBREW_LIB = std
    PERLBREW_MANPATH = /Users/ether/.perlbrew/libs/18.2@std/man:/Users/ether/perl5/perlbrew/perls/18.2/man
    PERLBREW_PATH = /Users/ether/.perlbrew/libs/18.2@std/bin:/Users/ether/perl5/perlbrew/bin:/Users/ether/perl5/perlbrew/perls/18.2/bin
    PERLBREW_PERL = 18.2
    PERLBREW_ROOT = /Users/ether/perl5/perlbrew
    PERLBREW_VERSION = 0.67
    PERLDOC_PAGER = less -sicMr
    PERL_AUTOINSTALL_PREFER_CPAN = 1
    PERL_LOCAL_LIB_ROOT = /Users/ether/.perlbrew/libs/18.2@std
    PERL_MB_OPT = --install_base /Users/ether/.perlbrew/libs/18.2@std
    PERL_MM_OPT = INSTALL_BASE=/Users/ether/.perlbrew/libs/18.2@std
    SHELL = /bin/bash
    TERM = xterm-color
    TMPDIR = /var/folders/+h/+hzG2W8MHem4qQiRP616jE+++TQ/-Tmp-/

Perl special variables (and OS-specific diagnostics, for MSWin32):

    EGID = 20 20 402 204 100 98 81 80 79 61 12 401 403
    EUID = 503
    EXECUTABLE_NAME = /Users/ether/perl5/perlbrew/perls/18.2/bin/perl
    GID = 20 20 402 204 100 98 81 80 79 61 12 401 403
    UID = 503

Perl module toolchain versions installed:

    Module              Have    
    ------------------- --------
    CPAN                2.00    
    CPAN::Meta          2.133380
    Cwd                 3.40    
    ExtUtils::CBuilder  0.280210
    ExtUtils::Command   1.17    
    ExtUtils::Install   1.59    
    ExtUtils::MakeMaker 6.86    
    ExtUtils::Manifest  1.63    
    ExtUtils::ParseXS   3.18    
    File::Spec          3.40    
    JSON                2.90    
    JSON::PP            2.27203 
    Module::Build       0.4204  
    Module::Signature   n/a     
    Parse::CPAN::Meta   1.4405  
    Test::Harness       3.30    
    Test::More          1.001002
    YAML                0.88    
    YAML::Syck          1.27    
    version             0.9902  


--

Summary of my perl5 (revision 5 version 18 subversion 2) configuration:
   
  Platform:
    osname=darwin, osvers=10.8.0, archname=darwin-2level
    uname='darwin tequila 10.8.0 darwin kernel version 10.8.0: tue jun 7 16:33:36 pdt 2011; root:xnu-1504.15.3~1release_i386 i386 '
    config_args='-de -Dprefix=/Users/ether/perl5/perlbrew/perls/18.2 -Dman1dir=none -Dman3dir=none -Aeval:scriptdir=/Users/ether/perl5/perlbrew/perls/18.2/bin'
    hint=recommended, useposix=true, d_sigaction=define
    useithreads=undef, usemultiplicity=undef
    useperlio=define, d_sfio=undef, uselargefiles=define, usesocks=undef
    use64bitint=define, use64bitall=define, uselongdouble=undef
    usemymalloc=n, bincompat5005=undef
  Compiler:
    cc='cc', ccflags ='-fno-common -DPERL_DARWIN -fno-strict-aliasing -pipe -fstack-protector -I/usr/local/include -I/opt/local/include',
    optimize='-O3',
    cppflags='-fno-common -DPERL_DARWIN -fno-strict-aliasing -pipe -fstack-protector -I/usr/local/include -I/opt/local/include'
    ccversion='', gccversion='4.2.1 (Apple Inc. build 5666) (dot 3)', gccosandvers=''
    intsize=4, longsize=8, ptrsize=8, doublesize=8, byteorder=12345678
    d_longlong=define, longlongsize=8, d_longdbl=define, longdblsize=16
    ivtype='long', ivsize=8, nvtype='double', nvsize=8, Off_t='off_t', lseeksize=8
    alignbytes=8, prototype=define
  Linker and Libraries:
    ld='env MACOSX_DEPLOYMENT_TARGET=10.3 cc', ldflags =' -fstack-protector -L/usr/local/lib -L/opt/local/lib'
    libpth=/usr/local/lib /opt/local/lib /usr/lib
    libs=-lgdbm -ldbm -ldl -lm -lutil -lc
    perllibs=-ldl -lm -lutil -lc
    libc=, so=dylib, useshrplib=false, libperl=libperl.a
    gnulibc_version=''
  Dynamic Linking:
    dlsrc=dl_dlopen.xs, dlext=bundle, d_dlsymun=undef, ccdlflags=' '
    cccdlflags=' ', lddlflags=' -bundle -undefined dynamic_lookup -L/usr/local/lib -L/opt/local/lib -fstack-protector'


Characteristics of this binary (from libperl): 
  Compile-time options: HAS_TIMES PERLIO_LAYERS PERL_DONT_CREATE_GVSV
                        PERL_HASH_FUNC_ONE_AT_A_TIME_HARD PERL_MALLOC_WRAP
                        PERL_PRESERVE_IVUV PERL_SAWAMPERSAND USE_64_BIT_ALL
                        USE_64_BIT_INT USE_LARGE_FILES USE_LOCALE
                        USE_LOCALE_COLLATE USE_LOCALE_CTYPE
                        USE_LOCALE_NUMERIC USE_PERLIO USE_PERL_ATOF
  Built under darwin
  Compiled at Jan 14 2014 17:18:41
  %ENV:
    PERL5LIB="/Users/ether/.perlbrew/libs/18.2@std/lib/perl5"
    PERLBREW_BASHRC_VERSION="0.67"
    PERLBREW_HOME="/Users/ether/.perlbrew"
    PERLBREW_LIB="std"
    PERLBREW_MANPATH="/Users/ether/.perlbrew/libs/18.2@std/man:/Users/ether/perl5/perlbrew/perls/18.2/man"
    PERLBREW_PATH="/Users/ether/.perlbrew/libs/18.2@std/bin:/Users/ether/perl5/perlbrew/bin:/Users/ether/perl5/perlbrew/perls/18.2/bin"
    PERLBREW_PERL="18.2"
    PERLBREW_ROOT="/Users/ether/perl5/perlbrew"
    PERLBREW_VERSION="0.67"
    PERLDOC_PAGER="less -sicMr"
    PERL_AUTOINSTALL_PREFER_CPAN="1"
    PERL_LOCAL_LIB_ROOT="/Users/ether/.perlbrew/libs/18.2@std"
    PERL_MB_OPT="--install_base /Users/ether/.perlbrew/libs/18.2@std"
    PERL_MM_OPT="INSTALL_BASE=/Users/ether/.perlbrew/libs/18.2@std"
  @INC:
    /Users/ether/.perlbrew/libs/18.2@std/lib/perl5/darwin-2level
    /Users/ether/.perlbrew/libs/18.2@std/lib/perl5
    /Users/ether/perl5/perlbrew/perls/18.2/lib/site_perl/5.18.2/darwin-2level
    /Users/ether/perl5/perlbrew/perls/18.2/lib/site_perl/5.18.2
    /Users/ether/perl5/perlbrew/perls/18.2/lib/5.18.2/darwin-2level
    /Users/ether/perl5/perlbrew/perls/18.2/lib/5.18.2
    .