Report for Module-Pluggable-4.7

Back
From: metabase:user:5814c648-1635-11e2-b848-5610edc752f8
Subject: PASS Module-Pluggable-4.7 v5.16.2 GNU/Linux
Date: 2013-05-19T08:03:48Z

This distribution has been tested as part of the CPAN Testers
project, supporting the Perl programming language.  See
http://wiki.cpantesters.org/ for more information or email
questions to cpan-testers-discuss@perl.org


--
Dear Simon Wistow,

This is a computer-generated report for Module-Pluggable-4.7
on perl 5.16.2, created by CPAN-Reporter-1.2010.

Thank you for uploading your work to CPAN.  Congratulations!
All tests were successful.

Sections of this report:

    * Tester comments
    * Program output
    * Prerequisites
    * Environment and other context

------------------------------
TESTER COMMENTS
------------------------------

Additional comments from tester:

none provided

------------------------------
PROGRAM OUTPUT
------------------------------

Output from './Build test':

t/01use.t .................. ok
t/02alsoworks.t ............ ok
t/02works.t ................ ok
t/02works_taint.t .......... ok
t/03diffname.t ............. ok
t/04acmedir.t .............. ok
t/04acmedir_single.t ....... ok
t/04acmepath.t ............. ok
t/04acmepath_single.t ...... ok
t/05postpath.t ............. ok
t/06multipath.t ............ ok
t/07instantiate.t .......... ok
t/08nothing.t .............. ok
t/09require.t .............. ok
t/10innerpack.t ............ ok
t/10innerpack_inner.t ...... ok
t/10innerpack_noinner.t .... ok
t/10innerpack_onefile.t .... ok
t/10innerpack_override.t ... ok
t/10innerpack_super.t ...... ok
t/11usetwice.t ............. ok
t/12only.t ................. ok
t/12onlyarray.t ............ ok
t/12onlyregex.t ............ ok
t/12onlyrequire.t .......... ok
t/13except.t ............... ok
t/13exceptarray.t .......... ok
t/13exceptregex.t .......... ok
t/14package.t .............. ok
t/15topicsafe.t ............ ok
t/16different_extension.t .. ok
t/17devel_inner_package.t .. ok
t/18skipped_package.t ...... ok
t/19can_ok_clobber.t ....... ok
t/20dodgy_files.t .......... ok
t/21editor_junk.t .......... ok
t/22trigger.t .............. ok
t/23depth.t ................ ok
t/24local_inc_object.t ..... ok
t/24local_inc_package.t .... ok
All tests successful.
Files=40, Tests=173,  6 wallclock secs ( 0.12 usr  0.46 sys +  1.54 cusr  2.80 csys =  4.92 CPU)
Result: PASS

------------------------------
PREREQUISITES
------------------------------

Prerequisite modules loaded:

requires:

    Module         Need Have  
    -------------- ---- ------
    File::Basename 0    2.84  
    File::Spec     3.00 3.40  
    if             0    0.0602

build_requires:

    Module         Need Have  
    -------------- ---- ------
    Test::More     0.62 0.98  

configure_requires:

    Module         Need Have  
    -------------- ---- ------
    Module::Build  0.38 0.4005


------------------------------
ENVIRONMENT AND OTHER CONTEXT
------------------------------

Environment variables:

    LANG = en_US.utf8
    LC_COLLATE = POSIX
    LD_LIBRARY_PATH = /home/mauke/usr/lib
    PATH = /home/mauke/perl5/perlbrew/bin:/home/mauke/.cabal/bin:/home/mauke/usr/bin:/usr/local/bin:/usr/bin:/bin:/usr/local/games:/usr/games
    PERL5LIB = 
    PERL5OPT = 
    PERL5_CPANPLUS_IS_RUNNING = 11331
    PERL5_CPAN_IS_RUNNING = 11331
    PERLBREW_BASHRC_VERSION = 0.58
    PERLBREW_HOME = /home/mauke/.perlbrew
    PERLBREW_ROOT = /home/mauke/perl5/perlbrew
    PERL_UNICODE = SAL
    SHELL = /bin/bash
    TERM = tmux

Perl special variables (and OS-specific diagnostics, for MSWin32):

    $^X = /home/mauke/usr/bin/perl
    $UID/$EUID = 1000 / 1000
    $GID = 1000 8 24 25 29 30 44 46 108 109 115 1000
    $EGID = 1000 8 24 25 29 30 44 46 108 109 115 1000

Perl module toolchain versions installed:

    Module              Have    
    ------------------- --------
    CPAN                2.00    
    CPAN::Meta          2.130880
    Cwd                 3.40    
    ExtUtils::CBuilder  0.280206
    ExtUtils::Command   1.17    
    ExtUtils::Install   1.58    
    ExtUtils::MakeMaker 6.66    
    ExtUtils::Manifest  1.61    
    ExtUtils::ParseXS   3.18    
    File::Spec          3.40    
    JSON                2.57    
    JSON::PP            2.27202 
    Module::Build       0.4005  
    Module::Signature   n/a     
    Parse::CPAN::Meta   1.4404  
    Test::Harness       3.25    
    Test::More          0.98    
    YAML                0.84    
    YAML::Syck          n/a     
    version             0.9901  


--

Summary of my perl5 (revision 5 version 16 subversion 2) configuration:
   
  Platform:
    osname=linux, osvers=2.6.32-5-686, archname=i686-linux
    uname='linux debian-vb 2.6.32-5-686 #1 smp sun sep 23 09:49:36 utc 2012 i686 gnulinux '
    config_args='-Dprefix=/home/mauke/usr -Doptimize=-O2 -flto -Dldflags=-fstack-protector -L/usr/local/lib -O2 -flto -Dlddlflags=-shared -O2 -flto -L/usr/local/lib -fstack-protector -Dcf_email=l.mai@web.de -Dperladmin=none -de'
    hint=recommended, useposix=true, d_sigaction=define
    useithreads=undef, usemultiplicity=undef
    useperlio=define, d_sfio=undef, uselargefiles=define, usesocks=undef
    use64bitint=undef, use64bitall=undef, uselongdouble=undef
    usemymalloc=n, bincompat5005=undef
  Compiler:
    cc='cc', ccflags ='-fno-strict-aliasing -pipe -fstack-protector -I/usr/local/include -D_LARGEFILE_SOURCE -D_FILE_OFFSET_BITS=64',
    optimize='-O2 -flto',
    cppflags='-fno-strict-aliasing -pipe -fstack-protector -I/usr/local/include'
    ccversion='', gccversion='4.7.1', gccosandvers=''
    intsize=4, longsize=4, ptrsize=4, doublesize=8, byteorder=1234
    d_longlong=define, longlongsize=8, d_longdbl=define, longdblsize=12
    ivtype='long', ivsize=4, nvtype='double', nvsize=8, Off_t='off_t', lseeksize=8
    alignbytes=4, prototype=define
  Linker and Libraries:
    ld='cc', ldflags ='-fstack-protector -L/usr/local/lib -O2 -flto'
    libpth=/usr/local/lib /lib/../lib /usr/lib/../lib /lib /usr/lib /usr/lib/i486-linux-gnu /usr/lib64
    libs=-lnsl -ldl -lm -lcrypt -lutil -lc
    perllibs=-lnsl -ldl -lm -lcrypt -lutil -lc
    libc=/lib/libc-2.11.3.so, so=so, useshrplib=false, libperl=libperl.a
    gnulibc_version='2.11.3'
  Dynamic Linking:
    dlsrc=dl_dlopen.xs, dlext=so, d_dlsymun=undef, ccdlflags='-Wl,-E'
    cccdlflags='-fPIC', lddlflags='-shared -O2 -flto -L/usr/local/lib -fstack-protector'


Characteristics of this binary (from libperl): 
  Compile-time options: HAS_TIMES PERLIO_LAYERS PERL_DONT_CREATE_GVSV
                        PERL_MALLOC_WRAP PERL_PRESERVE_IVUV USE_LARGE_FILES
                        USE_LOCALE USE_LOCALE_COLLATE USE_LOCALE_CTYPE
                        USE_LOCALE_NUMERIC USE_PERLIO USE_PERL_ATOF
  Locally applied patches:
	SAVEARGV0 - disable magic open in <ARGV>
  Built under linux
  Compiled at Nov  1 2012 15:49:08
  %ENV:
    PERL5LIB=""
    PERL5OPT=""
    PERL5_CPANPLUS_IS_RUNNING="11331"
    PERL5_CPAN_IS_RUNNING="11331"
    PERLBREW_BASHRC_VERSION="0.58"
    PERLBREW_HOME="/home/mauke/.perlbrew"
    PERLBREW_ROOT="/home/mauke/perl5/perlbrew"
    PERL_UNICODE="SAL"
  @INC:
    /home/mauke/usr/lib/perl5/site_perl/5.16.2/i686-linux
    /home/mauke/usr/lib/perl5/site_perl/5.16.2
    /home/mauke/usr/lib/perl5/5.16.2/i686-linux
    /home/mauke/usr/lib/perl5/5.16.2
    /home/mauke/usr/lib/perl5/site_perl/5.16.1/i686-linux
    /home/mauke/usr/lib/perl5/site_perl/5.16.1
    /home/mauke/usr/lib/perl5/site_perl
    .