Report for XML-Parser-2.44

Back
From: metabase:user:7298ebcc-b357-11e4-8d18-8eca7e4756b9
Subject: PASS XML-Parser-2.44 v5.18.2 GNU/Linux
Date: 2016-02-29T05:38:18Z

This distribution has been tested as part of the CPAN Testers
project, supporting the Perl programming language.  See
http://wiki.cpantesters.org/ for more information or email
questions to cpan-testers-discuss@perl.org


--
Dear TODDR,

This is a computer-generated report for XML-Parser-2.44
on perl 5.18.2, created by App::cpanminus::reporter 0.12 (1.7027).

Thank you for uploading your work to CPAN.  Congratulations!
All tests were successful.

Sections of this report:

    * Tester comments
    * Program output
    * Prerequisites
    * Environment and other context

------------------------------
TESTER COMMENTS
------------------------------

Additional comments from tester:

none provided

------------------------------
PROGRAM OUTPUT
------------------------------

Output from '':

Building and testing XML-Parser-2.44
cp Parser/Style/Subs.pm blib/lib/XML/Parser/Style/Subs.pm
cp Parser/Encodings/iso-8859-2.enc blib/lib/XML/Parser/Encodings/iso-8859-2.enc
cp Parser/Encodings/windows-1255.enc blib/lib/XML/Parser/Encodings/windows-1255.enc
cp Parser/Encodings/x-euc-jp-unicode.enc blib/lib/XML/Parser/Encodings/x-euc-jp-unicode.enc
cp Parser/Style/Stream.pm blib/lib/XML/Parser/Style/Stream.pm
cp Parser/Encodings/windows-1251.enc blib/lib/XML/Parser/Encodings/windows-1251.enc
cp Parser/Encodings/euc-kr.enc blib/lib/XML/Parser/Encodings/euc-kr.enc
cp Parser/LWPExternEnt.pl blib/lib/XML/Parser/LWPExternEnt.pl
cp Parser/Encodings/iso-8859-7.enc blib/lib/XML/Parser/Encodings/iso-8859-7.enc
cp Parser.pm blib/lib/XML/Parser.pm
cp Parser/Encodings/README blib/lib/XML/Parser/Encodings/README
cp Parser/Encodings/x-euc-jp-jisx0221.enc blib/lib/XML/Parser/Encodings/x-euc-jp-jisx0221.enc
cp Parser/Style/Debug.pm blib/lib/XML/Parser/Style/Debug.pm
cp Parser/Encodings/big5.enc blib/lib/XML/Parser/Encodings/big5.enc
cp Parser/Encodings/x-sjis-jisx0221.enc blib/lib/XML/Parser/Encodings/x-sjis-jisx0221.enc
cp Parser/Encodings/iso-8859-8.enc blib/lib/XML/Parser/Encodings/iso-8859-8.enc
cp Parser/Encodings/ibm866.enc blib/lib/XML/Parser/Encodings/ibm866.enc
cp Parser/Encodings/windows-1250.enc blib/lib/XML/Parser/Encodings/windows-1250.enc
cp Parser/Encodings/x-sjis-cp932.enc blib/lib/XML/Parser/Encodings/x-sjis-cp932.enc
cp Parser/Style/Objects.pm blib/lib/XML/Parser/Style/Objects.pm
cp Parser/Encodings/x-sjis-jdk117.enc blib/lib/XML/Parser/Encodings/x-sjis-jdk117.enc
cp Parser/Encodings/iso-8859-5.enc blib/lib/XML/Parser/Encodings/iso-8859-5.enc
cp Parser/Encodings/windows-1252.enc blib/lib/XML/Parser/Encodings/windows-1252.enc
cp Parser/Style/Tree.pm blib/lib/XML/Parser/Style/Tree.pm
cp Parser/Encodings/iso-8859-4.enc blib/lib/XML/Parser/Encodings/iso-8859-4.enc
cp Parser/Encodings/iso-8859-9.enc blib/lib/XML/Parser/Encodings/iso-8859-9.enc
cp Parser/Encodings/koi8-r.enc blib/lib/XML/Parser/Encodings/koi8-r.enc
cp Parser/Encodings/x-sjis-unicode.enc blib/lib/XML/Parser/Encodings/x-sjis-unicode.enc
cp Parser/Encodings/Japanese_Encodings.msg blib/lib/XML/Parser/Encodings/Japanese_Encodings.msg
cp Parser/Encodings/iso-8859-3.enc blib/lib/XML/Parser/Encodings/iso-8859-3.enc
make[1]: Entering directory `/home/mojolicious/.cpanm/work/1456723672.18489/XML-Parser-2.44/Expat'
cp Expat.pm ../blib/lib/XML/Parser/Expat.pm
/home/mojolicious/perl5/perlbrew/perls/perl-5.18.2/bin/perl /home/mojolicious/perl5/perlbrew/perls/perl-5.18.2/lib/5.18.2/ExtUtils/xsubpp -noprototypes -typemap /home/mojolicious/perl5/perlbrew/perls/perl-5.18.2/lib/5.18.2/ExtUtils/typemap -typemap typemap  Expat.xs > Expat.xsc && mv Expat.xsc Expat.c
cc -c   -fno-strict-aliasing -pipe -fstack-protector -I/usr/local/include -D_LARGEFILE_SOURCE -D_FILE_OFFSET_BITS=64 -O2   -DVERSION=\"2.44\" -DXS_VERSION=\"2.44\" -fPIC "-I/home/mojolicious/perl5/perlbrew/perls/perl-5.18.2/lib/5.18.2/x86_64-linux/CORE"   Expat.c
Running Mkbootstrap for XML::Parser::Expat ()
chmod 644 Expat.bs
rm -f ../blib/arch/auto/XML/Parser/Expat/Expat.so
LD_RUN_PATH="/lib/x86_64-linux-gnu" cc  -shared -O2 -L/usr/local/lib -fstack-protector Expat.o  -o ../blib/arch/auto/XML/Parser/Expat/Expat.so 	\
	   -lexpat  	\
	  
chmod 755 ../blib/arch/auto/XML/Parser/Expat/Expat.so
cp Expat.bs ../blib/arch/auto/XML/Parser/Expat/Expat.bs
chmod 644 ../blib/arch/auto/XML/Parser/Expat/Expat.bs
Manifying ../blib/man3/XML::Parser::Expat.3
make[1]: Leaving directory `/home/mojolicious/.cpanm/work/1456723672.18489/XML-Parser-2.44/Expat'
Manifying blib/man3/XML::Parser::Style::Stream.3
Manifying blib/man3/XML::Parser.3
Manifying blib/man3/XML::Parser::Style::Objects.3
Manifying blib/man3/XML::Parser::Style::Subs.3
Manifying blib/man3/XML::Parser::Style::Tree.3
Manifying blib/man3/XML::Parser::Style::Debug.3
make[1]: Entering directory `/home/mojolicious/.cpanm/work/1456723672.18489/XML-Parser-2.44/Expat'
make[1]: Leaving directory `/home/mojolicious/.cpanm/work/1456723672.18489/XML-Parser-2.44/Expat'
PERL_DL_NONLAZY=1 /home/mojolicious/perl5/perlbrew/perls/perl-5.18.2/bin/perl "-MExtUtils::Command::MM" "-e" "test_harness(0, 'blib/lib', 'blib/arch')" t/*.t
t/astress.t ........... ok
t/cdata.t ............. ok
t/decl.t .............. ok
t/defaulted.t ......... ok
t/encoding.t .......... ok
t/external_ent.t ...... ok
t/file.t .............. ok
t/file_open_scalar.t .. ok
t/finish.t ............ ok
t/namespaces.t ........ ok
t/parament.t .......... ok
t/partial.t ........... ok
t/skip.t .............. ok
t/stream.t ............ ok
t/styles.t ............ ok
All tests successful.
Files=15, Tests=141,  2 wallclock secs ( 0.07 usr  0.01 sys +  0.57 cusr  0.09 csys =  0.74 CPU)
Result: PASS

------------------------------
PREREQUISITES
------------------------------

Prerequisite modules loaded:

runtime:

    Module              Need    Have    
    ------------------- ------- --------
    LWP::UserAgent      0       6.12    
    perl                5.00405 5.018002

build:

    Module              Need    Have    
    ------------------- ------- --------
    Test::More          0       1.001014

configure:

    Module              Need    Have    
    ------------------- ------- --------
    ExtUtils::MakeMaker 0       6.66    


------------------------------
ENVIRONMENT AND OTHER CONTEXT
------------------------------

Environment variables:

    PATH = /home/mojolicious/perl5/perlbrew/bin:/home/mojolicious/perl5/perlbrew/perls/perl-5.20.1/bin:/usr/local/bin:/usr/bin:/bin:/usr/local/games:/usr/games
    PERLBREW_BASHRC_VERSION = 0.73
    PERLBREW_HOME = /home/mojolicious/.perlbrew
    PERLBREW_MANPATH = /home/mojolicious/perl5/perlbrew/perls/perl-5.20.1/man
    PERLBREW_PATH = /home/mojolicious/perl5/perlbrew/bin:/home/mojolicious/perl5/perlbrew/perls/perl-5.20.1/bin
    PERLBREW_PERL = perl-5.20.1
    PERLBREW_ROOT = /home/mojolicious/perl5/perlbrew
    PERLBREW_VERSION = 0.73
    SHELL = /bin/bash
    TERM = xterm

Perl special variables (and OS-specific diagnostics, for MSWin32):

    EGID = 1003 1003
    EUID = 1003
    EXECUTABLE_NAME = /home/mojolicious/perl5/perlbrew/perls/perl-5.18.2/bin/perl
    GID = 1003 1003
    UID = 1003

Perl module toolchain versions installed:

    Module              Have    
    ------------------- --------
    CPAN                2.00    
    CPAN::Meta          2.120921
    Cwd                 3.40    
    ExtUtils::CBuilder  0.280210
    ExtUtils::Command   1.17    
    ExtUtils::Install   1.59    
    ExtUtils::MakeMaker 6.66    
    ExtUtils::Manifest  1.63    
    ExtUtils::ParseXS   3.18    
    File::Spec          3.40    
    JSON                2.90    
    JSON::PP            2.27202 
    Module::Build       0.4003  
    Module::Signature   n/a     
    Parse::CPAN::Meta   1.4404  
    Test::Harness       3.26    
    Test::More          1.001014
    YAML                n/a     
    YAML::Syck          n/a     
    version             0.9902  


--

Summary of my perl5 (revision 5 version 18 subversion 2) configuration:
   
  Platform:
    osname=linux, osvers=3.13.0-042stab094.8, archname=x86_64-linux
    uname='linux lvps92-51-161-142.dedicated.hosteurope.de 3.13.0-042stab094.8 #1 smp tue dec 16 20:36:56 msk 2014 x86_64 x86_64 x86_64 gnulinux '
    config_args='-de -Dprefix=/home/mojolicious/perl5/perlbrew/perls/perl-5.18.2 -Aeval:scriptdir=/home/mojolicious/perl5/perlbrew/perls/perl-5.18.2/bin'
    hint=recommended, useposix=true, d_sigaction=define
    useithreads=undef, usemultiplicity=undef
    useperlio=define, d_sfio=undef, uselargefiles=define, usesocks=undef
    use64bitint=define, use64bitall=define, uselongdouble=undef
    usemymalloc=n, bincompat5005=undef
  Compiler:
    cc='cc', ccflags ='-fno-strict-aliasing -pipe -fstack-protector -I/usr/local/include -D_LARGEFILE_SOURCE -D_FILE_OFFSET_BITS=64',
    optimize='-O2',
    cppflags='-fno-strict-aliasing -pipe -fstack-protector -I/usr/local/include'
    ccversion='', gccversion='4.8.2', gccosandvers=''
    intsize=4, longsize=8, ptrsize=8, doublesize=8, byteorder=12345678
    d_longlong=define, longlongsize=8, d_longdbl=define, longdblsize=16
    ivtype='long', ivsize=8, nvtype='double', nvsize=8, Off_t='off_t', lseeksize=8
    alignbytes=8, prototype=define
  Linker and Libraries:
    ld='cc', ldflags =' -fstack-protector -L/usr/local/lib'
    libpth=/usr/local/lib /lib/x86_64-linux-gnu /lib/../lib /usr/lib/x86_64-linux-gnu /usr/lib/../lib /lib /usr/lib
    libs=-lnsl -ldl -lm -lcrypt -lutil -lc
    perllibs=-lnsl -ldl -lm -lcrypt -lutil -lc
    libc=libc-2.19.so, so=so, useshrplib=false, libperl=libperl.a
    gnulibc_version='2.19'
  Dynamic Linking:
    dlsrc=dl_dlopen.xs, dlext=so, d_dlsymun=undef, ccdlflags='-Wl,-E'
    cccdlflags='-fPIC', lddlflags='-shared -O2 -L/usr/local/lib -fstack-protector'


Characteristics of this binary (from libperl): 
  Compile-time options: HAS_TIMES PERLIO_LAYERS PERL_DONT_CREATE_GVSV
                        PERL_HASH_FUNC_ONE_AT_A_TIME_HARD PERL_MALLOC_WRAP
                        PERL_PRESERVE_IVUV PERL_SAWAMPERSAND USE_64_BIT_ALL
                        USE_64_BIT_INT USE_LARGE_FILES USE_LOCALE
                        USE_LOCALE_COLLATE USE_LOCALE_CTYPE
                        USE_LOCALE_NUMERIC USE_PERLIO USE_PERL_ATOF
  Locally applied patches:
	Devel::PatchPerl 1.30
  Built under linux
  Compiled at Feb 14 2015 12:27:20
  %ENV:
    PERLBREW_BASHRC_VERSION="0.73"
    PERLBREW_HOME="/home/mojolicious/.perlbrew"
    PERLBREW_MANPATH="/home/mojolicious/perl5/perlbrew/perls/perl-5.20.1/man"
    PERLBREW_PATH="/home/mojolicious/perl5/perlbrew/bin:/home/mojolicious/perl5/perlbrew/perls/perl-5.20.1/bin"
    PERLBREW_PERL="perl-5.20.1"
    PERLBREW_ROOT="/home/mojolicious/perl5/perlbrew"
    PERLBREW_VERSION="0.73"
  @INC:
    /home/mojolicious/perl5/perlbrew/perls/perl-5.18.2/lib/site_perl/5.18.2/x86_64-linux
    /home/mojolicious/perl5/perlbrew/perls/perl-5.18.2/lib/site_perl/5.18.2
    /home/mojolicious/perl5/perlbrew/perls/perl-5.18.2/lib/5.18.2/x86_64-linux
    /home/mojolicious/perl5/perlbrew/perls/perl-5.18.2/lib/5.18.2
    .