SQL-Type-Guess v0.04 Perl 5 v5.20.3 amd64-freebsd

Status
Pass
From
Slaven Rezić (SREZIC)
Dist
SQL-Type-Guess v0.04
Platform
Perl 5 v5.20.3 amd64-freebsd
Date
2018-11-29 19:47:43
ID
a31f462c-f40f-11e8-92ab-f45be5bdda07
This distribution has been tested as part of the CPAN Testers
project, supporting the Perl programming language.  See
http://wiki.cpantesters.org/ for more information or email
questions to cpan-testers-discuss@perl.org


--
Dear Max Maischein,

This is a computer-generated report for SQL-Type-Guess-0.04
on perl 5.20.3, created by CPAN-Reporter-1.2018.

Thank you for uploading your work to CPAN.  Congratulations!
All tests were successful.

Sections of this report:

    * Tester comments
    * Program output
    * Prerequisites
    * Environment and other context

------------------------------
TESTER COMMENTS
------------------------------

Additional comments from tester:

none provided

------------------------------
PROGRAM OUTPUT
------------------------------

Output from '/usr/bin/make test':

PERL_DL_NONLAZY=1 "/usr/perl5.20.3p/bin/perl" "-MExtUtils::Command::MM" "-MTest::Harness" "-e" "undef *Test::Harness::Switches; test_harness(0, 'blib/lib', 'blib/arch')" t/00-load.t t/01_synopsis.t t/02_data_types.t
# Testing SQL::Type::Guess 0.04, Perl 5.020003
# AutoLoader 5.74
# Carp 1.50
# Config 5.020003
# Cwd 3.75
# DynaLoader 1.25
# Encode 2.98
# Encode::Alias 2.24
# Encode::Config 2.05
# Encode::Encoding 2.08
# Encode::MIME::Name 1.03
# Exporter 5.72
# Exporter::Heavy 5.72
# ExtUtils::Liblist 7.34
# ExtUtils::Liblist::Kid 7.34
# ExtUtils::MM 7.34
# ExtUtils::MM_Any 7.34
# ExtUtils::MM_Unix 7.34
# ExtUtils::MY 7.34
# ExtUtils::MakeMaker 7.34
# ExtUtils::MakeMaker::Config 7.34
# ExtUtils::MakeMaker::Locale 7.34
# ExtUtils::MakeMaker::version 7.34
# Fcntl 1.11
# File::Basename 2.85
# File::Glob 1.23
# File::Path 2.15
# File::Spec 3.75
# File::Spec::Unix 3.75
# I18N::Langinfo 0.11
# List::Util 1.5
# Log::Agent 1.002
# Log::Agent::Formatting <unknown>
# Log::Agent::Message <unknown>
# Log::Agent::Priorities <unknown>
# POSIX 1.38_03
# PerlIO 1.09
# SQL::Type::Guess 0.04
# Scalar::Util 1.5
# Storable 2.51
# Test::Builder 1.302140
# Test::Builder::Formatter 1.302140
# Test::Builder::Module 1.302140
# Test::Builder::TodoDiag 1.302140
# Test::More 1.302140
# Test2::API 1.302140
# Test2::API::Context 1.302140
# Test2::API::Instance 1.302140
# Test2::API::Stack 1.302140
# Test2::Event 1.302140
# Test2::Event::Bail 1.302140
# Test2::Event::Diag 1.302140
# Test2::Event::Exception 1.302140
# Test2::Event::Fail 1.302140
# Test2::Event::Note 1.302140
# Test2::Event::Ok 1.302140
# Test2::Event::Pass 1.302140
# Test2::Event::Plan 1.302140
# Test2::Event::Skip 1.302140
# Test2::Event::Subtest 1.302140
# Test2::Event::V2 1.302140
# Test2::Event::Waiting 1.302140
# Test2::EventFacet 1.302140
# Test2::EventFacet::About 1.302140
# Test2::EventFacet::Amnesty 1.302140
# Test2::EventFacet::Assert 1.302140
# Test2::EventFacet::Control 1.302140
# Test2::EventFacet::Error 1.302140
# Test2::EventFacet::Hub 1.302140
# Test2::EventFacet::Info 1.302140
# Test2::EventFacet::Meta 1.302140
# Test2::EventFacet::Parent 1.302140
# Test2::EventFacet::Plan 1.302140
# Test2::EventFacet::Trace 1.302140
# Test2::Formatter 1.302140
# Test2::Formatter::TAP 1.302140
# Test2::Hub 1.302140
# Test2::Hub::Interceptor 1.302140
# Test2::Hub::Interceptor::Terminator 1.302140
# Test2::Hub::Subtest 1.302140
# Test2::Util 1.302140
# Test2::Util::ExternalMeta 1.302140
# Test2::Util::Facets2Legacy 1.302140
# Test2::Util::HashBase 1.302140
# Test2::Util::Trace 1.302140
# Tie::Hash 1.05
# XSLoader 0.24
# base 2.23
# bytes 1.04
# constant 1.33
# mro 1.16
# overload 1.22
# overloading 0.02
# parent 0.236
# re 0.26
# strict 1.08
# vars 1.03
# version 0.9922
# version::regex 0.9922
# version::vxs 0.9922
# warnings 1.23
# warnings::register 1.03
t/00-load.t ........ ok
t/01_synopsis.t .... ok
t/02_data_types.t .. ok
All tests successful.
Files=3, Tests=14,  0 wallclock secs ( 0.00 usr  0.02 sys +  0.03 cusr  0.17 csys =  0.23 CPU)
Result: PASS

------------------------------
PREREQUISITES
------------------------------

Prerequisite modules loaded:

requires:

    Module              Need  Have    
    ------------------- ----- --------
    File::Glob          0     1.23    
    perl                5.014 5.020003
    Pod::Usage          0     1.69    
    Spreadsheet::Read   0     0.79    
    strict              0     1.08    
    Text::CleanFragment 0     0.03    
    warnings            0     1.23    

build_requires:

    Module              Need  Have    
    ------------------- ----- --------
    Data::Dumper        0     2.173   
    ExtUtils::MakeMaker 0     7.34    
    Test::More          0     1.302140

configure_requires:

    Module              Need  Have    
    ------------------- ----- --------
    ExtUtils::MakeMaker 0     7.34    


------------------------------
ENVIRONMENT AND OTHER CONTEXT
------------------------------

Environment variables:

    LC_ALL = de_DE.ISO8859-1
    PATH = /usr/local/bin:/usr/bin:/bin:/usr/local/sbin:/usr/sbin:/sbin:/home/cpansand/bin/freebsd10.3:/home/cpansand/bin/sh:/home/cpansand/bin:/usr/games:/home/cpansand/devel:/home/eserte/src/srezic-misc/scripts
    PERL5LIB = 
    PERL5OPT = 
    PERL5_CPANPLUS_IS_RUNNING = 80031
    PERL5_CPAN_IS_RUNNING = 80031
    PERL5_CPAN_IS_RUNNING_IN_RECURSION = 71151,80031
    PERLDOC = -MPod::Perldoc::ToTextOverstrike
    PERL_BATCH = yes
    PERL_CANARY_STABILITY_NOPROMPT = 1
    PERL_CPAN_REPORTER_CONFIG = /var/tmp/cpansmoker-1023/2018112920/cpanreporter_000_config.ini
    PERL_EXTUTILS_AUTOINSTALL = --defaultdeps
    SHELL = /usr/local/bin/zsh
    TERM = screen
    TMPDIR = /var/tmp/cpansmoker-1023/2018112920

Perl special variables (and OS-specific diagnostics, for MSWin32):

    $^X = /usr/perl5.20.3p/bin/perl
    $UID/$EUID = 1023 / 1023
    $GID = 1023 1023
    $EGID = 1023 1023

Perl module toolchain versions installed:

    Module              Have    
    ------------------- --------
    CPAN                2.16    
    CPAN::Meta          2.150010
    Cwd                 3.75    
    ExtUtils::CBuilder  0.280230
    ExtUtils::Command   7.34    
    ExtUtils::Install   2.14    
    ExtUtils::MakeMaker 7.34    
    ExtUtils::Manifest  1.70    
    ExtUtils::ParseXS   3.30    
    File::Spec          3.75    
    JSON                2.97001 
    JSON::PP            2.97001 
    Module::Build       0.4224  
    Module::Signature   0.83    
    Parse::CPAN::Meta   2.150010
    Test::Harness       3.42    
    Test::More          1.302140
    YAML                1.27    
    YAML::Syck          1.30    
    version             0.9922  


--

Summary of my perl5 (revision 5 version 20 subversion 3) configuration:
   
  Platform:
    osname=freebsd, osvers=10.1-release, archname=amd64-freebsd
    uname='freebsd cvrsnica-freebsd-101.herceg.de 10.1-release freebsd 10.1-release #0 r274401: tue nov 11 21:02:49 utc 2014 root@releng1.nyi.freebsd.org:usrobjusrsrcsysgeneric amd64 '
    config_args='-ds -e -Dprefix=/usr/perl5.20.3p -Dcf_email=srezic@cpan.org'
    hint=recommended, useposix=true, d_sigaction=define
    useithreads=undef, usemultiplicity=undef
    use64bitint=define, use64bitall=define, uselongdouble=undef
    usemymalloc=n, bincompat5005=undef
  Compiler:
    cc='cc', ccflags ='-DHAS_FPSETMASK -DHAS_FLOATINGPOINT_H -fno-strict-aliasing -pipe -fstack-protector -I/usr/local/include',
    optimize='-O',
    cppflags='-DHAS_FPSETMASK -DHAS_FLOATINGPOINT_H -fno-strict-aliasing -pipe -fstack-protector -I/usr/local/include'
    ccversion='', gccversion='4.2.1 Compatible FreeBSD Clang 3.4.1 (tags/RELEASE_34/dot1-final 208032)', gccosandvers=''
    intsize=4, longsize=8, ptrsize=8, doublesize=8, byteorder=12345678
    d_longlong=define, longlongsize=8, d_longdbl=define, longdblsize=16
    ivtype='long', ivsize=8, nvtype='double', nvsize=8, Off_t='off_t', lseeksize=8
    alignbytes=8, prototype=define
  Linker and Libraries:
    ld='cc', ldflags ='-pthread -Wl,-E  -fstack-protector -L/usr/local/lib'
    libpth=/usr/lib /usr/local/lib /usr/include/clang/3.4.1 /usr/lib
    libs=-lpthread -lgdbm -lm -lcrypt -lutil -lc
    perllibs=-lpthread -lm -lcrypt -lutil -lc
    libc=, so=so, useshrplib=false, libperl=libperl.a
    gnulibc_version=''
  Dynamic Linking:
    dlsrc=dl_dlopen.xs, dlext=so, d_dlsymun=undef, ccdlflags=' '
    cccdlflags='-DPIC -fPIC', lddlflags='-shared  -L/usr/local/lib -fstack-protector'


Characteristics of this binary (from libperl): 
  Compile-time options: HAS_TIMES PERLIO_LAYERS PERL_DONT_CREATE_GVSV
                        PERL_HASH_FUNC_ONE_AT_A_TIME_HARD PERL_MALLOC_WRAP
                        PERL_NEW_COPY_ON_WRITE PERL_PRESERVE_IVUV
                        USE_64_BIT_ALL USE_64_BIT_INT USE_LARGE_FILES
                        USE_LOCALE USE_LOCALE_COLLATE USE_LOCALE_CTYPE
                        USE_LOCALE_NUMERIC USE_PERLIO USE_PERL_ATOF
  Built under freebsd
  Compiled at Sep 12 2015 22:44:25
  %ENV:
    PERL5LIB=""
    PERL5OPT=""
    PERL5_CPANPLUS_IS_RUNNING="80031"
    PERL5_CPAN_IS_RUNNING="80031"
    PERL5_CPAN_IS_RUNNING_IN_RECURSION="71151,80031"
    PERLDOC="-MPod::Perldoc::ToTextOverstrike"
    PERL_BATCH="yes"
    PERL_CANARY_STABILITY_NOPROMPT="1"
    PERL_CPAN_REPORTER_CONFIG="/var/tmp/cpansmoker-1023/2018112920/cpanreporter_000_config.ini"
    PERL_EXTUTILS_AUTOINSTALL="--defaultdeps"
  @INC:
    /usr/perl5.20.3p/lib/site_perl/5.20.3/amd64-freebsd
    /usr/perl5.20.3p/lib/site_perl/5.20.3
    /usr/perl5.20.3p/lib/5.20.3/amd64-freebsd
    /usr/perl5.20.3p/lib/5.20.3
    .