Report for MaxMind-DB-Common-0.040001

Back
From: metabase:user:320bfe00-2aae-11df-837a-5e0a49663a4f
Subject: PASS MaxMind-DB-Common-0.040001 v5.23.7 GNU/Linux
Date: 2016-03-20T22:32:32Z

This distribution has been tested as part of the CPAN Testers
project, supporting the Perl programming language.  See
http://wiki.cpantesters.org/ for more information or email
questions to cpan-testers-discuss@perl.org


--
Dear MaxMind, Inc.,

This is a computer-generated report for MaxMind-DB-Common-0.040001
on perl 5.23.7, created by CPAN-Reporter-1.2015.

Thank you for uploading your work to CPAN.  Congratulations!
All tests were successful.

Sections of this report:

    * Tester comments
    * Program output
    * Prerequisites
    * Environment and other context

------------------------------
TESTER COMMENTS
------------------------------

Additional comments from tester:

this report is from an automated smoke testing program
and was not reviewed by a human for accuracy

------------------------------
PROGRAM OUTPUT
------------------------------

Output from '/usr/bin/make test':

PERL_DL_NONLAZY=1 "/home/sand/src/perl/repoperls/installed-perls/perl/v5.23.7/f991/bin/perl" "-MExtUtils::Command::MM" "-MTest::Harness" "-e" "undef *Test::Harness::Switches; test_harness(0, 'blib/lib', 'blib/arch')" t/*.t t/MaxMind/DB/*.t
# 
# Versions for all modules listed in MYMETA.json (including optional ones):
# 
# === Configure Requires ===
# 
#     Module              Want    Have
#     ------------------- ---- -------
#     ExtUtils::MakeMaker  any 7.11_05
# 
# === Build Requires ===
# 
#     Module              Want    Have
#     ------------------- ---- -------
#     ExtUtils::MakeMaker  any 7.11_05
# 
# === Test Requires ===
# 
#     Module              Want         Have
#     ------------------- ---- ------------
#     ExtUtils::MakeMaker  any      7.11_05
#     File::Spec           any         3.62
#     Test::More          0.96 1.302013_014
# 
# === Test Recommends ===
# 
#     Module         Want     Have
#     ---------- -------- --------
#     CPAN::Meta 2.120900 2.150005
# 
# === Runtime Requires ===
# 
#     Module                  Want     Have
#     ----------------------- ---- --------
#     Carp                     any     1.38
#     Data::Dumper::Concise    any    2.022
#     DateTime                 any     1.25
#     Exporter                 any     5.72
#     List::AllUtils           any     0.09
#     Math::BigInt             any 1.999715
#     Moo                      any 2.000002
#     Moo::Role                any 2.000002
#     MooX::StrictConstructor  any    0.008
#     Scalar::Util             any 1.44_001
#     Sub::Quote               any 2.000002
#     autodie                  any     2.29
#     constant                 any     1.33
#     namespace::autoclean     any     0.28
#     overload                 any     1.26
#     strict                   any     1.10
#     warnings                 any     1.35
# 
t/00-report-prereqs.t ..... ok
t/author-00-compile.t ..... skipped: these tests are for testing by the author
t/author-eol.t ............ skipped: these tests are for testing by the author
t/author-no-tabs.t ........ skipped: these tests are for testing by the author
t/author-pod-spell.t ...... skipped: these tests are for testing by the author
t/author-pod-syntax.t ..... skipped: these tests are for testing by the author
t/author-test-version.t ... skipped: these tests are for testing by the author
t/compile.t ............... ok
t/MaxMind/DB/Common.t ..... ok
t/MaxMind/DB/Metadata.t ... ok
t/release-cpan-changes.t .. skipped: these tests are for release candidate testing
t/release-portability.t ... skipped: these tests are for release candidate testing
t/release-synopsis.t ...... skipped: these tests are for release candidate testing
t/release-tidyall.t ....... skipped: these tests are for release candidate testing
All tests successful.
Files=14, Tests=8,  4 wallclock secs ( 0.04 usr  0.09 sys +  1.18 cusr  0.21 csys =  1.52 CPU)
Result: PASS

------------------------------
PREREQUISITES
------------------------------

Prerequisite modules loaded:

requires:

    Module                  Need  Have        
    ----------------------- ----- ------------
    autodie                 0     2.29        
    Carp                    0     1.38        
    constant                0     1.33        
    Data::Dumper::Concise   0     2.022       
    DateTime                0     1.25        
    Exporter                0     5.72        
    List::AllUtils          0     0.09        
    Math::BigInt            0     1.999715    
    Moo                     0     2.000002    
    Moo::Role               0     2.000002    
    MooX::StrictConstructor 0     0.008       
    namespace::autoclean    0     0.28        
    overload                0     1.26        
    perl                    5.008 5.023007    
    Scalar::Util            0     1.44_001    
    strict                  0     1.10        
    Sub::Quote              0     2.000002    
    warnings                0     1.35        

build_requires:

    Module                  Need  Have        
    ----------------------- ----- ------------
    ExtUtils::MakeMaker     0     7.11_05     
    File::Spec              0     3.62        
    Test::More              0.96  1.302013_014

configure_requires:

    Module                  Need  Have        
    ----------------------- ----- ------------
    ExtUtils::MakeMaker     0     7.11_05     
    perl                    5.008 5.023007    


------------------------------
ENVIRONMENT AND OTHER CONTEXT
------------------------------

Environment variables:

    AUTOMATED_TESTING = 1
    LANG = en_US.UTF-8
    LANGUAGE = en_US:en
    PATH = /usr/lib/ccache:/home/sand/bin:/usr/local/bin:/usr/lib/ccache:/usr/bin:/bin:/usr/games:/usr/local/perl/bin:/usr/X11/bin:/sbin:/usr/sbin
    PERL5LIB = 
    PERL5OPT = 
    PERL5_CPANPLUS_IS_RUNNING = 31215
    PERL5_CPAN_IS_RUNNING = 31215
    PERL_MM_USE_DEFAULT = 1
    SHELL = /usr/bin/zsh
    TERM = screen

Perl special variables (and OS-specific diagnostics, for MSWin32):

    $^X = /home/sand/src/perl/repoperls/installed-perls/perl/v5.23.7/f991/bin/perl
    $UID/$EUID = 1005 / 1005
    $GID = 1005 1005
    $EGID = 1005 1005

Perl module toolchain versions installed:

    Module              Have        
    ------------------- ------------
    CPAN                2.11        
    CPAN::Meta          2.150005    
    Cwd                 3.62        
    ExtUtils::CBuilder  0.280224    
    ExtUtils::Command   7.11_05     
    ExtUtils::Install   2.04        
    ExtUtils::MakeMaker 7.11_05     
    ExtUtils::Manifest  1.70        
    ExtUtils::ParseXS   3.31        
    File::Spec          3.62        
    JSON                2.90        
    JSON::PP            2.27300     
    Module::Build       0.4216      
    Module::Signature   0.79        
    Parse::CPAN::Meta   1.4417      
    Test::Harness       3.36        
    Test::More          1.302013_014
    YAML                1.15        
    YAML::Syck          1.29        
    version             0.9916      


--

Summary of my perl5 (revision 5 version 23 subversion 7) configuration:
  Derived from: 0057cacf350b14c192133e88ac3a3fcff4093a7f
  Platform:
    osname=linux, osvers=4.3.0-1-amd64, archname=x86_64-linux
    uname='linux k83 4.3.0-1-amd64 #1 smp debian 4.3.3-7 (2016-01-19) x86_64 gnulinux '
    config_args='-Dprefix=/home/sand/src/perl/repoperls/installed-perls/perl/v5.23.7/f991 -Dmyhostname=k83 -Dinstallusrbinperl=n -Uversiononly -Dusedevel -des -Ui_db -Dlibswanted=cl pthread socket inet nsl gdbm dbm malloc dl ld sun m crypt sec util c cposix posix ucb BSD gdbm_compat -Uuseithreads -Uuselongdouble'
    hint=recommended, useposix=true, d_sigaction=define
    useithreads=undef, usemultiplicity=undef
    use64bitint=define, use64bitall=define, uselongdouble=undef
    usemymalloc=n, bincompat5005=undef
  Compiler:
    cc='cc', ccflags ='-fwrapv -fno-strict-aliasing -pipe -fstack-protector-strong -I/usr/local/include -D_LARGEFILE_SOURCE -D_FILE_OFFSET_BITS=64 -D_FORTIFY_SOURCE=2',
    optimize='-O2',
    cppflags='-fwrapv -fno-strict-aliasing -pipe -fstack-protector-strong -I/usr/local/include'
    ccversion='', gccversion='5.3.1 20160121', gccosandvers=''
    intsize=4, longsize=8, ptrsize=8, doublesize=8, byteorder=12345678, doublekind=3
    d_longlong=define, longlongsize=8, d_longdbl=define, longdblsize=16, longdblkind=3
    ivtype='long', ivsize=8, nvtype='double', nvsize=8, Off_t='off_t', lseeksize=8
    alignbytes=8, prototype=define
  Linker and Libraries:
    ld='cc', ldflags =' -fstack-protector-strong -L/usr/local/lib'
    libpth=/usr/local/lib /usr/lib/gcc/x86_64-linux-gnu/5/include-fixed /usr/include/x86_64-linux-gnu /usr/lib /lib/x86_64-linux-gnu /lib/../lib /usr/lib/x86_64-linux-gnu /usr/lib/../lib /lib
    libs=-lpthread -lnsl -lgdbm -ldl -lm -lcrypt -lutil -lc -lgdbm_compat
    perllibs=-lpthread -lnsl -ldl -lm -lcrypt -lutil -lc
    libc=libc-2.21.so, so=so, useshrplib=false, libperl=libperl.a
    gnulibc_version='2.21'
  Dynamic Linking:
    dlsrc=dl_dlopen.xs, dlext=so, d_dlsymun=undef, ccdlflags='-Wl,-E'
    cccdlflags='-fPIC', lddlflags='-shared -O2 -L/usr/local/lib -fstack-protector-strong'


Characteristics of this binary (from libperl): 
  Compile-time options: HAS_TIMES PERLIO_LAYERS PERL_COPY_ON_WRITE
                        PERL_DONT_CREATE_GVSV
                        PERL_HASH_FUNC_ONE_AT_A_TIME_HARD PERL_MALLOC_WRAP
                        PERL_PRESERVE_IVUV PERL_USE_DEVEL USE_64_BIT_ALL
                        USE_64_BIT_INT USE_LARGE_FILES USE_LOCALE
                        USE_LOCALE_COLLATE USE_LOCALE_CTYPE
                        USE_LOCALE_NUMERIC USE_LOCALE_TIME USE_PERLIO
                        USE_PERL_ATOF
  Locally applied patches:
	uncommitted-changes
	Devel::PatchPerl 1.40
  Built under linux
  Compiled at Jan 31 2016 21:31:24
  %ENV:
    PERL5LIB=""
    PERL5OPT=""
    PERL5_CPANPLUS_IS_RUNNING="31215"
    PERL5_CPAN_IS_RUNNING="31215"
    PERL_MM_USE_DEFAULT="1"
  @INC:
    /home/sand/src/perl/repoperls/installed-perls/perl/v5.23.7/f991/lib/site_perl/5.23.7/x86_64-linux
    /home/sand/src/perl/repoperls/installed-perls/perl/v5.23.7/f991/lib/site_perl/5.23.7
    /home/sand/src/perl/repoperls/installed-perls/perl/v5.23.7/f991/lib/5.23.7/x86_64-linux
    /home/sand/src/perl/repoperls/installed-perls/perl/v5.23.7/f991/lib/5.23.7
    .