WebService-BitbucketServer v0.601 Perl 5 v5.14.4 x86_64-linux
- Status
- Pass
- From
- Andreas J. König (ANDK)
- Dist
-
WebService-BitbucketServer v0.601
- Platform
- Perl 5 v5.14.4 x86_64-linux
- Date
- 2017-10-25 23:24:24
- ID
- a33dba04-b9db-11e7-836c-5d82478e6c56
This distribution has been tested as part of the CPAN Testers
project, supporting the Perl programming language. See
http://wiki.cpantesters.org/ for more information or email
questions to cpan-testers-discuss@perl.org
--
Dear Charles McGarvey,
This is a computer-generated report for WebService-BitbucketServer-0.601
on perl 5.14.4, created by CPAN-Reporter-1.2018.
Thank you for uploading your work to CPAN. Congratulations!
All tests were successful.
Sections of this report:
* Tester comments
* Program output
* Prerequisites
* Environment and other context
------------------------------
TESTER COMMENTS
------------------------------
Additional comments from tester:
this report is from an automated smoke testing program
and was not reviewed by a human for accuracy
------------------------------
PROGRAM OUTPUT
------------------------------
Output from '/usr/bin/make test':
Skip blib/lib/auto/share/module/WebService-BitbucketServer-Spec/submap_ssh.pl (unchanged)
Skip blib/lib/auto/share/module/WebService-BitbucketServer-Spec/submap_core.pl (unchanged)
Skip blib/lib/auto/share/module/WebService-BitbucketServer-Spec/submap_branch.pl (unchanged)
Skip blib/lib/auto/share/module/WebService-BitbucketServer-Spec/submap_mirroring_upstream.pl (unchanged)
Skip blib/lib/auto/share/module/WebService-BitbucketServer-Spec/submap_jira.pl (unchanged)
Skip blib/lib/auto/share/module/WebService-BitbucketServer-Spec/submap_build.pl (unchanged)
Skip blib/lib/auto/share/module/WebService-BitbucketServer-Spec/submap_comment_likes.pl (unchanged)
Skip blib/lib/auto/share/module/WebService-BitbucketServer-Spec/submap_audit.pl (unchanged)
Skip blib/lib/auto/share/module/WebService-BitbucketServer-Spec/submap_gpg.pl (unchanged)
Skip blib/lib/auto/share/module/WebService-BitbucketServer-Spec/submap_git.pl (unchanged)
Skip blib/lib/auto/share/module/WebService-BitbucketServer-Spec/submap_ref_restriction.pl (unchanged)
Skip blib/lib/auto/share/module/WebService-BitbucketServer-Spec/submap_default_reviewers.pl (unchanged)
Skip blib/lib/auto/share/module/WebService-BitbucketServer-Spec/submap_access_tokens.pl (unchanged)
Skip blib/lib/auto/share/module/WebService-BitbucketServer-Spec/submap_repository_ref_sync.pl (unchanged)
PERL_DL_NONLAZY=1 "/home/sand/src/perl/repoperls/installed-perls/host/k93msid/v5.14.4/d2d1/bin/perl" "-MExtUtils::Command::MM" "-MTest::Harness" "-e" "undef *Test::Harness::Switches; test_harness(0, 'blib/lib', 'blib/arch')" t/*.t
t/00-compile.t ......... ok
#
# Versions for all modules listed in MYMETA.json (including optional ones):
#
# === Configure Requires ===
#
# Module Want Have
# ----------------------- ---- ----
# ExtUtils::MakeMaker any 7.30
# File::ShareDir::Install 0.06 0.11
#
# === Build Requires ===
#
# Module Want Have
# ------------------- ---- ----
# ExtUtils::MakeMaker any 7.30
#
# === Test Requires ===
#
# Module Want Have
# -------------------- ---- --------
# ExtUtils::MakeMaker any 7.30
# File::Spec any 3.62
# HTTP::AnyUA::Backend any 0.900
# IO::Handle any 1.31
# IPC::Open3 any 1.0901
# Test::More any 1.302106
# blib 1.01 1.06
# lib any 0.63
# parent any 0.225
#
# === Test Recommends ===
#
# Module Want Have
# ---------- -------- --------
# CPAN::Meta 2.120900 2.150010
#
# === Runtime Requires ===
#
# Module Want Have
# ----------------- ---- --------
# Carp any 1.38
# Clone any 0.39
# Exporter any 5.64_03
# HTTP::AnyUA any 0.900
# HTTP::AnyUA::Util any 0.900
# JSON any 2.94
# MIME::Base64 any 3.15
# Module::Load any 0.32
# Moo any 2.003002
# Scalar::Util any 1.49
# Types::Standard any 1.002001
# namespace::clean any 0.27
# strict any 1.04
# warnings any 1.12
#
# === Runtime Suggests ===
#
# Module Want Have
# -------------- ---- ------
# File::Path any 2.15
# File::ShareDir any 1.104
# File::Spec any 3.62
# XML::LibXML any 2.0130
#
t/00-report-prereqs.t .. ok
t/01-accessors.t ....... ok
t/10-request.t ......... ok
t/20-response.t ........ ok
t/21-paged-response.t .. ok
All tests successful.
Files=6, Tests=45, 10 wallclock secs ( 0.02 usr 0.04 sys + 1.72 cusr 0.45 csys = 2.23 CPU)
Result: PASS
------------------------------
PREREQUISITES
------------------------------
Prerequisite modules loaded:
requires:
Module Need Have
----------------------- ----- --------
Carp 0 1.38
Clone 0 0.39
Exporter 0 5.64_03
HTTP::AnyUA 0 0.900
HTTP::AnyUA::Util 0 0.900
JSON 0 2.94
MIME::Base64 0 3.15
Module::Load 0 0.32
Moo 0 2.003002
namespace::clean 0 0.27
perl 5.006 5.014004
Scalar::Util 0 1.49
strict 0 1.04
Types::Standard 0 1.002001
warnings 0 1.12
build_requires:
Module Need Have
----------------------- ----- --------
blib 1.01 1.06
ExtUtils::MakeMaker 0 7.30
File::Spec 0 3.62
HTTP::AnyUA::Backend 0 0.900
IO::Handle 0 1.31
IPC::Open3 0 1.0901
lib 0 0.63
parent 0 0.225
Test::More 0 1.302106
configure_requires:
Module Need Have
----------------------- ----- --------
ExtUtils::MakeMaker 0 7.30
File::ShareDir::Install 0.06 0.11
------------------------------
ENVIRONMENT AND OTHER CONTEXT
------------------------------
Environment variables:
AUTOMATED_TESTING = 1
LANG = en_US.UTF-8
PATH = /home/sand/bin:/usr/local/bin:/usr/bin:/bin:/usr/games:/usr/local/perl/bin:/usr/X11/bin:/sbin:/usr/sbin
PERL5LIB =
PERL5OPT =
PERL5_CPANPLUS_IS_RUNNING = 22192
PERL5_CPAN_IS_RUNNING = 22192
PERL5_CPAN_IS_RUNNING_IN_RECURSION = 5940,22192
PERL_CANARY_STABILITY_NOPROMPT = 1
PERL_MM_USE_DEFAULT = 1
PERL_USE_UNSAFE_INC = 1
SHELL = /usr/bin/zsh
TERM = screen
Perl special variables (and OS-specific diagnostics, for MSWin32):
$^X = /home/sand/src/perl/repoperls/installed-perls/host/k93msid/v5.14.4/d2d1/bin/perl
$UID/$EUID = 1005 / 1005
$GID = 1005 1005
$EGID = 1005 1005
Perl module toolchain versions installed:
Module Have
------------------- --------
CPAN 2.18
CPAN::Meta 2.150010
Cwd 3.62
ExtUtils::CBuilder 0.280226
ExtUtils::Command 7.30
ExtUtils::Install 2.06
ExtUtils::MakeMaker 7.30
ExtUtils::Manifest 1.70
ExtUtils::ParseXS 3.35
File::Spec 3.62
JSON 2.94
JSON::PP 2.94
Module::Build 0.4224
Module::Signature 0.81
Parse::CPAN::Meta 2.150010
Test::Harness 3.39
Test::More 1.302106
YAML 1.23
YAML::Syck 1.30
version 0.9918
--
Summary of my perl5 (revision 5 version 14 subversion 4) configuration:
Derived from: 26c5c13a4ece9084f310610bb17fb2f24c72a73e
Platform:
osname=linux, osvers=4.12.0-2-amd64, archname=x86_64-linux
uname='linux k93msid 4.12.0-2-amd64 #1 smp debian 4.12.13-1 (2017-09-19) x86_64 gnulinux '
config_args='-Dprefix=/home/sand/src/perl/repoperls/installed-perls/host/k93msid/v5.14.4/d2d1 -Dmyhostname=k93msid -Dinstallusrbinperl=n -Uversiononly -Dusedevel -des -Ui_db -Dlibswanted=cl pthread socket inet nsl gdbm dbm malloc dl ld sun m crypt sec util c cposix posix ucb BSD gdbm_compat -Uuseithreads -Uuselongdouble -DDEBUGGING=both'
hint=recommended, useposix=true, d_sigaction=define
useithreads=undef, usemultiplicity=undef
useperlio=define, d_sfio=undef, uselargefiles=define, usesocks=undef
use64bitint=define, use64bitall=define, uselongdouble=undef
usemymalloc=n, bincompat5005=undef
Compiler:
cc='cc', ccflags ='-DDEBUGGING -fno-strict-aliasing -pipe -fstack-protector -I/usr/local/include -D_LARGEFILE_SOURCE -D_FILE_OFFSET_BITS=64',
optimize='-O2 -g',
cppflags='-DDEBUGGING -fno-strict-aliasing -pipe -fstack-protector -I/usr/local/include'
ccversion='', gccversion='7.2.0', gccosandvers=''
intsize=4, longsize=8, ptrsize=8, doublesize=8, byteorder=12345678
d_longlong=define, longlongsize=8, d_longdbl=define, longdblsize=16
ivtype='long', ivsize=8, nvtype='double', nvsize=8, Off_t='off_t', lseeksize=8
alignbytes=8, prototype=define
Linker and Libraries:
ld='cc', ldflags =' -fstack-protector -L/usr/local/lib'
libpth=/usr/local/lib /lib/x86_64-linux-gnu /lib/../lib /usr/lib/x86_64-linux-gnu /usr/lib/../lib /lib /usr/lib
libs=-lpthread -lnsl -ldl -lm -lcrypt -lutil -lc
perllibs=-lpthread -lnsl -ldl -lm -lcrypt -lutil -lc
libc=libc-2.24.so, so=so, useshrplib=false, libperl=libperl.a
gnulibc_version='2.24'
Dynamic Linking:
dlsrc=dl_dlopen.xs, dlext=so, d_dlsymun=undef, ccdlflags='-Wl,-E'
cccdlflags='-fPIC', lddlflags='-shared -O2 -g -L/usr/local/lib -fstack-protector'
Characteristics of this binary (from libperl):
Compile-time options: DEBUGGING PERL_DONT_CREATE_GVSV PERL_MALLOC_WRAP
PERL_PRESERVE_IVUV PERL_USE_DEVEL USE_64_BIT_ALL
USE_64_BIT_INT USE_LARGE_FILES USE_PERLIO
USE_PERL_ATOF
Locally applied patches:
uncommitted-changes
Built under linux
Compiled at Oct 3 2017 20:50:35
%ENV:
PERL5LIB=""
PERL5OPT=""
PERL5_CPANPLUS_IS_RUNNING="22192"
PERL5_CPAN_IS_RUNNING="22192"
PERL5_CPAN_IS_RUNNING_IN_RECURSION="5940,22192"
PERL_CANARY_STABILITY_NOPROMPT="1"
PERL_MM_USE_DEFAULT="1"
PERL_USE_UNSAFE_INC="1"
@INC:
/home/sand/src/perl/repoperls/installed-perls/host/k93msid/v5.14.4/d2d1/lib/site_perl/5.14.4/x86_64-linux
/home/sand/src/perl/repoperls/installed-perls/host/k93msid/v5.14.4/d2d1/lib/site_perl/5.14.4
/home/sand/src/perl/repoperls/installed-perls/host/k93msid/v5.14.4/d2d1/lib/5.14.4/x86_64-linux
/home/sand/src/perl/repoperls/installed-perls/host/k93msid/v5.14.4/d2d1/lib/5.14.4
.