Report for Cache-Memcached-Fast-CGI-0.05

Back
From: metabase:user:322078bc-2aae-11df-837a-5e0a49663a4f
Subject: PASS Cache-Memcached-Fast-CGI-0.05 v5.12.2 SunOS/Solaris
Date: 2010-10-16T06:28:49Z

This distribution has been tested as part of the CPAN Testers
project, supporting the Perl programming language.  See
http://wiki.cpantesters.org/ for more information or email
questions to cpan-testers-discuss@perl.org


--

Dear HITSU,
    
This is a computer-generated error report created automatically by
CPANPLUS, version 0.9007. Testers personal comments may appear 
at the end of this report.

MAKE TEST passed:
# Testing Cache::Memcached::Fast::CGI 0.05, Perl 5.012002, /export/home/cpan/pit/64bit/perl-5.12.2/bin/perl
t/00-load.t ....... ok
t/boilerplate.t ... ok
t/manifest.t ...... skipped: Author tests not required for installation
t/pod-coverage.t .. skipped: Test::Pod::Coverage 1.08 required for testing POD coverage
t/pod.t ........... skipped: Test::Pod 1.22 required for testing POD
All tests successful.

Test Summary Report
-------------------
t/boilerplate.t (Wstat: 0 Tests: 3 Failed: 0)
  TODO passed:   3
Files=5, Tests=6,  1 wallclock secs ( 0.12 usr  0.08 sys +  0.46 cusr  0.14 csys =  0.80 CPU)
Result: PASS

[MSG] [Sat Oct 16 07:29:02 2010] Sending test report for 'Cache-Memcached-Fast-CGI-0.05'

This report was machine-generated by CPANPLUS::Dist::YACSmoke 0.58.
Powered by minismokebox version 0.32

------------------------------
ENVIRONMENT AND OTHER CONTEXT
------------------------------

Environment variables:

    AUTOMATED_TESTING = 1
    LANG = en_GB.UTF-8
    LC_COLLATE = en_GB.UTF-8
    LC_CTYPE = en_GB.UTF-8
    LC_MESSAGES = C
    LC_MONETARY = en_GB.UTF-8
    LC_NUMERIC = en_GB.UTF-8
    PATH = /opt/SUNswpro/bin:/usr/ccs/bin:/usr/bin:/usr/sfw/bin
    PERL5LIB = :/export/home/cpan/pit/64bit/conf/perl-5.12.2/.cpanplus/5.12.2/build/Cache-Memcached-Fast-0.19/blib/lib:/export/home/cpan/pit/64bit/conf/perl-5.12.2/.cpanplus/5.12.2/build/Cache-Memcached-Fast-0.19/blib/arch:/export/home/cpan/pit/64bit/conf/perl-5.12.2/.cpanplus/5.12.2/build/IO-Capture-0.05/blib/lib:/export/home/cpan/pit/64bit/conf/perl-5.12.2/.cpanplus/5.12.2/build/IO-Capture-0.05/blib/arch:/export/home/cpan/pit/64bit/conf/perl-5.12.2/.cpanplus/5.12.2/build/Cache-Memcached-Fast-CGI/blib/lib:/export/home/cpan/pit/64bit/conf/perl-5.12.2/.cpanplus/5.12.2/build/Cache-Memcached-Fast-CGI/blib/arch
    PERL5_CPANPLUS_IS_RUNNING = 19186
    PERL5_CPANPLUS_IS_VERSION = 0.9007
    PERL5_MINISMOKEBOX = 0.32
    PERL5_YACSMOKE_BASE = /export/home/cpan/pit/64bit/conf/perl-5.12.2
    PERL_EXTUTILS_AUTOINSTALL = --defaultdeps
    PERL_MM_USE_DEFAULT = 1
    SHELL = /usr/bin/bash
    TERM = vt100

Perl special variables (and OS-specific diagnostics, for MSWin32):

    Perl: $^X = /export/home/cpan/pit/64bit/perl-5.12.2/bin/perl
    UID:  $<  = 100
    EUID: $>  = 100
    GID:  $(  = 100 100
    EGID: $)  = 100 100


-------------------------------


--

Summary of my perl5 (revision 5 version 12 subversion 2) configuration:
   
  Platform:
    osname=solaris, osvers=2.10, archname=i86pc-solaris-64int
    uname='sunos sharpnel 5.10 generic_120012-14 i86pc i386 i86pc '
    config_args='-des -Dprefix=/export/home/cpan/pit/64bit/perl-5.12.2 -Duse64bitint'
    hint=recommended, useposix=true, d_sigaction=define
    useithreads=undef, usemultiplicity=undef
    useperlio=define, d_sfio=undef, uselargefiles=define, usesocks=undef
    use64bitint=define, use64bitall=undef, uselongdouble=undef
    usemymalloc=n, bincompat5005=undef
  Compiler:
    cc='/opt/SUNWspro/bin/cc', ccflags ='-DPTR_IS_LONG -D_LARGEFILE_SOURCE -D_FILE_OFFSET_BITS=64 -DPERL_USE_SAFE_PUTENV',
    optimize='-O',
    cppflags='-DPTR_IS_LONG'
    ccversion='Sun C 5.9 SunOS_i386 2007/05/03', gccversion='', gccosandvers=''
    intsize=4, longsize=4, ptrsize=4, doublesize=8, byteorder=12345678
    d_longlong=define, longlongsize=8, d_longdbl=define, longdblsize=12
    ivtype='long long', ivsize=8, nvtype='double', nvsize=8, Off_t='off_t', lseeksize=8
    alignbytes=4, prototype=define
  Linker and Libraries:
    ld='/opt/SUNWspro/bin/cc', ldflags =' -L/usr/lib -L/usr/ccs/lib -L/opt/SUNWspro/prod/lib -L/lib '
    libpth=/usr/lib /usr/ccs/lib /opt/SUNWspro/prod/lib /lib
    libs=-lsocket -lnsl -ldl -lm -lc
    perllibs=-lsocket -lnsl -ldl -lm -lc
    libc=/lib/libc.so, so=so, useshrplib=false, libperl=libperl.a
    gnulibc_version=''
  Dynamic Linking:
    dlsrc=dl_dlopen.xs, dlext=so, d_dlsymun=undef, ccdlflags=' '
    cccdlflags='-KPIC', lddlflags='-G -L/usr/lib -L/usr/ccs/lib -L/opt/SUNWspro/prod/lib -L/lib'


Characteristics of this binary (from libperl): 
  Compile-time options: PERL_DONT_CREATE_GVSV PERL_MALLOC_WRAP
                        PERL_USE_SAFE_PUTENV USE_64_BIT_INT USE_LARGE_FILES
                        USE_PERLIO USE_PERL_ATOF
  Built under solaris
  Compiled at Sep 28 2010 11:15:48
  %ENV:
    PERL5LIB=":/export/home/cpan/pit/64bit/conf/perl-5.12.2/.cpanplus/5.12.2/build/Cache-Memcached-Fast-0.19/blib/lib:/export/home/cpan/pit/64bit/conf/perl-5.12.2/.cpanplus/5.12.2/build/Cache-Memcached-Fast-0.19/blib/arch:/export/home/cpan/pit/64bit/conf/perl-5.12.2/.cpanplus/5.12.2/build/IO-Capture-0.05/blib/lib:/export/home/cpan/pit/64bit/conf/perl-5.12.2/.cpanplus/5.12.2/build/IO-Capture-0.05/blib/arch:/export/home/cpan/pit/64bit/conf/perl-5.12.2/.cpanplus/5.12.2/build/Cache-Memcached-Fast-CGI/blib/lib:/export/home/cpan/pit/64bit/conf/perl-5.12.2/.cpanplus/5.12.2/build/Cache-Memcached-Fast-CGI/blib/arch"
    PERL5_CPANPLUS_IS_RUNNING="19186"
    PERL5_CPANPLUS_IS_VERSION="0.9007"
    PERL5_MINISMOKEBOX="0.32"
    PERL5_YACSMOKE_BASE="/export/home/cpan/pit/64bit/conf/perl-5.12.2"
    PERL_EXTUTILS_AUTOINSTALL="--defaultdeps"
    PERL_MM_USE_DEFAULT="1"
  @INC:
    /export/home/cpan/pit/64bit/conf/perl-5.12.2/.cpanplus/5.12.2/build/Cache-Memcached-Fast-0.19/blib/lib
    /export/home/cpan/pit/64bit/conf/perl-5.12.2/.cpanplus/5.12.2/build/Cache-Memcached-Fast-0.19/blib/arch
    /export/home/cpan/pit/64bit/conf/perl-5.12.2/.cpanplus/5.12.2/build/IO-Capture-0.05/blib/lib
    /export/home/cpan/pit/64bit/conf/perl-5.12.2/.cpanplus/5.12.2/build/IO-Capture-0.05/blib/arch
    /export/home/cpan/pit/64bit/conf/perl-5.12.2/.cpanplus/5.12.2/build/Cache-Memcached-Fast-CGI/blib/lib
    /export/home/cpan/pit/64bit/conf/perl-5.12.2/.cpanplus/5.12.2/build/Cache-Memcached-Fast-CGI/blib/arch
    /export/home/cpan/pit/64bit/perl-5.12.2/lib/site_perl/5.12.2/i86pc-solaris-64int
    /export/home/cpan/pit/64bit/perl-5.12.2/lib/site_perl/5.12.2
    /export/home/cpan/pit/64bit/perl-5.12.2/lib/5.12.2/i86pc-solaris-64int
    /export/home/cpan/pit/64bit/perl-5.12.2/lib/5.12.2
    .