XSLoader v0.24 Perl 5 v5.16.3 i686-linux
- Status
- Pass
- From
- Serguei Trouchelle (STRO)
- Dist
-
XSLoader v0.24
- Platform
- Perl 5 v5.16.3 i686-linux
- Date
- 2018-08-17 05:16:04
- ID
- a361d56c-a1dc-11e8-8fc2-e8f2c27751d3
This distribution has been tested as part of the CPAN Testers
project, supporting the Perl programming language. See
http://wiki.cpantesters.org/ for more information or email
questions to cpan-testers-discuss@perl.org
--
Dear Sebastien Aperghis-Tramoni,
This is a computer-generated report for XSLoader-0.24
on perl 5.16.3, created by CPAN-Reporter-1.2018.
Thank you for uploading your work to CPAN. Congratulations!
All tests were successful.
Sections of this report:
* Tester comments
* Program output
* Prerequisites
* Environment and other context
------------------------------
TESTER COMMENTS
------------------------------
Additional comments from tester:
none provided
------------------------------
PROGRAM OUTPUT
------------------------------
Output from '/usr/bin/make test':
PERL_DL_NONLAZY=1 "/home/cpantester/perl/5.16.3/bin/perl" "-MExtUtils::Command::MM" "-MTest::Harness" "-e" "undef *Test::Harness::Switches; test_harness(0, 'blib/lib', 'blib/arch')" t/*.t
# testing XSLoader v0.24 under Perl 5.016003
t/00-load.t ... ok
t/01-api.t .... ok
t/distchk.t ... skipped: Test::Distribution required for checking distribution
t/pod.t ....... skipped: Test::Pod 1.14 required for testing POD
t/podcover.t .. skipped: Test::Pod::Coverage 1.04 required for testing POD coverage
t/portfs.t .... skipped: Test::Portability::Files required for testing filenames portability
t/XSLoader.t .. ok
All tests successful.
Files=7, Tests=28, 0 wallclock secs ( 0.07 usr 0.00 sys + 0.74 cusr 0.06 csys = 0.87 CPU)
Result: PASS
------------------------------
PREREQUISITES
------------------------------
Prerequisite modules loaded:
requires:
Module Need Have
------------------- ---- --------
Test::More 0.47 1.302138
build_requires:
Module Need Have
------------------- ---- --------
ExtUtils::MakeMaker 0 7.34
configure_requires:
Module Need Have
------------------- ---- --------
ExtUtils::MakeMaker 0 7.34
------------------------------
ENVIRONMENT AND OTHER CONTEXT
------------------------------
Environment variables:
LANG = en_US.UTF-8
PATH = /usr/local/bin:/usr/bin:/bin:/usr/local/games:/usr/games
PERL5LIB =
PERL5OPT =
PERL5_CPANPLUS_IS_RUNNING = 28652
PERL5_CPAN_IS_RUNNING = 28652
SHELL = /bin/bash
TERM = xterm
Perl special variables (and OS-specific diagnostics, for MSWin32):
$^X = /home/cpantester/perl/5.16.3/bin/perl
$UID/$EUID = 1006 / 1006
$GID = 1006 1006
$EGID = 1006 1006
Perl module toolchain versions installed:
Module Have
------------------- --------
CPAN 1.9800
CPAN::Meta 2.143240
Cwd 3.39_02
ExtUtils::CBuilder 0.280206
ExtUtils::Command 7.34
ExtUtils::Install 2.06
ExtUtils::MakeMaker 7.34
ExtUtils::Manifest 1.70
ExtUtils::ParseXS 3.16
File::Spec 3.39_02
JSON n/a
JSON::PP 2.27203
Module::Build 0.39_01
Module::Signature n/a
Parse::CPAN::Meta 1.4414
Test::Harness 3.23
Test::More 1.302138
YAML 1.26
YAML::Syck n/a
version 0.99
--
Summary of my perl5 (revision 5 version 16 subversion 3) configuration:
Platform:
osname=linux, osvers=4.9.0-7-686-pae, archname=i686-linux
uname='linux cthugha 4.9.0-7-686-pae #1 smp debian 4.9.110-1 (2018-07-05) i686 gnulinux '
config_args=''
hint=recommended, useposix=true, d_sigaction=define
useithreads=undef, usemultiplicity=undef
useperlio=define, d_sfio=undef, uselargefiles=define, usesocks=undef
use64bitint=undef, use64bitall=undef, uselongdouble=undef
usemymalloc=n, bincompat5005=undef
Compiler:
cc='cc', ccflags ='-fno-strict-aliasing -pipe -fstack-protector -I/usr/local/include -D_LARGEFILE_SOURCE -D_FILE_OFFSET_BITS=64',
optimize='-O2',
cppflags='-fno-strict-aliasing -pipe -fstack-protector -I/usr/local/include'
ccversion='', gccversion='6.3.0 20170516', gccosandvers=''
intsize=4, longsize=4, ptrsize=4, doublesize=8, byteorder=1234
d_longlong=define, longlongsize=8, d_longdbl=define, longdblsize=12
ivtype='long', ivsize=4, nvtype='double', nvsize=8, Off_t='off_t', lseeksize=8
alignbytes=4, prototype=define
Linker and Libraries:
ld='cc', ldflags =' -fstack-protector -L/usr/local/lib'
libpth=/usr/local/lib /lib/i386-linux-gnu /lib/../lib /usr/lib/i386-linux-gnu /usr/lib/../lib /lib /usr/lib
libs=-lnsl -ldl -lm -lcrypt -lutil -lc
perllibs=-lnsl -ldl -lm -lcrypt -lutil -lc
libc=, so=so, useshrplib=false, libperl=libperl.a
gnulibc_version='2.24'
Dynamic Linking:
dlsrc=dl_dlopen.xs, dlext=so, d_dlsymun=undef, ccdlflags='-Wl,-E'
cccdlflags='-fPIC', lddlflags='-shared -O2 -L/usr/local/lib -fstack-protector'
Characteristics of this binary (from libperl):
Compile-time options: HAS_TIMES PERLIO_LAYERS PERL_DONT_CREATE_GVSV
PERL_MALLOC_WRAP PERL_PRESERVE_IVUV USE_LARGE_FILES
USE_LOCALE USE_LOCALE_COLLATE USE_LOCALE_CTYPE
USE_LOCALE_NUMERIC USE_PERLIO USE_PERL_ATOF
Built under linux
Compiled at Aug 15 2018 18:38:20
%ENV:
PERL5LIB=""
PERL5OPT=""
PERL5_CPANPLUS_IS_RUNNING="28652"
PERL5_CPAN_IS_RUNNING="28652"
@INC:
/home/cpantester/perl/5.16.3/lib/site_perl/5.16.3/i686-linux
/home/cpantester/perl/5.16.3/lib/site_perl/5.16.3
/home/cpantester/perl/5.16.3/lib/5.16.3/i686-linux
/home/cpantester/perl/5.16.3/lib/5.16.3
.