Report for Salvation-MacroProcessor-0.93

Back
From: metabase:user:e099aa30-bf4f-11e0-b0bb-a7aeb748a6a7
Subject: PASS Salvation-MacroProcessor-0.93 v5.18.1 Mac OS X
Date: 2014-03-11T23:48:26Z

This distribution has been tested as part of the CPAN Testers
project, supporting the Perl programming language.  See
http://wiki.cpantesters.org/ for more information or email
questions to cpan-testers-discuss@perl.org


--
Dear Gennadiy Filatov,

This is a computer-generated report for Salvation-MacroProcessor-0.93
on perl 5.18.1, created by CPAN-Reporter-1.2010.

Thank you for uploading your work to CPAN.  Congratulations!
All tests were successful.

Sections of this report:

    * Tester comments
    * Program output
    * Prerequisites
    * Environment and other context

------------------------------
TESTER COMMENTS
------------------------------

Additional comments from tester:

none provided

------------------------------
PROGRAM OUTPUT
------------------------------

Output from './Build test':

t/00-description_adding/00-bare/00-method.t ............................................................. ok
t/00-description_adding/00-bare/01-attribute.t .......................................................... ok
t/00-description_adding/00-bare/02-stub_subroutine.t .................................................... ok
t/00-description_adding/01-with_query_parts/00-method/00-static.t ....................................... ok
t/00-description_adding/01-with_query_parts/00-method/01-dynamic/00-no_args.t ........................... ok
t/00-description_adding/01-with_query_parts/00-method/01-dynamic/01-with_args.t ......................... ok
t/00-description_adding/01-with_query_parts/01-attribute/00-static.t .................................... ok
t/00-description_adding/01-with_query_parts/01-attribute/01-dynamic/00-no_args.t ........................ ok
t/00-description_adding/01-with_query_parts/01-attribute/01-dynamic/01-with_args.t ...................... ok
t/00-description_adding/01-with_query_parts/01-attribute/01-dynamic/02-default_query_part_generation.t .. ok
t/00-description_adding/02-with_postfilter/00-method.t .................................................. ok
t/00-description_adding/02-with_postfilter/01-attribute.t ............................................... ok
t/01-simple_select.t .................................................................................... ok
t/02-share_adding.t ..................................................................................... ok
t/03-select_with_shares.t ............................................................................... ok
t/04-connector_adding.t ................................................................................. ok
t/05-complex_composition/00-roles.t ..................................................................... ok
t/05-complex_composition/01-inheritance.t ............................................................... ok
t/05-complex_composition/02-import.t .................................................................... ok
t/05-complex_composition/03-mixed.t ..................................................................... ok
t/05-complex_composition/04-chained_import.t ............................................................ ok
t/06-complex_select.t ................................................................................... ok
t/07-aliasing.t ......................................................................................... ok
All tests successful.
Files=23, Tests=118,  8 wallclock secs ( 0.13 usr  0.08 sys +  7.84 cusr  0.56 csys =  8.61 CPU)
Result: PASS

------------------------------
PREREQUISITES
------------------------------

Prerequisite modules loaded:

requires:

    Module                      Need    Have    
    --------------------------- ------- --------
    B::Hooks::EndOfScope        0.11    0.12    
    Carp::Assert                0.20    0.20    
    Class::Load                 0.13    0.20    
    Class::Load::XS             0.03    0.06    
    Data::OptList               0.107   0.109   
    Devel::GlobalDestruction    0.04    0.12    
    Eval::Closure               0.08    0.11    
    List::MoreUtils             0.33    0.33    
    Module::Runtime             0.013   0.014   
    Moose                       2.0402  2.1204  
    MooseX::StrictConstructor   0.19    0.19    
    MRO::Compat                 0.11    0.12    
    namespace::autoclean        0.13    0.15    
    namespace::clean            0.23    0.24    
    Package::DeprecationManager 0.11    0.13    
    Package::Stash              0.33    0.36    
    Package::Stash::XS          0.25    0.28    
    Params::Util                1.04    1.07    
    perl                        v5.10.1 5.018001
    Sub::Exporter               0.982   0.987   
    Sub::Install                0.925   0.927   
    Sub::Name                   0.05    0.05    
    Try::Tiny                   0.11    0.18    
    Variable::Magic             0.48    0.53    
    version                     0.88    0.9908  

configure_requires:

    Module                      Need    Have    
    --------------------------- ------- --------
    Module::Build               0.36    0.4204  


------------------------------
ENVIRONMENT AND OTHER CONTEXT
------------------------------

Environment variables:

    PATH = /usr/local/apache/bin:/usr/local/bin:/Developer/usr/bin:/usr/bin:/bin:/usr/sbin:/sbin:/usr/local/bin:/opt/X11/bin
    PERL5LIB = 
    PERL5OPT = 
    PERL5_CPANPLUS_IS_RUNNING = 92893
    PERL5_CPAN_IS_RUNNING = 92893
    PERL5_CPAN_IS_RUNNING_IN_RECURSION = 51168,92893
    SHELL = /bin/tcsh
    TERM = xterm

Perl special variables (and OS-specific diagnostics, for MSWin32):

    $^X = /usr/local/bin/perl
    $UID/$EUID = 0 / 0
    $GID = 0 0 1 2 3 4 5 8 9 12 20 29 61 80
    $EGID = 0 0 1 2 3 4 5 8 9 12 20 29 61 80

Perl module toolchain versions installed:

    Module              Have    
    ------------------- --------
    CPAN                2.00    
    CPAN::Meta          2.133380
    Cwd                 3.40    
    ExtUtils::CBuilder  0.280210
    ExtUtils::Command   1.17    
    ExtUtils::Install   1.59    
    ExtUtils::MakeMaker 6.90    
    ExtUtils::Manifest  1.63    
    ExtUtils::ParseXS   3.22    
    File::Spec          3.40    
    JSON                2.90    
    JSON::PP            2.27203 
    Module::Build       0.4204  
    Module::Signature   0.73    
    Parse::CPAN::Meta   1.4409  
    Test::Harness       3.30    
    Test::More          1.001002
    YAML                0.88    
    YAML::Syck          1.27    
    version             0.9908  


--

Summary of my perl5 (revision 5 version 18 subversion 1) configuration:
   
  Platform:
    osname=darwin, osvers=12.5.0, archname=darwin-2level
    uname='darwin tucumcari.local 12.5.0 darwin kernel version 12.5.0: sun sep 29 13:33:47 pdt 2013; root:xnu-2050.48.12~1release_x86_64 x86_64 '
    config_args=''
    hint=recommended, useposix=true, d_sigaction=define
    useithreads=undef, usemultiplicity=undef
    useperlio=define, d_sfio=undef, uselargefiles=define, usesocks=undef
    use64bitint=define, use64bitall=define, uselongdouble=undef
    usemymalloc=n, bincompat5005=undef
  Compiler:
    cc='gcc', ccflags ='-fno-common -DPERL_DARWIN -fno-strict-aliasing -pipe -fstack-protector -I/usr/local/include',
    optimize='-O3',
    cppflags='-fno-common -DPERL_DARWIN -fno-strict-aliasing -pipe -fstack-protector -I/usr/local/include'
    ccversion='', gccversion='4.2.1 (Based on Apple Inc. build 5658) (LLVM build 2336.11.00)', gccosandvers=''
    intsize=4, longsize=8, ptrsize=8, doublesize=8, byteorder=12345678
    d_longlong=define, longlongsize=8, d_longdbl=define, longdblsize=16
    ivtype='long', ivsize=8, nvtype='double', nvsize=8, Off_t='off_t', lseeksize=8
    alignbytes=8, prototype=define
  Linker and Libraries:
    ld='env MACOSX_DEPLOYMENT_TARGET=10.3 cc', ldflags =' -fstack-protector -L/usr/local/lib'
    libpth=/usr/local/lib /usr/lib
    libs=-lgdbm -ldbm -ldl -lm -lutil -lc
    perllibs=-ldl -lm -lutil -lc
    libc=, so=dylib, useshrplib=false, libperl=libperl.a
    gnulibc_version=''
  Dynamic Linking:
    dlsrc=dl_dlopen.xs, dlext=bundle, d_dlsymun=undef, ccdlflags=' '
    cccdlflags=' ', lddlflags=' -bundle -undefined dynamic_lookup -L/usr/local/lib -fstack-protector'


Characteristics of this binary (from libperl): 
  Compile-time options: HAS_TIMES PERLIO_LAYERS PERL_DONT_CREATE_GVSV
                        PERL_HASH_FUNC_ONE_AT_A_TIME_HARD PERL_MALLOC_WRAP
                        PERL_PRESERVE_IVUV PERL_SAWAMPERSAND USE_64_BIT_ALL
                        USE_64_BIT_INT USE_LARGE_FILES USE_LOCALE
                        USE_LOCALE_COLLATE USE_LOCALE_CTYPE
                        USE_LOCALE_NUMERIC USE_PERLIO USE_PERL_ATOF
  Built under darwin
  Compiled at Oct 18 2013 18:37:56
  %ENV:
    PERL5LIB=""
    PERL5OPT=""
    PERL5_CPANPLUS_IS_RUNNING="92893"
    PERL5_CPAN_IS_RUNNING="92893"
    PERL5_CPAN_IS_RUNNING_IN_RECURSION="51168,92893"
  @INC:
    /usr/local/lib/perl5/site_perl/5.18.1/darwin-2level
    /usr/local/lib/perl5/site_perl/5.18.1
    /usr/local/lib/perl5/5.18.1/darwin-2level
    /usr/local/lib/perl5/5.18.1
    .