Back
From: metabase:user:314402c4-2aae-11df-837a-5e0a49663a4f
Subject: PASS Object-InsideOut-4.02 v5.24.0 GNU/Linux
Date: 2016-07-02T22:45:13Z
This distribution has been tested as part of the CPAN Testers
project, supporting the Perl programming language. See
http://wiki.cpantesters.org/ for more information or email
questions to cpan-testers-discuss@perl.org
--
Dear Jerry D. Hedden,
This is a computer-generated report for Object-InsideOut-4.02
on perl 5.24.0, created by CPAN-Reporter-1.2018.
Thank you for uploading your work to CPAN. Congratulations!
All tests were successful.
Sections of this report:
* Tester comments
* Program output
* Prerequisites
* Environment and other context
------------------------------
TESTER COMMENTS
------------------------------
Additional comments from tester:
none provided
------------------------------
PROGRAM OUTPUT
------------------------------
Output from './Build test':
# Testing Object::InsideOut 4.02
t/00-load.t ................. ok
t/01-basic.t ................ ok
t/01a-basic.t ............... ok
t/02-auto.t ................. ok
t/03-threads.t .............. skipped: Threads not supported
t/03a-threads.t ............. skipped: Threads not supported
t/04-shared.t ............... skipped: Threads not supported
t/04a-shared.t .............. skipped: Threads not supported
t/05-require.t .............. ok
t/05a-require.t ............. ok
t/06-id.t ................... ok
t/07-dump.t ................. ok
t/07a-dump.t ................ ok
t/08-access.t ............... ok
t/09-chained.t .............. ok
t/09a-chained.t ............. ok
t/09b-chained.t ............. ok
t/10-cumulative.t ........... ok
t/10a-cumulative.t .......... ok
t/10b-cumulative.t .......... ok
t/11-coercion.t ............. ok
t/12-super.t ................ ok
t/13-pump.t ................. ok
t/14-auto_cc.t .............. ok
t/15-type.t ................. ok
t/15a-type.t ................ ok
t/16-return.t ............... ok
t/17-dynamic.t .............. ok
t/18-inherit.t .............. ok
t/18a-inherit.t ............. ok
t/19-storable.t ............. ok
t/20-clone.t ................ ok
t/21-import.t ............... ok
t/22-import.t ............... ok
t/23-weak.t ................. ok
t/24-preproc.t .............. ok
t/25-access.t ............... ok
t/26-preinit.t .............. ok
t/27-exception.t ............ ok
t/28-lvalue.t ............... ok
t/29-non_lvalue.t ........... ok
t/30-all.t .................. ok
t/31-attr.t ................. ok
t/32-meta.t ................. ok
t/33-hash_only.t ............ ok
t/34-secure.t ............... skipped: Math::Random::MT::Auto not available
t/34a-secure.t .............. skipped: Threads not supported
t/35-add_class.t ............ ok
t/36-require.t .............. ok
t/37-class_perm.t ........... ok
t/38-combined.t ............. ok
t/39-fork.t ................. skipped: Not using pseudo-forks
t/40-normalize.t ............ ok
t/41-def.t .................. ok
t/42-sh_obj.t ............... skipped: Threads not supported
t/43-overload.t ............. skipped: Threads not supported
t/44-data.t ................. skipped: Threads not supported
t/45-unused.t ............... ok
t/46-singleton.t ............ skipped: Threads not supported
t/46a-singleton.t ........... skipped: Threads not supported
t/47-sh_reuse.t ............. skipped: Threads not supported
t/48-not_shared.t ........... skipped: Threads not supported
t/49-delegators.t ........... ok
t/49a-delegators-non-OIO.t .. ok
t/50-active_defs.t .......... ok
t/51-readonly.t ............. ok
t/99-pod.t .................. skipped: Module maintainer tests
All tests successful.
Files=67, Tests=1138, 6 wallclock secs ( 0.07 usr 0.06 sys + 1.87 cusr 0.46 csys = 2.46 CPU)
Result: PASS
------------------------------
PREREQUISITES
------------------------------
Prerequisite modules loaded:
requires:
Module Need Have
------------------- ------ --------
attributes 0 0.27
B 0 1.62
Config 0 5.024000
Data::Dumper 0 2.160
Exception::Class 1.22 1.40
overload 0 1.26
perl v5.6.0 5.024000
Scalar::Util 1.45 1.45
strict 0 1.11
warnings 0 1.36
build_requires:
Module Need Have
------------------- ------ --------
Test::More 0.5 1.302035
configure_requires:
Module Need Have
------------------- ------ --------
ExtUtils::MakeMaker 0 7.10_01
------------------------------
ENVIRONMENT AND OTHER CONTEXT
------------------------------
Environment variables:
LANG = en_US.UTF-8
LANGUAGE = en_US:en
LC_ALL = de_DE.UTF-8
PATH = /usr/local/bin:/usr/bin:/bin:/usr/local/sbin:/usr/sbin:/sbin:/home/cpansand/bin/linux-gnu:/home/cpansand/bin/sh:/home/cpansand/bin:/usr/games:/home/cpansand/devel:/home/eserte/src/srezic-misc/scripts
PERL5LIB =
PERL5OPT =
PERL5_CPANPLUS_IS_RUNNING = 18793
PERL5_CPAN_IS_RUNNING = 18793
PERL5_CPAN_IS_RUNNING_IN_RECURSION = 29493,18793
PERLDOC = -MPod::Perldoc::ToTextOverstrike
PERL_BATCH = yes
PERL_CANARY_STABILITY_NOPROMPT = 1
PERL_CPAN_REPORTER_CONFIG = /var/tmp/cpansmoker-1023/2016070300/cpanreporter_000_config.ini
PERL_EXTUTILS_AUTOINSTALL = --defaultdeps
PERL_PARALLEL_SMOKER = yes
SHELL = /bin/zsh
TERM = screen
TMPDIR = /var/tmp/cpansmoker-1023/2016070300
Perl special variables (and OS-specific diagnostics, for MSWin32):
$^X = /opt/perl-5.24.0/bin/perl5.24.0
$UID/$EUID = 1023 / 1023
$GID = 1023 1023
$EGID = 1023 1023
Perl module toolchain versions installed:
Module Have
------------------- --------
CPAN 2.14
CPAN::Meta 2.150005
Cwd 3.63
ExtUtils::CBuilder 0.280225
ExtUtils::Command 7.10
ExtUtils::Install 2.04
ExtUtils::MakeMaker 7.10_01
ExtUtils::Manifest 1.70
ExtUtils::ParseXS 3.31
File::Spec 3.63
JSON 2.90
JSON::PP 2.27300
Module::Build 0.4218
Module::Signature 0.80
Parse::CPAN::Meta 1.4421
Test::Harness 3.36
Test::More 1.302035
YAML 1.15
YAML::Syck 1.29
version 0.9916
--
Summary of my perl5 (revision 5 version 24 subversion 0) configuration:
Platform:
osname=linux, osvers=3.2.0-4-amd64, archname=x86_64-linux
uname='linux cvrsnica-wheezy 3.2.0-4-amd64 #1 smp debian 3.2.54-2 x86_64 gnulinux '
config_args='-ds -e -Dprefix=/opt/perl-5.24.0 -Dcf_email=srezic@cpan.org'
hint=recommended, useposix=true, d_sigaction=define
useithreads=undef, usemultiplicity=undef
use64bitint=define, use64bitall=define, uselongdouble=undef
usemymalloc=n, bincompat5005=undef
Compiler:
cc='cc', ccflags ='-fwrapv -fno-strict-aliasing -pipe -fstack-protector -I/usr/local/include -D_LARGEFILE_SOURCE -D_FILE_OFFSET_BITS=64 -D_FORTIFY_SOURCE=2',
optimize='-O2',
cppflags='-fwrapv -fno-strict-aliasing -pipe -fstack-protector -I/usr/local/include'
ccversion='', gccversion='4.7.2', gccosandvers=''
intsize=4, longsize=8, ptrsize=8, doublesize=8, byteorder=12345678, doublekind=3
d_longlong=define, longlongsize=8, d_longdbl=define, longdblsize=16, longdblkind=3
ivtype='long', ivsize=8, nvtype='double', nvsize=8, Off_t='off_t', lseeksize=8
alignbytes=8, prototype=define
Linker and Libraries:
ld='cc', ldflags =' -fstack-protector -L/usr/local/lib'
libpth=/usr/local/lib /usr/lib/gcc/x86_64-linux-gnu/4.7/include-fixed /usr/include/x86_64-linux-gnu /usr/lib /lib/x86_64-linux-gnu /lib/../lib /usr/lib/x86_64-linux-gnu /usr/lib/../lib /lib
libs=-lpthread -lnsl -ldb -ldl -lm -lcrypt -lutil -lc
perllibs=-lpthread -lnsl -ldl -lm -lcrypt -lutil -lc
libc=libc-2.13.so, so=so, useshrplib=false, libperl=libperl.a
gnulibc_version='2.13'
Dynamic Linking:
dlsrc=dl_dlopen.xs, dlext=so, d_dlsymun=undef, ccdlflags='-Wl,-E'
cccdlflags='-fPIC', lddlflags='-shared -O2 -L/usr/local/lib -fstack-protector'
Characteristics of this binary (from libperl):
Compile-time options: HAS_TIMES PERLIO_LAYERS PERL_COPY_ON_WRITE
PERL_DONT_CREATE_GVSV
PERL_HASH_FUNC_ONE_AT_A_TIME_HARD PERL_MALLOC_WRAP
PERL_PRESERVE_IVUV USE_64_BIT_ALL USE_64_BIT_INT
USE_LARGE_FILES USE_LOCALE USE_LOCALE_COLLATE
USE_LOCALE_CTYPE USE_LOCALE_NUMERIC USE_LOCALE_TIME
USE_PERLIO USE_PERL_ATOF
Built under linux
Compiled at May 30 2016 08:43:25
%ENV:
PERL5LIB=""
PERL5OPT=""
PERL5_CPANPLUS_IS_RUNNING="18793"
PERL5_CPAN_IS_RUNNING="18793"
PERL5_CPAN_IS_RUNNING_IN_RECURSION="29493,18793"
PERLDOC="-MPod::Perldoc::ToTextOverstrike"
PERL_BATCH="yes"
PERL_CANARY_STABILITY_NOPROMPT="1"
PERL_CPAN_REPORTER_CONFIG="/var/tmp/cpansmoker-1023/2016070300/cpanreporter_000_config.ini"
PERL_EXTUTILS_AUTOINSTALL="--defaultdeps"
PERL_PARALLEL_SMOKER="yes"
@INC:
/opt/perl-5.24.0/lib/site_perl/5.24.0/x86_64-linux
/opt/perl-5.24.0/lib/site_perl/5.24.0
/opt/perl-5.24.0/lib/5.24.0/x86_64-linux
/opt/perl-5.24.0/lib/5.24.0
.