DateTime-Format-Strptime v1.75 Perl 5 v5.27.7 x86_64-linux

Status
Pass
From
Slaven Rezić (SREZIC)
Dist
DateTime-Format-Strptime v1.75
Platform
Perl 5 v5.27.7 x86_64-linux
Date
2018-01-02 21:12:29
ID
a3e84d14-f001-11e7-a84b-e301a75308b0
This distribution has been tested as part of the CPAN Testers
project, supporting the Perl programming language.  See
http://wiki.cpantesters.org/ for more information or email
questions to cpan-testers-discuss@perl.org


--
Dear Dave Rolsky,

This is a computer-generated report for DateTime-Format-Strptime-1.75
on perl 5.27.7, created by CPAN-Reporter-1.2018.

Thank you for uploading your work to CPAN.  Congratulations!
All tests were successful.

Sections of this report:

    * Tester comments
    * Program output
    * Prerequisites
    * Environment and other context

------------------------------
TESTER COMMENTS
------------------------------

Additional comments from tester:

none provided

------------------------------
PROGRAM OUTPUT
------------------------------

Output from 'make test':

PERL_DL_NONLAZY=1 "/opt/perl-5.27.7/bin/perl5.27.7" "-MExtUtils::Command::MM" "-MTest::Harness" "-e" "undef *Test::Harness::Switches; test_harness(0, 'blib/lib', 'blib/arch')" t/*.t
# 
# Versions for all modules listed in MYMETA.json (including optional ones):
# 
# === Configure Requires ===
# 
#     Module              Want Have
#     ------------------- ---- ----
#     ExtUtils::MakeMaker  any 7.30
# 
# === Configure Suggests ===
# 
#     Module      Want    Have
#     -------- ------- -------
#     JSON::PP 2.27300 2.97000
# 
# === Build Requires ===
# 
#     Module              Want Have
#     ------------------- ---- ----
#     ExtUtils::MakeMaker  any 7.30
# 
# === Test Requires ===
# 
#     Module              Want     Have
#     ------------------- ---- --------
#     ExtUtils::MakeMaker  any     7.30
#     File::Spec           any     3.71
#     Test::Builder        any 1.302120
#     Test::Fatal          any    0.014
#     Test::More          0.96 1.302120
#     Test::Warnings       any    0.026
#     lib                  any     0.64
#     utf8                 any     1.20
# 
# === Test Recommends ===
# 
#     Module         Want     Have
#     ---------- -------- --------
#     CPAN::Meta 2.120900 2.150010
# 
# === Runtime Requires ===
# 
#     Module                      Want  Have
#     --------------------------- ---- -----
#     Carp                         any  1.45
#     DateTime                    1.00  1.44
#     DateTime::Locale            1.05  1.17
#     DateTime::Locale::Base       any  1.17
#     DateTime::Locale::FromData   any  1.17
#     DateTime::TimeZone          2.09  2.15
#     Exporter                     any  5.72
#     Package::DeprecationManager 0.15  0.17
#     Params::ValidationCompiler   any  0.26
#     Specio                      0.33  0.42
#     Specio::Declare              any  0.42
#     Specio::Exporter             any  0.42
#     Specio::Library::Builtins    any  0.42
#     Specio::Library::String      any  0.42
#     Try::Tiny                    any  0.30
#     constant                     any  1.33
#     parent                       any 0.236
#     strict                       any  1.11
#     warnings                     any  1.39
# 
t/00-report-prereqs.t ... ok
t/basic.t ............... ok
t/edge.t ................ ok
t/errors.t .............. ok
t/format-datetime.t ..... ok
t/format-with-locale.t .. ok
t/import.t .............. ok
t/locale-de.t ........... ok
t/locale-en.t ........... ok
t/locale-ga.t ........... ok
t/locale-pt.t ........... ok
t/locale-zh.t ........... ok
t/zones.t ............... ok
All tests successful.
Files=13, Tests=143,  6 wallclock secs ( 0.10 usr  0.09 sys +  4.51 cusr  0.67 csys =  5.37 CPU)
Result: PASS

------------------------------
PREREQUISITES
------------------------------

Prerequisite modules loaded:

requires:

    Module                      Need Have    
    --------------------------- ---- --------
    Carp                        0    1.45    
    constant                    0    1.33    
    DateTime                    1.00 1.44    
    DateTime::Locale            1.05 1.17    
    DateTime::Locale::Base      0    1.17    
    DateTime::Locale::FromData  0    1.17    
    DateTime::TimeZone          2.09 2.15    
    Exporter                    0    5.72    
    Package::DeprecationManager 0.15 0.17    
    Params::ValidationCompiler  0    0.26    
    parent                      0    0.236   
    Specio                      0.33 0.42    
    Specio::Declare             0    0.42    
    Specio::Exporter            0    0.42    
    Specio::Library::Builtins   0    0.42    
    Specio::Library::String     0    0.42    
    strict                      0    1.11    
    Try::Tiny                   0    0.30    
    warnings                    0    1.39    

build_requires:

    Module                      Need Have    
    --------------------------- ---- --------
    ExtUtils::MakeMaker         0    7.30    
    File::Spec                  0    3.71    
    lib                         0    0.64    
    Test::Builder               0    1.302120
    Test::Fatal                 0    0.014   
    Test::More                  0.96 1.302120
    Test::Warnings              0    0.026   
    utf8                        0    1.20    

configure_requires:

    Module                      Need Have    
    --------------------------- ---- --------
    ExtUtils::MakeMaker         0    7.30    


------------------------------
ENVIRONMENT AND OTHER CONTEXT
------------------------------

Environment variables:

    LANG = en_US.UTF-8
    PATH = /usr/local/bin:/usr/bin:/bin:/usr/local/sbin:/usr/sbin:/sbin:/home/cpansand/bin/linux-gnu:/home/cpansand/bin/sh:/home/cpansand/bin:/usr/games:/home/cpansand/devel:/home/eserte/src/srezic-misc/scripts
    PERL5LIB = /home/cpansand/.cpan/build/2018010121/Class-Factory-Util-1.7-2/blib/arch:/home/cpansand/.cpan/build/2018010121/Class-Factory-Util-1.7-2/blib/lib:/home/cpansand/.cpan/build/2018010121/Class-InsideOut-1.14-2/blib/arch:/home/cpansand/.cpan/build/2018010121/Class-InsideOut-1.14-2/blib/lib
    PERL5OPT = 
    PERL5_CPANPLUS_IS_RUNNING = 1463
    PERL5_CPAN_IS_RUNNING = 1463
    PERL5_CPAN_IS_RUNNING_IN_RECURSION = 31578,1463
    PERLDOC = -MPod::Perldoc::ToTextOverstrike
    PERL_BATCH = yes
    PERL_CANARY_STABILITY_NOPROMPT = 1
    PERL_CPAN_REPORTER_CONFIG = /var/tmp/cpansmoker-1023/2018010118/cpanreporter_002_config.ini
    PERL_EXTUTILS_AUTOINSTALL = --defaultdeps
    PERL_USE_UNSAFE_INC = 1
    SHELL = /bin/zsh
    TERM = screen
    TMPDIR = /var/tmp/cpansmoker-1023/2018010118

Perl special variables (and OS-specific diagnostics, for MSWin32):

    $^X = /opt/perl-5.27.7/bin/perl5.27.7
    $UID/$EUID = 1023 / 1023
    $GID = 1023 1023
    $EGID = 1023 1023

Perl module toolchain versions installed:

    Module              Have    
    ------------------- --------
    CPAN                2.20    
    CPAN::Meta          2.150010
    Cwd                 3.71    
    ExtUtils::CBuilder  0.280230
    ExtUtils::Command   7.30    
    ExtUtils::Install   2.14    
    ExtUtils::MakeMaker 7.30    
    ExtUtils::Manifest  1.70    
    ExtUtils::ParseXS   3.36    
    File::Spec          3.71    
    JSON                2.97000 
    JSON::PP            2.97000 
    Module::Build       0.4224  
    Module::Signature   n/a     
    Parse::CPAN::Meta   2.150010
    Test::Harness       3.39    
    Test::More          1.302120
    YAML                1.24    
    YAML::Syck          1.30    
    version             0.9918  


--

Summary of my perl5 (revision 5 version 27 subversion 7) configuration:
   
  Platform:
    osname=linux
    osvers=2.6.32-696.3.1.el6.x86_64
    archname=x86_64-linux
    uname='linux centos6 2.6.32-696.3.1.el6.x86_64 #1 smp tue may 30 19:52:55 utc 2017 x86_64 x86_64 x86_64 gnulinux '
    config_args='-ds -e -Dprefix=/opt/perl-5.27.7 -Dusedevel -Dusemallocwrap=no -Dcf_email=srezic@cpan.org'
    hint=recommended
    useposix=true
    d_sigaction=define
    useithreads=undef
    usemultiplicity=undef
    use64bitint=define
    use64bitall=define
    uselongdouble=undef
    usemymalloc=n
    default_inc_excludes_dot=define
    bincompat5005=undef
  Compiler:
    cc='cc'
    ccflags ='-fwrapv -fno-strict-aliasing -pipe -fstack-protector -I/usr/local/include -D_LARGEFILE_SOURCE -D_FILE_OFFSET_BITS=64 -D_FORTIFY_SOURCE=2'
    optimize='-O2'
    cppflags='-fwrapv -fno-strict-aliasing -pipe -fstack-protector -I/usr/local/include'
    ccversion=''
    gccversion='4.4.7 20120313 (Red Hat 4.4.7-18)'
    gccosandvers=''
    intsize=4
    longsize=8
    ptrsize=8
    doublesize=8
    byteorder=12345678
    doublekind=3
    d_longlong=define
    longlongsize=8
    d_longdbl=define
    longdblsize=16
    longdblkind=3
    ivtype='long'
    ivsize=8
    nvtype='double'
    nvsize=8
    Off_t='off_t'
    lseeksize=8
    alignbytes=8
    prototype=define
  Linker and Libraries:
    ld='cc'
    ldflags =' -fstack-protector -L/usr/local/lib'
    libpth=/usr/local/lib /usr/lib /lib/../lib64 /usr/lib/../lib64 /lib /lib64 /usr/lib64 /usr/local/lib64
    libs=-lpthread -lnsl -lgdbm -ldb -ldl -lm -lcrypt -lutil -lc
    perllibs=-lpthread -lnsl -ldl -lm -lcrypt -lutil -lc
    libc=libc-2.12.so
    so=so
    useshrplib=false
    libperl=libperl.a
    gnulibc_version='2.12'
  Dynamic Linking:
    dlsrc=dl_dlopen.xs
    dlext=so
    d_dlsymun=undef
    ccdlflags='-Wl,-E'
    cccdlflags='-fPIC'
    lddlflags='-shared -O2 -L/usr/local/lib -fstack-protector'


Characteristics of this binary (from libperl): 
  Compile-time options:
    HAS_TIMES
    PERLIO_LAYERS
    PERL_COPY_ON_WRITE
    PERL_DONT_CREATE_GVSV
    PERL_OP_PARENT
    PERL_PRESERVE_IVUV
    PERL_USE_DEVEL
    USE_64_BIT_ALL
    USE_64_BIT_INT
    USE_LARGE_FILES
    USE_LOCALE
    USE_LOCALE_COLLATE
    USE_LOCALE_CTYPE
    USE_LOCALE_NUMERIC
    USE_LOCALE_TIME
    USE_PERLIO
    USE_PERL_ATOF
  Built under linux
  Compiled at Dec 21 2017 06:46:08
  %ENV:
    PERL5LIB="/home/cpansand/.cpan/build/2018010121/Class-Factory-Util-1.7-2/blib/arch:/home/cpansand/.cpan/build/2018010121/Class-Factory-Util-1.7-2/blib/lib:/home/cpansand/.cpan/build/2018010121/Class-InsideOut-1.14-2/blib/arch:/home/cpansand/.cpan/build/2018010121/Class-InsideOut-1.14-2/blib/lib"
    PERL5OPT=""
    PERL5_CPANPLUS_IS_RUNNING="1463"
    PERL5_CPAN_IS_RUNNING="1463"
    PERL5_CPAN_IS_RUNNING_IN_RECURSION="31578,1463"
    PERLDOC="-MPod::Perldoc::ToTextOverstrike"
    PERL_BATCH="yes"
    PERL_CANARY_STABILITY_NOPROMPT="1"
    PERL_CPAN_REPORTER_CONFIG="/var/tmp/cpansmoker-1023/2018010118/cpanreporter_002_config.ini"
    PERL_EXTUTILS_AUTOINSTALL="--defaultdeps"
    PERL_USE_UNSAFE_INC="1"
  @INC:
    /home/cpansand/.cpan/build/2018010121/Class-Factory-Util-1.7-2/blib/arch
    /home/cpansand/.cpan/build/2018010121/Class-Factory-Util-1.7-2/blib/lib
    /home/cpansand/.cpan/build/2018010121/Class-InsideOut-1.14-2/blib/arch
    /home/cpansand/.cpan/build/2018010121/Class-InsideOut-1.14-2/blib/lib
    /opt/perl-5.27.7/lib/site_perl/5.27.7/x86_64-linux
    /opt/perl-5.27.7/lib/site_perl/5.27.7
    /opt/perl-5.27.7/lib/5.27.7/x86_64-linux
    /opt/perl-5.27.7/lib/5.27.7
    .