Report for Net-Ident-1.24

Back
From: metabase:user:635b6f5a-73f0-11e4-a1dd-2449113a4b70
Subject: PASS Net-Ident-1.24 v5.20.2 GNU/Linux
Date: 2015-10-29T09:30:06Z

This distribution has been tested as part of the CPAN Testers
project, supporting the Perl programming language.  See
http://wiki.cpantesters.org/ for more information or email
questions to cpan-testers-discuss@perl.org


--
Dear Todd Rinaldo,

This is a computer-generated report for Net-Ident-1.24
on perl 5.20.2, created by CPAN-Reporter-1.2015.

Thank you for uploading your work to CPAN.  Congratulations!
All tests were successful.

Sections of this report:

    * Tester comments
    * Program output
    * Prerequisites
    * Environment and other context

------------------------------
TESTER COMMENTS
------------------------------

Additional comments from tester:

none provided

------------------------------
PROGRAM OUTPUT
------------------------------

Output from '/usr/bin/make test':

PERL_DL_NONLAZY=1 "/usr/bin/perl" "-MExtUtils::Command::MM" "-MTest::Harness" "-e" "undef *Test::Harness::Switches; test_harness(0, 'blib/lib', 'blib/arch')" t/*.t
t/0use.t .... ok
t/apache.t .. skipped: (no reason given)
t/compat.t .. skipped: (no reason given)
t/Ident.t ... ok
All tests successful.
Files=4, Tests=2,  0 wallclock secs ( 0.02 usr  0.00 sys +  0.08 cusr  0.00 csys =  0.10 CPU)
Result: PASS

------------------------------
PREREQUISITES
------------------------------

Prerequisite modules loaded:

requires:

    Module              Need Have    
    ------------------- ---- --------
    Carp                0    1.3301  
    Config              0    5.020002
    Exporter            0    5.71    
    Fcntl               0    1.11    
    FileHandle          0    2.02    
    Socket              0    2.013   
    vars                0    1.03    

build_requires:

    Module              Need Have    
    ------------------- ---- --------
    ExtUtils::MakeMaker 0    7.10    

configure_requires:

    Module              Need Have    
    ------------------- ---- --------
    ExtUtils::MakeMaker 0    7.10    


------------------------------
ENVIRONMENT AND OTHER CONTEXT
------------------------------

Environment variables:

    LANG = en_US.UTF-8
    LANGUAGE = en
    LC_ADDRESS = uk_UA.UTF-8
    LC_COLLATE = uk_UA.UTF-8
    LC_CTYPE = uk_UA.UTF-8
    LC_IDENTIFICATION = uk_UA.UTF-8
    LC_MEASUREMENT = uk_UA.UTF-8
    LC_MESSAGES = en_US.UTF-8
    LC_MONETARY = uk_UA.UTF-8
    LC_NAME = uk_UA.UTF-8
    LC_NUMERIC = uk_UA.UTF-8
    LC_PAPER = uk_UA.UTF-8
    LC_TELEPHONE = uk_UA.UTF-8
    LC_TIME = uk_UA.UTF-8
    PATH = /home/stesin/.nvm/versions/v4.2.1/bin:/home/stesin/.nvm/versions/v4.2.1/bin:/usr/local/sbin:/usr/local/bin:/usr/sbin:/usr/bin:/sbin:/bin
    PERL5LIB = 
    PERL5OPT = 
    PERL5_CPANPLUS_IS_RUNNING = 17420
    PERL5_CPAN_IS_RUNNING = 17420
    SHELL = /bin/bash
    TERM = xterm

Perl special variables (and OS-specific diagnostics, for MSWin32):

    $^X = /usr/bin/perl
    $UID/$EUID = 0 / 0
    $GID = 0 0
    $EGID = 0 0

Perl module toolchain versions installed:

    Module              Have    
    ------------------- --------
    CPAN                2.10    
    CPAN::Meta          2.150005
    Cwd                 3.48_01 
    ExtUtils::CBuilder  0.280217
    ExtUtils::Command   7.10    
    ExtUtils::Install   1.67    
    ExtUtils::MakeMaker 7.10    
    ExtUtils::Manifest  1.65    
    ExtUtils::ParseXS   3.24    
    File::Spec          3.48_01 
    JSON                2.90    
    JSON::PP            2.27203 
    Module::Build       0.4214  
    Module::Signature   0.79    
    Parse::CPAN::Meta   1.4414  
    Test::Harness       3.30    
    Test::More          1.001014
    YAML                1.15    
    YAML::Syck          n/a     
    version             0.9912  


--

Summary of my perl5 (revision 5 version 20 subversion 2) configuration:
   
  Platform:
    osname=linux, osvers=3.2.0-77-generic, archname=x86_64-linux-gnu-thread-multi
    uname='linux allspice 3.2.0-77-generic #112-ubuntu smp tue feb 10 15:22:22 utc 2015 x86_64 x86_64 x86_64 gnulinux '
    config_args='-Dusethreads -Duselargefiles -Dccflags=-DDEBIAN -D_FORTIFY_SOURCE=2 -g -O2 -fstack-protector-strong -Wformat -Werror=format-security -Dldflags= -Wl,-Bsymbolic-functions -Wl,-z,relro -Dlddlflags=-shared -Wl,-Bsymbolic-functions -Wl,-z,relro -Dcccdlflags=-fPIC -Darchname=x86_64-linux-gnu -Dprefix=/usr -Dprivlib=/usr/share/perl/5.20 -Darchlib=/usr/lib/x86_64-linux-gnu/perl/5.20 -Dvendorprefix=/usr -Dvendorlib=/usr/share/perl5 -Dvendorarch=/usr/lib/x86_64-linux-gnu/perl5/5.20 -Dsiteprefix=/usr/local -Dsitelib=/usr/local/share/perl/5.20.2 -Dsitearch=/usr/local/lib/x86_64-linux-gnu/perl/5.20.2 -Dman1dir=/usr/share/man/man1 -Dman3dir=/usr/share/man/man3 -Dsiteman1dir=/usr/local/man/man1 -Dsiteman3dir=/usr/local/man/man3 -Duse64bitint -Dman1ext=1 -Dman3ext=3perl -Dpager=/usr/bin/sensible-pager -Uafs -Ud_csh -Ud_ualarm -Uusesfio -Uusenm -Ui_libutil -Uversiononly -DDEBUGGING=-g -Doptimize=-O2 -Duseshrplib -Dlibperl=libperl.so.5.20.2 -des'
    hint=recommended, useposix=true, d_sigaction=define
    useithreads=define, usemultiplicity=define
    use64bitint=define, use64bitall=define, uselongdouble=undef
    usemymalloc=n, bincompat5005=undef
  Compiler:
    cc='cc', ccflags ='-D_REENTRANT -D_GNU_SOURCE -DDEBIAN -fwrapv -fno-strict-aliasing -pipe -I/usr/local/include -D_LARGEFILE_SOURCE -D_FILE_OFFSET_BITS=64',
    optimize='-O2 -g',
    cppflags='-D_REENTRANT -D_GNU_SOURCE -DDEBIAN -fwrapv -fno-strict-aliasing -pipe -I/usr/local/include'
    ccversion='', gccversion='4.9.2', gccosandvers=''
    intsize=4, longsize=8, ptrsize=8, doublesize=8, byteorder=12345678
    d_longlong=define, longlongsize=8, d_longdbl=define, longdblsize=16
    ivtype='long', ivsize=8, nvtype='double', nvsize=8, Off_t='off_t', lseeksize=8
    alignbytes=8, prototype=define
  Linker and Libraries:
    ld='cc', ldflags =' -fstack-protector -L/usr/local/lib'
    libpth=/usr/local/lib /usr/lib/gcc/x86_64-linux-gnu/4.9/include-fixed /usr/include/x86_64-linux-gnu /usr/lib /lib/x86_64-linux-gnu /lib/../lib /usr/lib/x86_64-linux-gnu /usr/lib/../lib /lib
    libs=-lgdbm -lgdbm_compat -ldb -ldl -lm -lpthread -lc -lcrypt
    perllibs=-ldl -lm -lpthread -lc -lcrypt
    libc=libc-2.21.so, so=so, useshrplib=true, libperl=libperl.so.5.20
    gnulibc_version='2.21'
  Dynamic Linking:
    dlsrc=dl_dlopen.xs, dlext=so, d_dlsymun=undef, ccdlflags='-Wl,-E'
    cccdlflags='-fPIC', lddlflags='-shared -L/usr/local/lib -fstack-protector'


Characteristics of this binary (from libperl): 
  Compile-time options: HAS_TIMES MULTIPLICITY PERLIO_LAYERS
                        PERL_DONT_CREATE_GVSV
                        PERL_HASH_FUNC_ONE_AT_A_TIME_HARD
                        PERL_IMPLICIT_CONTEXT PERL_MALLOC_WRAP
                        PERL_NEW_COPY_ON_WRITE PERL_PRESERVE_IVUV
                        USE_64_BIT_ALL USE_64_BIT_INT USE_ITHREADS
                        USE_LARGE_FILES USE_LOCALE USE_LOCALE_COLLATE
                        USE_LOCALE_CTYPE USE_LOCALE_NUMERIC USE_PERLIO
                        USE_PERL_ATOF USE_REENTRANT_API
  Locally applied patches:
	DEBPKG:debian/cpan_definstalldirs - Provide a sensible INSTALLDIRS default for modules installed from CPAN.
	DEBPKG:debian/db_file_ver - http://bugs.debian.org/340047 Remove overly restrictive DB_File version check.
	DEBPKG:debian/doc_info - Replace generic man(1) instructions with Debian-specific information.
	DEBPKG:debian/enc2xs_inc - http://bugs.debian.org/290336 Tweak enc2xs to follow symlinks and ignore missing @INC directories.
	DEBPKG:debian/errno_ver - http://bugs.debian.org/343351 Remove Errno version check due to upgrade problems with long-running processes.
	DEBPKG:debian/libperl_embed_doc - http://bugs.debian.org/186778 Note that libperl-dev package is required for embedded linking
	DEBPKG:fixes/respect_umask - Respect umask during installation
	DEBPKG:debian/writable_site_dirs - Set umask approproately for site install directories
	DEBPKG:debian/extutils_set_libperl_path - EU:MM: set location of libperl.a under /usr/lib
	DEBPKG:debian/no_packlist_perllocal - Don't install .packlist or perllocal.pod for perl or vendor
	DEBPKG:debian/prefix_changes - Fiddle with *PREFIX and variables written to the makefile
	DEBPKG:debian/fakeroot - Postpone LD_LIBRARY_PATH evaluation to the binary targets.
	DEBPKG:debian/instmodsh_doc - Debian policy doesn't install .packlist files for core or vendor.
	DEBPKG:debian/ld_run_path - Remove standard libs from LD_RUN_PATH as per Debian policy.
	DEBPKG:debian/libnet_config_path - Set location of libnet.cfg to /etc/perl/Net as /usr may not be writable.
	DEBPKG:debian/mod_paths - Tweak @INC ordering for Debian
	DEBPKG:debian/module_build_man_extensions - http://bugs.debian.org/479460 Adjust Module::Build manual page extensions for the Debian Perl policy
	DEBPKG:debian/prune_libs - http://bugs.debian.org/128355 Prune the list of libraries wanted to what we actually need.
	DEBPKG:fixes/net_smtp_docs - [rt.cpan.org #36038] http://bugs.debian.org/100195 Document the Net::SMTP 'Port' option
	DEBPKG:debian/perlivp - http://bugs.debian.org/510895 Make perlivp skip include directories in /usr/local
	DEBPKG:debian/deprecate-with-apt - http://bugs.debian.org/747628 Point users to Debian packages of deprecated core modules
	DEBPKG:debian/squelch-locale-warnings - http://bugs.debian.org/508764 Squelch locale warnings in Debian package maintainer scripts
	DEBPKG:debian/skip-upstream-git-tests - Skip tests specific to the upstream Git repository
	DEBPKG:debian/patchlevel - http://bugs.debian.org/567489 List packaged patches for 5.20.2-6 in patchlevel.h
	DEBPKG:debian/skip-kfreebsd-crash - http://bugs.debian.org/628493 [perl #96272] Skip a crashing test case in t/op/threads.t on GNU/kFreeBSD
	DEBPKG:fixes/document_makemaker_ccflags - http://bugs.debian.org/628522 [rt.cpan.org #68613] Document that CCFLAGS should include $Config{ccflags}
	DEBPKG:debian/find_html2text - http://bugs.debian.org/640479 Configure CPAN::Distribution with correct name of html2text
	DEBPKG:debian/perl5db-x-terminal-emulator.patch - http://bugs.debian.org/668490 Invoke x-terminal-emulator rather than xterm in perl5db.pl
	DEBPKG:debian/cpan-missing-site-dirs - http://bugs.debian.org/688842 Fix CPAN::FirstTime defaults with nonexisting site dirs if a parent is writable
	DEBPKG:fixes/memoize_storable_nstore - [rt.cpan.org #77790] http://bugs.debian.org/587650 Memoize::Storable: respect 'nstore' option not respected
	DEBPKG:debian/regen-skip - Skip a regeneration check in unrelated git repositories
	DEBPKG:fixes/regcomp-mips-optim - [perl #122817] http://bugs.debian.org/754054 Downgrade the optimization of regcomp.c on mips and mipsel due to a gcc-4.9 bug
	DEBPKG:debian/makemaker-pasthru - http://bugs.debian.org/758471 Pass LD settings through to subdirectories
	DEBPKG:fixes/perldoc-less-R - [rt.cpan.org #98636] http://bugs.debian.org/758689 Tell the 'less' pager to allow terminal escape sequences
	DEBPKG:fixes/pod_man_reproducible_date - http://bugs.debian.org/759405 Support POD_MAN_DATE in Pod::Man for the left-hand footer
	DEBPKG:fixes/io_uncompress_gunzip_inmemory - http://bugs.debian.org/747363 [rt.cpan.org #95494] Fix gunzip to in-memory file handle
	DEBPKG:fixes/socket_test_recv_fix - http://bugs.debian.org/758718 [perl #122657] Compare recv return value to peername in socket test
	DEBPKG:fixes/hurd_socket_recv_todo - http://bugs.debian.org/758718 [perl #122657] TODO checking the result of recv() on hurd
	DEBPKG:fixes/regexp-performance - [0fa70a0] http://bugs.debian.org/777556 [perl #123743] simpify and speed up /.*.../ handling
	DEBPKG:fixes/failed_require_diagnostics - http://bugs.debian.org/781120 [perl #123270] Report inaccesible file on failed require
	DEBPKG:fixes/array-cloning - http://bugs.debian.org/779357 [perl #124127] [902d169] fix cloning arrays with unused elements
	DEBPKG:fixes/perldb-threads - http://bugs.debian.org/779357 [perl #124127] [41ef2c6] lib/perl5db.pl: Restore noop lock prototype
	DEBPKG:debian/locale-robustness - http://bugs.debian.org/782068 [perl #124310] Make t/run/locale.t survive missing locales masked by LC_ALL
	DEBPKG:fixes/gcc5-errno - http://bugs.debian.org/778060 [perl #123784] [816b056] Fix Errno.pm generation for gcc-5.0
	DEBPKG:fixes/h2ph-hex-constants - http://bugs.debian.org/778060 [perl #123784] [3bea78d] h2ph: correct handling of hex constants for the preamble
	DEBPKG:fixes/h2ph-test-inc - http://bugs.debian.org/778060 [perl #123784] [3359391] lib/h2ph.t to test generated t/_h2ph_pre.ph instead of the system one
	DEBPKG:fixes/podman-utc - http://bugs.debian.org/780259 Make the embedded date from Pod::Man reproducible
	DEBPKG:fixes/podman-utc-docs - http://bugs.debian.org/780259 Documentation and test suite updates for UTC fix
	DEBPKG:fixes/podman-empty-date - http://bugs.debian.org/780259 Support an empty POD_MAN_DATE environment variable
	DEBPKG:fixes/podman-pipe - http://bugs.debian.org/777405 Better errors for man pages from standard input
	DEBPKG:debian/pod2man-customized - Update porting/customized.dat for pod2man modifications
  Built under linux
  Compiled at May 14 2015 17:11:08
  %ENV:
    PERL5LIB=""
    PERL5OPT=""
    PERL5_CPANPLUS_IS_RUNNING="17420"
    PERL5_CPAN_IS_RUNNING="17420"
  @INC:
    /etc/perl
    /usr/local/lib/x86_64-linux-gnu/perl/5.20.2
    /usr/local/share/perl/5.20.2
    /usr/lib/x86_64-linux-gnu/perl5/5.20
    /usr/share/perl5
    /usr/lib/x86_64-linux-gnu/perl/5.20
    /usr/share/perl/5.20
    /usr/local/lib/site_perl
    .