Test-MockCommand v0.04 Perl 5 v5.22.4 x86_64-linux-thread-multi

Status
Pass
From
Nigel Horne
Dist
Test-MockCommand v0.04
Platform
Perl 5 v5.22.4 x86_64-linux-thread-multi
Date
2019-07-16 21:35:33
ID
a41bfc1c-a811-11e9-8fa9-99a29f1e7dde
This distribution has been tested as part of the CPAN Testers
project, supporting the Perl programming language.  See
http://wiki.cpantesters.org/ for more information or email
questions to cpan-testers-discuss@perl.org


--
Dear Stuart Caie,

This is a computer-generated report for Test-MockCommand-0.04
on perl 5.22.4, created by CPAN-Reporter-1.2018.

Thank you for uploading your work to CPAN.  Congratulations!
All tests were successful.

Sections of this report:

    * Tester comments
    * Program output
    * Prerequisites
    * Environment and other context

------------------------------
TESTER COMMENTS
------------------------------

Additional comments from tester:

this report is from an automated smoke testing program
and was not reviewed by a human for accuracy

------------------------------
PROGRAM OUTPUT
------------------------------

Output from '/usr/bin/make test':

PERL_DL_NONLAZY=1 "/home/njh/perl5/perlbrew/perls/perl-5.22.4/bin/perl5.22.4" "-MExtUtils::Command::MM" "-MTest::Harness" "-e" "undef *Test::Harness::Switches; test_harness(0, 'blib/lib', 'blib/arch')" t/*.t
t/auto-save1.t ........ ok
t/add-recorder.t ...... ok
t/auto-save2.t ........ ok
t/auto-save3.t ........ ok
t/auto-save4.t ........ ok
t/import-playback1.t .. ok
t/find.t .............. ok
t/import-playback2.t .. ok
t/import-record.t ..... ok
t/load-save.t ......... ok
t/open-handler.t ...... ok
t/open-normal.t ....... ok
t/playback-nomock.t ... ok
t/playback.t .......... ok
t/pod-coverage.t ...... skipped: only run for author tests
t/playback-lines.t .... ok
t/pod.t ............... skipped: only run for author tests
t/recording-exec1.t ... ok
t/recording-exec2.t ... ok
t/recording-v595.t .... ok
t/recording.t ......... ok
t/scalar-readline.t ... ok
t/status-funcs.t ...... ok
All tests successful.
Files=23, Tests=249,  2 wallclock secs ( 0.14 usr  0.03 sys +  3.21 cusr  0.91 csys =  4.29 CPU)
Result: PASS

------------------------------
PREREQUISITES
------------------------------

Prerequisite modules loaded:

requires:

    Module              Need Have   
    ------------------- ---- -------
    Carp                0    1.36   
    Data::Dumper        0    2.158  
    Errno               0    1.23   
    POSIX               0    1.53_01
    Symbol              0    1.07   
    Tie::Handle         0    4.2    

build_requires:

    Module              Need Have   
    ------------------- ---- -------
    ExtUtils::MakeMaker 0    7.30   

configure_requires:

    Module              Need Have   
    ------------------- ---- -------
    ExtUtils::MakeMaker 0    7.30   


------------------------------
ENVIRONMENT AND OTHER CONTEXT
------------------------------

Environment variables:

    AUTOMATED_TESTING = 1
    HARNESS_OPTIONS = j2
    LANG = en_US.UTF-8
    PATH = /home/njh/perl5/perlbrew/bin:/home/njh/perl5/perlbrew/perls/perl-5.22.4/bin:/home/njh/src/njh/smoker/bin:/usr/bin:/bin
    PERL5LIB = /tmp/build/Config-AWS-0.05-32/blib/arch:/tmp/build/Config-AWS-0.05-32/blib/lib:/tmp/build/Test2-Suite-0.000122-26/blib/arch:/tmp/build/Test2-Suite-0.000122-26/blib/lib:/tmp/build/Test-Simple-1.302164-26/blib/arch:/tmp/build/Test-Simple-1.302164-26/blib/lib:/tmp/build/Term-Table-0.013-26/blib/arch:/tmp/build/Term-Table-0.013-26/blib/lib:/tmp/build/Ref-Util-0.204-34/blib/arch:/tmp/build/Ref-Util-0.204-34/blib/lib:/tmp/build/Ref-Util-XS-0.117-34/blib/arch:/tmp/build/Ref-Util-XS-0.117-34/blib/lib:/tmp/build/File-Share-0.25-32/blib/arch:/tmp/build/File-Share-0.25-32/blib/lib
    PERL5OPT = 
    PERL5_CPANPLUS_IS_RUNNING = 20832
    PERL5_CPAN_IS_RUNNING = 20832
    PERL5_CPAN_IS_RUNNING_IN_RECURSION = 20815,20832
    PERLBREW_HOME = /home/njh/.perlbrew
    PERLBREW_MANPATH = /home/njh/perl5/perlbrew/perls/perl-5.22.4/man
    PERLBREW_PATH = /home/njh/perl5/perlbrew/bin:/home/njh/perl5/perlbrew/perls/perl-5.22.4/bin
    PERLBREW_PERL = perl-5.22.4
    PERLBREW_ROOT = /home/njh/perl5/perlbrew
    PERLBREW_SHELLRC_VERSION = 0.86
    PERLBREW_VERSION = 0.86
    PERL_USE_UNSAFE_INC = 1
    SHELL = /bin/sh
    TEMP = /tmp/user/1000
    TMPDIR = /tmp/user/1000/testwrapper.20818

Perl special variables (and OS-specific diagnostics, for MSWin32):

    $^X = /home/njh/perl5/perlbrew/perls/perl-5.22.4/bin/perl5.22.4
    $UID/$EUID = 1000 / 1000
    $GID = 1000 4 24 25 29 30 44 46 103 108 115 123 996 1000
    $EGID = 1000 4 24 25 29 30 44 46 103 108 115 123 996 1000

Perl module toolchain versions installed:

    Module              Have      
    ------------------- ----------
    CPAN                2.25      
    CPAN::Meta          2.150010  
    Cwd                 3.74      
    ExtUtils::CBuilder  0.280221  
    ExtUtils::Command   7.30      
    ExtUtils::Install   2.06      
    ExtUtils::MakeMaker 7.30      
    ExtUtils::Manifest  1.70      
    ExtUtils::ParseXS   3.28      
    File::Spec          3.74      
    JSON                4.02      
    JSON::PP            2.27300_01
    Module::Build       0.4224    
    Module::Signature   n/a       
    Parse::CPAN::Meta   2.150010  
    Test::Harness       3.35_01   
    Test::More          1.302164  
    YAML                1.29      
    YAML::Syck          1.31      
    version             0.9909    


--

Summary of my perl5 (revision 5 version 22 subversion 4) configuration:
   
  Platform:
    osname=linux, osvers=4.9.0-3-amd64, archname=x86_64-linux-thread-multi
    uname='linux amelia 4.9.0-3-amd64 #1 smp debian 4.9.25-1 (2017-05-02) x86_64 gnulinux '
    config_args='-de -Dprefix=/home/njh/perl5/perlbrew/perls/perl-5.22.4 -Duseithreads -Dusemultiplicity -Dusedevel -Accflags= -Aeval:scriptdir=/home/njh/perl5/perlbrew/perls/perl-5.22.4/bin'
    hint=recommended, useposix=true, d_sigaction=define
    useithreads=define, usemultiplicity=define
    use64bitint=define, use64bitall=define, uselongdouble=undef
    usemymalloc=n, bincompat5005=undef
  Compiler:
    cc='cc', ccflags ='-D_REENTRANT -D_GNU_SOURCE -fwrapv -fno-strict-aliasing -pipe -fstack-protector-strong -I/usr/local/include -D_LARGEFILE_SOURCE -D_FILE_OFFSET_BITS=64',
    optimize='-O2',
    cppflags='-D_REENTRANT -D_GNU_SOURCE -fwrapv -fno-strict-aliasing -pipe -fstack-protector-strong -I/usr/local/include'
    ccversion='', gccversion='6.4.0 20170704', gccosandvers=''
    intsize=4, longsize=8, ptrsize=8, doublesize=8, byteorder=12345678, doublekind=3
    d_longlong=define, longlongsize=8, d_longdbl=define, longdblsize=16, longdblkind=3
    ivtype='long', ivsize=8, nvtype='double', nvsize=8, Off_t='off_t', lseeksize=8
    alignbytes=8, prototype=define
  Linker and Libraries:
    ld='cc', ldflags =' -fstack-protector-strong -L/usr/local/lib'
    libpth=/usr/local/lib /usr/lib/gcc/x86_64-linux-gnu/6/include-fixed /usr/include/x86_64-linux-gnu /usr/lib /lib/x86_64-linux-gnu /lib/../lib /usr/lib/x86_64-linux-gnu /usr/lib/../lib /lib /lib64 /usr/lib64
    libs=-lpthread -lnsl -lgdbm -ldb -ldl -lm -lcrypt -lutil -lc -lgdbm_compat
    perllibs=-lpthread -lnsl -ldl -lm -lcrypt -lutil -lc
    libc=libc-2.24.so, so=so, useshrplib=false, libperl=libperl.a
    gnulibc_version='2.24'
  Dynamic Linking:
    dlsrc=dl_dlopen.xs, dlext=so, d_dlsymun=undef, ccdlflags='-Wl,-E'
    cccdlflags='-fPIC', lddlflags='-shared -O2 -L/usr/local/lib -fstack-protector-strong'


Characteristics of this binary (from libperl): 
  Compile-time options: HAS_TIMES MULTIPLICITY PERLIO_LAYERS
                        PERL_DONT_CREATE_GVSV
                        PERL_HASH_FUNC_ONE_AT_A_TIME_HARD
                        PERL_IMPLICIT_CONTEXT PERL_MALLOC_WRAP
                        PERL_NEW_COPY_ON_WRITE PERL_PRESERVE_IVUV
                        PERL_USE_DEVEL USE_64_BIT_ALL USE_64_BIT_INT
                        USE_ITHREADS USE_LARGE_FILES USE_LOCALE
                        USE_LOCALE_COLLATE USE_LOCALE_CTYPE
                        USE_LOCALE_NUMERIC USE_LOCALE_TIME USE_PERLIO
                        USE_PERL_ATOF USE_REENTRANT_API
  Built under linux
  Compiled at Jul 19 2017 00:51:15
  %ENV:
    PERL5LIB="/tmp/build/Config-AWS-0.05-32/blib/arch:/tmp/build/Config-AWS-0.05-32/blib/lib:/tmp/build/Test2-Suite-0.000122-26/blib/arch:/tmp/build/Test2-Suite-0.000122-26/blib/lib:/tmp/build/Test-Simple-1.302164-26/blib/arch:/tmp/build/Test-Simple-1.302164-26/blib/lib:/tmp/build/Term-Table-0.013-26/blib/arch:/tmp/build/Term-Table-0.013-26/blib/lib:/tmp/build/Ref-Util-0.204-34/blib/arch:/tmp/build/Ref-Util-0.204-34/blib/lib:/tmp/build/Ref-Util-XS-0.117-34/blib/arch:/tmp/build/Ref-Util-XS-0.117-34/blib/lib:/tmp/build/File-Share-0.25-32/blib/arch:/tmp/build/File-Share-0.25-32/blib/lib"
    PERL5OPT=""
    PERL5_CPANPLUS_IS_RUNNING="20832"
    PERL5_CPAN_IS_RUNNING="20832"
    PERL5_CPAN_IS_RUNNING_IN_RECURSION="20815,20832"
    PERLBREW_HOME="/home/njh/.perlbrew"
    PERLBREW_MANPATH="/home/njh/perl5/perlbrew/perls/perl-5.22.4/man"
    PERLBREW_PATH="/home/njh/perl5/perlbrew/bin:/home/njh/perl5/perlbrew/perls/perl-5.22.4/bin"
    PERLBREW_PERL="perl-5.22.4"
    PERLBREW_ROOT="/home/njh/perl5/perlbrew"
    PERLBREW_SHELLRC_VERSION="0.86"
    PERLBREW_VERSION="0.86"
    PERL_USE_UNSAFE_INC="1"
  @INC:
    /tmp/build/Config-AWS-0.05-32/blib/arch
    /tmp/build/Config-AWS-0.05-32/blib/lib
    /tmp/build/Test2-Suite-0.000122-26/blib/arch
    /tmp/build/Test2-Suite-0.000122-26/blib/lib
    /tmp/build/Test-Simple-1.302164-26/blib/arch
    /tmp/build/Test-Simple-1.302164-26/blib/lib
    /tmp/build/Term-Table-0.013-26/blib/arch
    /tmp/build/Term-Table-0.013-26/blib/lib
    /tmp/build/Ref-Util-0.204-34/blib/arch
    /tmp/build/Ref-Util-0.204-34/blib/lib
    /tmp/build/Ref-Util-XS-0.117-34/blib/arch
    /tmp/build/Ref-Util-XS-0.117-34/blib/lib
    /tmp/build/File-Share-0.25-32/blib/arch
    /tmp/build/File-Share-0.25-32/blib/lib
    /home/njh/perl5/perlbrew/perls/perl-5.22.4/lib/site_perl/5.22.4/x86_64-linux-thread-multi
    /home/njh/perl5/perlbrew/perls/perl-5.22.4/lib/site_perl/5.22.4
    /home/njh/perl5/perlbrew/perls/perl-5.22.4/lib/5.22.4/x86_64-linux-thread-multi
    /home/njh/perl5/perlbrew/perls/perl-5.22.4/lib/5.22.4
    .