Report for File-Binary-1.7

Back
From: metabase:user:20a45eae-6c1a-1014-abaf-4bc2b30e56df
Subject: PASS File-Binary-1.7 v5.16.1 Windows (Cygwin)
Date: 2012-12-10T15:32:15Z

This distribution has been tested as part of the CPAN Testers
project, supporting the Perl programming language.  See
http://wiki.cpantesters.org/ for more information or email
questions to cpan-testers-discuss@perl.org


--
Dear Simon Wistow,

This is a computer-generated report for File-Binary-1.7
on perl 5.16.1, created by CPAN-Reporter-1.2006.

Thank you for uploading your work to CPAN.  Congratulations!
All tests were successful.

Sections of this report:

    * Tester comments
    * Program output
    * Prerequisites
    * Environment and other context

------------------------------
TESTER COMMENTS
------------------------------

Additional comments from tester:

this report is from an automated smoke testing program
and was not reviewed by a human for accuracy

------------------------------
PROGRAM OUTPUT
------------------------------

Output from '/usr/bin/make test':

PERL_DL_NONLAZY=1 /opt/perl/cygwin/1.7.17/perl/5.16.1/cygwin-thread-multi-64int/bin/perl.exe "-MExtUtils::Command::MM" "-e" "test_harness(0, 'blib/lib', 'blib/arch')" t/*.t
t/00seek.t ................... ok
t/01power3.n8.ints.be.t ...... ok
t/01power3.n8.ints.le.t ...... ok
t/02power3.n16.ints.be.t ..... ok
t/02power3.n16.ints.le.t ..... ok
t/03power3.u32.ints.be.t ..... ok
t/03power3.u32.ints.le.t ..... ok
t/04power3.p16.ints.be.t ..... ok
t/04power3.p16.ints.le.t ..... ok
t/05power3.u16.ints.be.t ..... ok
t/05power3.u16.ints.le.t ..... ok
t/06power3.u8.ints.be.t ...... ok
t/06power3.u8.ints.le.t ...... ok
t/07power3.p8.ints.be.t ...... ok
t/07power3.p8.ints.le.t ...... ok
t/08power3.n32.ints.be.t ..... ok
t/08power3.n32.ints.le.t ..... ok
t/09power3.p32.ints.be.t ..... ok
t/09power3.p32.ints.le.t ..... ok
t/10power10.n8.ints.be.t ..... ok
t/10power10.n8.ints.le.t ..... ok
t/11power10.n16.ints.be.t .... ok
t/11power10.n16.ints.le.t .... ok
t/12power10.u32.ints.be.t .... ok
t/12power10.u32.ints.le.t .... ok
t/13power10.p16.ints.be.t .... ok
t/13power10.p16.ints.le.t .... ok
t/14power10.u16.ints.be.t .... ok
t/14power10.u16.ints.le.t .... ok
t/15power10.u8.ints.be.t ..... ok
t/15power10.u8.ints.le.t ..... ok
t/16power10.p8.ints.be.t ..... ok
t/16power10.p8.ints.le.t ..... ok
t/17power10.n32.ints.be.t .... ok
t/17power10.n32.ints.le.t .... ok
t/18power10.p32.ints.be.t .... ok
t/18power10.p32.ints.le.t .... ok
t/19factorial.n8.ints.be.t ... ok
t/19factorial.n8.ints.le.t ... ok
t/20factorial.n16.ints.be.t .. ok
t/20factorial.n16.ints.le.t .. ok
t/21factorial.u32.ints.be.t .. ok
t/21factorial.u32.ints.le.t .. ok
t/22factorial.p16.ints.be.t .. ok
t/22factorial.p16.ints.le.t .. ok
t/23factorial.u16.ints.be.t .. ok
t/23factorial.u16.ints.le.t .. ok
t/24factorial.u8.ints.be.t ... ok
t/24factorial.u8.ints.le.t ... ok
t/25factorial.p8.ints.be.t ... ok
t/25factorial.p8.ints.le.t ... ok
t/26factorial.n32.ints.be.t .. ok
t/26factorial.n32.ints.le.t .. ok
t/27factorial.p32.ints.be.t .. ok
t/27factorial.p32.ints.le.t .. ok
t/28fibonacci.n8.ints.be.t ... ok
t/28fibonacci.n8.ints.le.t ... ok
t/29fibonacci.n16.ints.be.t .. ok
t/29fibonacci.n16.ints.le.t .. ok
t/30fibonacci.u32.ints.be.t .. ok
t/30fibonacci.u32.ints.le.t .. ok
t/31fibonacci.p16.ints.be.t .. ok
t/31fibonacci.p16.ints.le.t .. ok
t/32fibonacci.u16.ints.be.t .. ok
t/32fibonacci.u16.ints.le.t .. ok
t/33fibonacci.u8.ints.be.t ... ok
t/33fibonacci.u8.ints.le.t ... ok
t/34fibonacci.p8.ints.be.t ... ok
t/34fibonacci.p8.ints.le.t ... ok
t/35fibonacci.n32.ints.be.t .. ok
t/35fibonacci.n32.ints.le.t .. ok
t/36fibonacci.p32.ints.be.t .. ok
t/36fibonacci.p32.ints.le.t .. ok
All tests successful.
Files=73, Tests=3842, 28 wallclock secs ( 0.44 usr  0.39 sys +  9.06 cusr 14.45 csys = 24.33 CPU)
Result: PASS

------------------------------
PREREQUISITES
------------------------------

Prerequisite modules loaded:

requires:

    Module              Need  Have   
    ------------------- ----- -------
    IO::File            1.14  1.16   
    IO::Scalar          1.126 2.110  
    Test::More          0     0.98   

build_requires:

    Module              Need  Have   
    ------------------- ----- -------
    ExtUtils::MakeMaker 0     6.63_02


------------------------------
ENVIRONMENT AND OTHER CONTEXT
------------------------------

Environment variables:

    AUTOMATED_TESTING = 1
    COMSPEC = C:\Windows\system32\cmd.exe
    NUMBER_OF_PROCESSORS = 4
    PATH = /opt/perl/cygwin/1.7.17/perl/5.16.1/cygwin-thread-multi-64int/local/bin:/opt/perl/cygwin/1.7.17/perl/5.16.1/cygwin-thread-multi-64int/bin:/usr/local/bin:/usr/bin
    PERL5LIB = /opt/perl/cygwin/1.7.17/cpan/5.16.1/cygwin-thread-multi-64int/build/IO-stringy-2.110-zbJh7g/blib/arch:/opt/perl/cygwin/1.7.17/cpan/5.16.1/cygwin-thread-multi-64int/build/IO-stringy-2.110-zbJh7g/blib/lib:/opt/perl/cygwin/1.7.17/cpan/5.16.1/cygwin-thread-multi-64int/build/Opcodes-0.11-Qb41BB/blib/arch:/opt/perl/cygwin/1.7.17/cpan/5.16.1/cygwin-thread-multi-64int/build/Opcodes-0.11-Qb41BB/blib/lib:/opt/perl/cygwin/1.7.17/cpan/5.16.1/cygwin-thread-multi-64int/build/B-Flags-0.06-EI9TM3/blib/arch:/opt/perl/cygwin/1.7.17/cpan/5.16.1/cygwin-thread-multi-64int/build/B-Flags-0.06-EI9TM3/blib/lib:/opt/perl/cygwin/1.7.17/perl/5.16.1/cygwin-thread-multi-64int/local/lib/site_perl/5.16.1:/opt/perl/cygwin/1.7.17/perl/5.16.1/cygwin-thread-multi-64int/local/lib/5.16.1:/opt/perl/cygwin/1.7.17/perl/5.16.1/cygwin-thread-multi-64int/local/lib/perl5
    PERL5OPT = 
    PERL5_CPANPLUS_IS_RUNNING = 7160
    PERL5_CPAN_IS_RUNNING = 7160
    PERL_EXTUTILS_AUTOINSTALL = 1
    PERL_MM_USE_DEFAULT = 1
    PERL_TEST_CRITIC = 1
    PROCESSOR_IDENTIFIER = Intel64 Family 6 Model 37 Stepping 5, GenuineIntel
    SHELL = /bin/bash
    TEMP = /tmp
    TERM = xterm

Perl special variables (and OS-specific diagnostics, for MSWin32):

    $^X = /opt/perl/cygwin/1.7.17/perl/5.16.1/cygwin-thread-multi-64int/bin/perl
    $UID/$EUID = 101 / 101
    $GID = 10513 0 544 545 1001 10513
    $EGID = 10513 0 544 545 1001 10513

Perl module toolchain versions installed:

    Module              Have    
    ------------------- --------
    CPAN                1.9800  
    CPAN::Meta          2.120921
    Cwd                 3.39_02 
    ExtUtils::CBuilder  0.280206
    ExtUtils::Command   1.17    
    ExtUtils::Install   1.58    
    ExtUtils::MakeMaker 6.63_02 
    ExtUtils::Manifest  1.61    
    ExtUtils::ParseXS   3.18    
    File::Spec          3.39_02 
    JSON                n/a     
    JSON::PP            2.27200 
    Module::Build       0.4003  
    Module::Signature   0.69    
    Parse::CPAN::Meta   1.4404  
    Test::Harness       3.25    
    Test::More          0.98    
    YAML                0.84    
    YAML::Syck          1.21    
    version             0.9901  


--

Summary of my perl5 (revision 5 version 16 subversion 1) configuration:
   
  Platform:
    osname=cygwin, osvers=1.7.17(0.26253), archname=cygwin-thread-multi-64int
    uname='cygwin_nt-6.1-wow64 osl069 1.7.17(0.26253) 2012-10-19 14:39 i686 cygwin '
    config_args='-Dmksymlinks -de -Dcc=gcc-4 -Dld=g++-4 -Dprefix=/opt/perl/cygwin/1.7.17/perl/5.16.1/cygwin-thread-multi-64int -Dcf_by=pjacklam -Dcf_email=pjacklam@online.no -Dperladmin=pjacklam@online.no -Uinc_version_list -Uinstallusrbinperl -Umad -Dusethreads -Dusemultiplicity -Duse64bitint'
    hint=recommended, useposix=true, d_sigaction=define
    useithreads=define, usemultiplicity=define
    useperlio=define, d_sfio=undef, uselargefiles=define, usesocks=undef
    use64bitint=define, use64bitall=undef, uselongdouble=undef
    usemymalloc=n, bincompat5005=undef
  Compiler:
    cc='gcc-4', ccflags ='-DPERL_USE_SAFE_PUTENV -U__STRICT_ANSI__ -fno-strict-aliasing -pipe -fstack-protector -I/usr/local/include',
    optimize='-O3',
    cppflags='-DPERL_USE_SAFE_PUTENV -U__STRICT_ANSI__ -fno-strict-aliasing -pipe -fstack-protector -I/usr/local/include'
    ccversion='', gccversion='4.5.3', gccosandvers=''
    intsize=4, longsize=4, ptrsize=4, doublesize=8, byteorder=12345678
    d_longlong=define, longlongsize=8, d_longdbl=define, longdblsize=12
    ivtype='long long', ivsize=8, nvtype='double', nvsize=8, Off_t='off_t', lseeksize=8
    alignbytes=8, prototype=define
  Linker and Libraries:
    ld='g++-4', ldflags =' -Wl,--enable-auto-import -Wl,--export-all-symbols -Wl,--enable-auto-image-base -fstack-protector -L/usr/local/lib'
    libpth=/usr/local/lib /usr/lib /lib
    libs=-lgdbm -ldb -ldl -lcrypt -lgdbm_compat
    perllibs=-ldl -lcrypt
    libc=/usr/lib/libc.a, so=dll, useshrplib=true, libperl=cygperl5_16_1.dll
    gnulibc_version=''
  Dynamic Linking:
    dlsrc=dl_dlopen.xs, dlext=dll, d_dlsymun=undef, ccdlflags=' '
    cccdlflags=' ', lddlflags=' --shared  -Wl,--enable-auto-import -Wl,--export-all-symbols -Wl,--enable-auto-image-base -L/usr/local/lib -fstack-protector'


Characteristics of this binary (from libperl): 
  Compile-time options: HAS_TIMES MULTIPLICITY PERLIO_LAYERS
                        PERL_DONT_CREATE_GVSV PERL_IMPLICIT_CONTEXT
                        PERL_PRESERVE_IVUV PERL_USE_SAFE_PUTENV
                        USE_64_BIT_INT USE_ITHREADS USE_LARGE_FILES
                        USE_LOCALE USE_LOCALE_COLLATE USE_LOCALE_CTYPE
                        USE_LOCALE_NUMERIC USE_PERLIO USE_PERL_ATOF
                        USE_REENTRANT_API
  Built under cygwin
  Compiled at Oct 23 2012 05:21:10
  %ENV:
    PERL5LIB="/opt/perl/cygwin/1.7.17/cpan/5.16.1/cygwin-thread-multi-64int/build/IO-stringy-2.110-zbJh7g/blib/arch:/opt/perl/cygwin/1.7.17/cpan/5.16.1/cygwin-thread-multi-64int/build/IO-stringy-2.110-zbJh7g/blib/lib:/opt/perl/cygwin/1.7.17/cpan/5.16.1/cygwin-thread-multi-64int/build/Opcodes-0.11-Qb41BB/blib/arch:/opt/perl/cygwin/1.7.17/cpan/5.16.1/cygwin-thread-multi-64int/build/Opcodes-0.11-Qb41BB/blib/lib:/opt/perl/cygwin/1.7.17/cpan/5.16.1/cygwin-thread-multi-64int/build/B-Flags-0.06-EI9TM3/blib/arch:/opt/perl/cygwin/1.7.17/cpan/5.16.1/cygwin-thread-multi-64int/build/B-Flags-0.06-EI9TM3/blib/lib:/opt/perl/cygwin/1.7.17/perl/5.16.1/cygwin-thread-multi-64int/local/lib/site_perl/5.16.1:/opt/perl/cygwin/1.7.17/perl/5.16.1/cygwin-thread-multi-64int/local/lib/5.16.1:/opt/perl/cygwin/1.7.17/perl/5.16.1/cygwin-thread-multi-64int/local/lib/perl5"
    PERL5OPT=""
    PERL5_CPANPLUS_IS_RUNNING="7160"
    PERL5_CPAN_IS_RUNNING="7160"
    PERL_EXTUTILS_AUTOINSTALL="1"
    PERL_MM_USE_DEFAULT="1"
    PERL_TEST_CRITIC="1"
    CYGWIN="codepage:utf8 nodosfilewarning"
  @INC:
    /opt/perl/cygwin/1.7.17/cpan/5.16.1/cygwin-thread-multi-64int/build/IO-stringy-2.110-zbJh7g/blib/arch
    /opt/perl/cygwin/1.7.17/cpan/5.16.1/cygwin-thread-multi-64int/build/IO-stringy-2.110-zbJh7g/blib/lib
    /opt/perl/cygwin/1.7.17/cpan/5.16.1/cygwin-thread-multi-64int/build/Opcodes-0.11-Qb41BB/blib/arch
    /opt/perl/cygwin/1.7.17/cpan/5.16.1/cygwin-thread-multi-64int/build/Opcodes-0.11-Qb41BB/blib/lib
    /opt/perl/cygwin/1.7.17/cpan/5.16.1/cygwin-thread-multi-64int/build/B-Flags-0.06-EI9TM3/blib/arch
    /opt/perl/cygwin/1.7.17/cpan/5.16.1/cygwin-thread-multi-64int/build/B-Flags-0.06-EI9TM3/blib/lib
    /opt/perl/cygwin/1.7.17/perl/5.16.1/cygwin-thread-multi-64int/local/lib/site_perl/5.16.1/cygwin-thread-multi-64int
    /opt/perl/cygwin/1.7.17/perl/5.16.1/cygwin-thread-multi-64int/local/lib/site_perl/5.16.1
    /opt/perl/cygwin/1.7.17/perl/5.16.1/cygwin-thread-multi-64int/local/lib/5.16.1/cygwin-thread-multi-64int
    /opt/perl/cygwin/1.7.17/perl/5.16.1/cygwin-thread-multi-64int/local/lib/5.16.1
    /opt/perl/cygwin/1.7.17/perl/5.16.1/cygwin-thread-multi-64int/local/lib/perl5/cygwin-thread-multi-64int
    /opt/perl/cygwin/1.7.17/perl/5.16.1/cygwin-thread-multi-64int/local/lib/perl5
    /opt/perl/cygwin/1.7.17/perl/5.16.1/cygwin-thread-multi-64int/lib/site_perl/5.16.1/cygwin-thread-multi-64int
    /opt/perl/cygwin/1.7.17/perl/5.16.1/cygwin-thread-multi-64int/lib/site_perl/5.16.1
    /opt/perl/cygwin/1.7.17/perl/5.16.1/cygwin-thread-multi-64int/lib/5.16.1/cygwin-thread-multi-64int
    /opt/perl/cygwin/1.7.17/perl/5.16.1/cygwin-thread-multi-64int/lib/5.16.1
    .