Dist-Zilla-Plugin-Test-EOL v0.19 Perl 5 v5.30.3 x86_64-linux

Status
Pass
From
Slaven Rezić
Dist
Dist-Zilla-Plugin-Test-EOL v0.19
Platform
Perl 5 v5.30.3 x86_64-linux
Date
2020-12-04 15:16:11
ID
a45d509c-3643-11eb-81c9-ba791f24ea8f
This distribution has been tested as part of the CPAN Testers
project, supporting the Perl programming language.  See
http://wiki.cpantesters.org/ for more information or email
questions to cpan-testers-discuss@perl.org


--
Dear Karen Etheridge,

This is a computer-generated report for Dist-Zilla-Plugin-Test-EOL-0.19
on perl 5.30.3, created by CPAN-Reporter-1.2018.

Thank you for uploading your work to CPAN.  Congratulations!
All tests were successful.

Sections of this report:

    * Tester comments
    * Program output
    * Prerequisites
    * Environment and other context

------------------------------
TESTER COMMENTS
------------------------------

Additional comments from tester:

none provided

------------------------------
PROGRAM OUTPUT
------------------------------

Output from './Build test':

# 
# Versions for all modules listed in MYMETA.json (including optional ones):
# 
# === Configure Requires ===
# 
#     Module               Want  Have
#     ------------------- ----- -----
#     Module::Build::Tiny 0.034 0.039
# 
# === Test Requires ===
# 
#     Module            Want     Have
#     ---------------- ----- --------
#     File::Spec         any     3.78
#     File::pushd        any    1.016
#     FindBin            any     1.51
#     Module::Metadata   any 1.000037
#     Test::DZil         any    6.015
#     Test::Deep         any    1.130
#     Test::EOL          any     2.00
#     Test::More        0.88 1.302177
#     Test::Warnings   0.009    0.030
#     if                 any   0.0608
# 
# === Test Recommends ===
# 
#     Module         Want     Have
#     ---------- -------- --------
#     CPAN::Meta 2.120900 2.150010
# 
# === Runtime Requires ===
# 
#     Module                             Want     Have
#     --------------------------------- ----- --------
#     Data::Section                     0.004 0.200007
#     Dist::Zilla::File::InMemory         any    6.015
#     Dist::Zilla::Role::FileFinderUser   any    6.015
#     Dist::Zilla::Role::FileGatherer     any    6.015
#     Dist::Zilla::Role::FileMunger       any    6.015
#     Dist::Zilla::Role::PrereqSource     any    6.015
#     Dist::Zilla::Role::TextTemplate     any    6.015
#     Moose                               any   2.2012
#     Moose::Util::TypeConstraints        any   2.2012
#     Path::Tiny                          any    0.114
#     Sub::Exporter::ForMethods           any 0.100052
#     namespace::autoclean                any     0.29
#     strict                              any     1.11
#     warnings                            any     1.44
# 
# === Other Modules ===
# 
#     Module                    Have
#     --------------------- --------
#     CPAN::Meta::Validator 2.150010
#     Pod::Coverage             0.23
# 
t/00-report-prereqs.t .. ok
t/01-basic.t ........... ok
t/02-eoltests.t ........ ok
t/03-finder.t .......... ok
t/04-filename.t ........ ok
t/eol.t ................ ok
t/prereqs.t ............ ok
t/zzz-check-breaks.t ... ok
All tests successful.
Files=8, Tests=66,  3 wallclock secs ( 0.03 usr  0.00 sys +  2.48 cusr  0.14 csys =  2.65 CPU)
Result: PASS

------------------------------
PREREQUISITES
------------------------------

Prerequisite modules loaded:

requires:

    Module                            Need     Have    
    --------------------------------- -------- --------
    Data::Section                     0.004    0.200007
    Dist::Zilla::File::InMemory       0        6.015   
    Dist::Zilla::Role::FileFinderUser 0        6.015   
    Dist::Zilla::Role::FileGatherer   0        6.015   
    Dist::Zilla::Role::FileMunger     0        6.015   
    Dist::Zilla::Role::PrereqSource   0        6.015   
    Dist::Zilla::Role::TextTemplate   0        6.015   
    Moose                             0        2.2012  
    Moose::Util::TypeConstraints      0        2.2012  
    namespace::autoclean              0        0.29    
    Path::Tiny                        0        0.114   
    perl                              5.006    5.030003
    strict                            0        1.11    
    Sub::Exporter::ForMethods         0        0.100052
    warnings                          0        1.44    

build_requires:

    Module                            Need     Have    
    --------------------------------- -------- --------
    File::pushd                       0        1.016   
    File::Spec                        0        3.78    
    FindBin                           0        1.51    
    if                                0        0.0608  
    Module::Metadata                  0        1.000037
    perl                              5.006    5.030003
    Test::Deep                        0        1.130   
    Test::DZil                        0        6.015   
    Test::EOL                         0        2.00    
    Test::More                        0.88     1.302177
    Test::Warnings                    0.009    0.030   

configure_requires:

    Module                            Need     Have    
    --------------------------------- -------- --------
    Module::Build::Tiny               0.034    0.039   
    perl                              5.006    5.030003

opt_build_requires:

    Module                            Need     Have    
    --------------------------------- -------- --------
    CPAN::Meta                        2.120900 2.150010


------------------------------
ENVIRONMENT AND OTHER CONTEXT
------------------------------

Environment variables:

    LANG = de_DE.UTF-8
    PATH = /usr/angebote/perlroot/bin:/usr/local/bin:/usr/bin:/bin:/usr/local/sbin:/usr/sbin:/sbin:/home/slaven_rezic/bin/linux-gnu:/home/slaven_rezic/bin/sh:/home/slaven_rezic/bin:/home/slaven_rezic/bin/pistachio-perl/bin:/usr/games:/home/slaven_rezic/devel:/home/slaven_rezic/work/drafts-slaven.rezic/misc:/home/slaven_rezic/work2/fzf/bin:/home/slaven_rezic/src/srezic-misc/scripts
    PERL5LIB = /home/slaven_rezic/work/perl/lib/lib:/home/slaven_rezic/work/perl/lib-old/perl
    PERL5OPT = 
    PERL5_CPANPLUS_IS_RUNNING = 589904
    PERL5_CPAN_IS_RUNNING = 589904
    PERL5_CPAN_IS_RUNNING_IN_RECURSION = 589863,589904
    PERLDOC = -MPod::Perldoc::ToTextOverstrike
    PERL_BATCH = yes
    PERL_CANARY_STABILITY_NOPROMPT = 1
    PERL_CPAN_REPORTER_CONFIG = /var/tmp/cpansmoker-1000/2020120416/cpanreporter_000_config.ini
    PERL_EXTUTILS_AUTOINSTALL = --defaultdeps
    PERL_USE_UNSAFE_INC = 1
    SHELL = /bin/zsh
    STDPERL = /home/slaven_rezic/bin/pistachio-perl/bin/perl
    TERM = screen
    TMPDIR = /var/tmp/cpansmoker-1000/2020120416

Perl special variables (and OS-specific diagnostics, for MSWin32):

    $^X = /opt/perl-5.30.3/bin/perl
    $UID/$EUID = 1000 / 1000
    $GID = 1000 4 24 27 30 46 121 131 132 135 1000
    $EGID = 1000 4 24 27 30 46 121 131 132 135 1000

Perl module toolchain versions installed:

    Module              Have    
    ------------------- --------
    CPAN                2.22    
    CPAN::Meta          2.150010
    Cwd                 3.78    
    ExtUtils::CBuilder  0.280231
    ExtUtils::Command   7.34    
    ExtUtils::Install   2.14    
    ExtUtils::MakeMaker 7.34    
    ExtUtils::Manifest  1.72    
    ExtUtils::ParseXS   3.40    
    File::Spec          3.78    
    JSON                4.02    
    JSON::PP            4.02    
    Module::Build       0.4231  
    Module::Signature   0.87    
    Parse::CPAN::Meta   2.150010
    Test::Harness       3.42    
    Test::More          1.302177
    YAML                1.30    
    YAML::Syck          1.32    
    version             0.9924  


--

Summary of my perl5 (revision 5 version 30 subversion 3) configuration:
   
  Platform:
    osname=linux
    osvers=5.4.0-26-generic
    archname=x86_64-linux
    uname='linux w0dja 5.4.0-26-generic #30-ubuntu smp mon apr 20 16:58:30 utc 2020 x86_64 x86_64 x86_64 gnulinux '
    config_args='-ds -e -Dprefix=/opt/perl-5.30.3 -Dcf_email=srezic@cpan.org'
    hint=recommended
    useposix=true
    d_sigaction=define
    useithreads=undef
    usemultiplicity=undef
    use64bitint=define
    use64bitall=define
    uselongdouble=undef
    usemymalloc=n
    default_inc_excludes_dot=define
    bincompat5005=undef
  Compiler:
    cc='cc'
    ccflags ='-fwrapv -fno-strict-aliasing -pipe -fstack-protector-strong -I/usr/local/include -D_LARGEFILE_SOURCE -D_FILE_OFFSET_BITS=64'
    optimize='-O2'
    cppflags='-fwrapv -fno-strict-aliasing -pipe -fstack-protector-strong -I/usr/local/include'
    ccversion=''
    gccversion='9.3.0'
    gccosandvers=''
    intsize=4
    longsize=8
    ptrsize=8
    doublesize=8
    byteorder=12345678
    doublekind=3
    d_longlong=define
    longlongsize=8
    d_longdbl=define
    longdblsize=16
    longdblkind=3
    ivtype='long'
    ivsize=8
    nvtype='double'
    nvsize=8
    Off_t='off_t'
    lseeksize=8
    alignbytes=8
    prototype=define
  Linker and Libraries:
    ld='cc'
    ldflags =' -fstack-protector-strong -L/usr/local/lib'
    libpth=/usr/local/lib /usr/include/x86_64-linux-gnu /usr/lib /lib/x86_64-linux-gnu /lib/../lib /usr/lib/x86_64-linux-gnu /usr/lib/../lib /lib /lib64 /usr/lib64
    libs=-lpthread -lnsl -ldl -lm -lcrypt -lutil -lc
    perllibs=-lpthread -lnsl -ldl -lm -lcrypt -lutil -lc
    libc=libc-2.31.so
    so=so
    useshrplib=false
    libperl=libperl.a
    gnulibc_version='2.31'
  Dynamic Linking:
    dlsrc=dl_dlopen.xs
    dlext=so
    d_dlsymun=undef
    ccdlflags='-Wl,-E'
    cccdlflags='-fPIC'
    lddlflags='-shared -O2 -L/usr/local/lib -fstack-protector-strong'


Characteristics of this binary (from libperl): 
  Compile-time options:
    HAS_TIMES
    PERLIO_LAYERS
    PERL_COPY_ON_WRITE
    PERL_DONT_CREATE_GVSV
    PERL_MALLOC_WRAP
    PERL_OP_PARENT
    PERL_PRESERVE_IVUV
    USE_64_BIT_ALL
    USE_64_BIT_INT
    USE_LARGE_FILES
    USE_LOCALE
    USE_LOCALE_COLLATE
    USE_LOCALE_CTYPE
    USE_LOCALE_NUMERIC
    USE_LOCALE_TIME
    USE_PERLIO
    USE_PERL_ATOF
  Built under linux
  Compiled at Jun 19 2020 12:03:33
  %ENV:
    PERL5LIB="/home/slaven_rezic/work/perl/lib/lib:/home/slaven_rezic/work/perl/lib-old/perl"
    PERL5OPT=""
    PERL5_CPANPLUS_IS_RUNNING="589904"
    PERL5_CPAN_IS_RUNNING="589904"
    PERL5_CPAN_IS_RUNNING_IN_RECURSION="589863,589904"
    PERLDOC="-MPod::Perldoc::ToTextOverstrike"
    PERL_BATCH="yes"
    PERL_CANARY_STABILITY_NOPROMPT="1"
    PERL_CPAN_REPORTER_CONFIG="/var/tmp/cpansmoker-1000/2020120416/cpanreporter_000_config.ini"
    PERL_EXTUTILS_AUTOINSTALL="--defaultdeps"
    PERL_USE_UNSAFE_INC="1"
  @INC:
    /home/slaven_rezic/work/perl/lib/lib
    /home/slaven_rezic/work/perl/lib-old/perl
    /opt/perl-5.30.3/lib/site_perl/5.30.3/x86_64-linux
    /opt/perl-5.30.3/lib/site_perl/5.30.3
    /opt/perl-5.30.3/lib/5.30.3/x86_64-linux
    /opt/perl-5.30.3/lib/5.30.3
    .