Math-LongDouble v0.26 Perl 5 v5.36.3 arm64-freebsd-thread-multi

Status
Pass
From
Slaven Rezić
Dist
Math-LongDouble v0.26
Platform
Perl 5 v5.36.3 arm64-freebsd-thread-multi
Date
2024-12-06 19:59:46
ID
a45ec79c-b40c-11ef-af64-362b6e8775ea
This distribution has been tested as part of the CPAN Testers
project, supporting the Perl programming language.  See
http://wiki.cpantesters.org/ for more information or email
questions to cpan-testers-discuss@perl.org


--
Dear Sisyphus,

This is a computer-generated report for Math-LongDouble-0.26
on perl 5.36.3, created by CPAN-Reporter-1.2018.

Thank you for uploading your work to CPAN.  Congratulations!
All tests were successful.

Sections of this report:

    * Tester comments
    * Program output
    * Prerequisites
    * Environment and other context

------------------------------
TESTER COMMENTS
------------------------------

Additional comments from tester:

none provided

------------------------------
PROGRAM OUTPUT
------------------------------

Output from '/usr/bin/make test':

"/usr/local/bin/perl" -MExtUtils::Command::MM -e 'cp_nonempty' -- LongDouble.bs blib/arch/auto/Math/LongDouble/LongDouble.bs 644
PERL_DL_NONLAZY=1 "/usr/local/bin/perl" "-MExtUtils::Command::MM" "-MTest::Harness" "-e" "undef *Test::Harness::Switches; test_harness(0, 'blib/lib', 'blib/arch')" t/*.t


  No tests with this file. Instead, mainly for the benefit
  of the author, we (hopefully) see some diagnostics from some
  test executables that were run during the Makefile.PL stage.


CC = cc
OPTMIZE = -O2 -pipe -fstack-protector-strong -fno-strict-aliasing 
erfl & isnanl check (build): ld: error: undefined symbol: isnanl
>>> referenced by try.in
>>>               /var/tmp/cpansmoker-1023/2024120602/try-bfa45a.o:(main)
>>> did you mean: isnanf
>>> defined in: /usr/lib/libm.so
cc: error: linker command failed with exit code 1 (use -v to see invocation)

build output (nanl check): 
execution output (nanl check): rop set as expected

build output (nan**0 check):
try2.in:50:38: warning: format specifies type 'unsigned int' but the argument has type 'unsigned long' [-Wformat]
   50 |  printf("size of long double: %u\n", ul);
      |                               ~~     ^~
      |                               %lu
1 warning generated.

nan**0 check diagnostic: 1.0L
1.0L
1.0L
size of long double: 16

build output (signbitl check): ld: error: undefined symbol: signbitl
>>> referenced by try4.in
>>>               /var/tmp/cpansmoker-1023/2024120602/try4-2e36d5.o:(main)
cc: error: linker command failed with exit code 1 (use -v to see invocation)

build output (sincosl check): 
execution output (sincosl check): output: 0.000000e+00 1.000000e+00


t/01config_xtra.t .......... ok

NAN_POW_BUG is NOT defined
NANL_IS_UNAVAILABLE is NOT defined
ISNANL_IS_UNAVAILABLE is defined
SIGNBITL_IS_UNAVAILABLE is defined
SINCOSL_IS_UNAVAILABLE is NOT defined
Actual nvsize == 8
Actual long double size = 16
t/aab_basic.t .............. ok

Math::LongDouble::_have_isnanl() returns 0
Math::LongDouble::_have_nanl() returns 1
Math::LongDouble::_have_signbitl() returns 0
t/abs.t .................... ok
t/arith.t .................. ok
t/base_conversion.t ........ ok
t/bool.t ................... ok
t/cmp.t .................... ok

LD_DBL_DENORM_MIN not implemented

LD_LDBL_DENORM_MIN not implemented
t/constants.t .............. ok
t/inc_dec.t ................ ok
t/int.t .................... ok

 Skipping all tests - nvtype ('double') is not 'long double'
t/ld_bytes.t ............... ok
t/log_exp.t ................ ok

Math:LongDouble::_nan_pow_bug() returns 0
t/nan_pow.t ................ ok
t/new.t .................... ok
t/nnum.t ................... ok
t/overload.t ............... ok
t/overload_cmp_reversal.t .. ok
t/overload_switch.t ........ ok
Skipping test 1 - no recent version of Test::Pod installed
t/pod.t .................... ok
t/pow.t .................... ok

FYI:
 DBL_DIG = 15
 LDBL_DIG = 33
 Default precison = 36
t/prec.t ................... ok
t/signbit.t ................ ok
t/special.t ................ ok
t/stringification.t ........ ok

built with sincosl function
t/trig.t ................... ok
All tests successful.
Files=25, Tests=340,  1 wallclock secs ( 0.12 usr  0.07 sys +  0.63 cusr  0.20 csys =  1.02 CPU)
Result: PASS

------------------------------
PREREQUISITES
------------------------------

Prerequisite modules loaded:

build_requires:

    Module              Need Have
    ------------------- ---- ----
    ExtUtils::MakeMaker 0    7.64

configure_requires:

    Module              Need Have
    ------------------- ---- ----
    ExtUtils::MakeMaker 0    7.64


------------------------------
ENVIRONMENT AND OTHER CONTEXT
------------------------------

Environment variables:

    LANG = C.UTF-8
    PATH = /usr/local/bin:/usr/bin:/bin:/usr/local/sbin:/usr/sbin:/sbin:/home/cpansand/bin/sh:/home/cpansand/bin:/usr/games:/home/cpansand/devel:/home/eserte/src/srezic-misc/scripts
    PERL5LIB = 
    PERL5OPT = 
    PERL5_CPANPLUS_IS_RUNNING = 41375
    PERL5_CPAN_IS_RUNNING = 41375
    PERL5_CPAN_IS_RUNNING_IN_RECURSION = 41350,41375
    PERL_BATCH = yes
    PERL_CANARY_STABILITY_NOPROMPT = 1
    PERL_CPAN_REPORTER_CONFIG = /var/tmp/cpansmoker-1023/2024120602/cpanreporter_000_config.ini
    PERL_EXTUTILS_AUTOINSTALL = --defaultdeps
    PERL_USE_UNSAFE_INC = 1
    SHELL = /bin/sh
    TMPDIR = /var/tmp/cpansmoker-1023/2024120602

Perl special variables (and OS-specific diagnostics, for MSWin32):

    $^X = /usr/local/bin/perl
    $UID/$EUID = 1023 / 1023
    $GID = 1023 1023
    $EGID = 1023 1023

Perl module toolchain versions installed:

    Module              Have    
    ------------------- --------
    CPAN                2.33    
    CPAN::Meta          2.150010
    Cwd                 3.84    
    ExtUtils::CBuilder  0.280236
    ExtUtils::Command   7.64    
    ExtUtils::Install   2.20    
    ExtUtils::MakeMaker 7.64    
    ExtUtils::Manifest  1.73    
    ExtUtils::ParseXS   3.45    
    File::Spec          3.84    
    JSON                4.10    
    JSON::PP            4.07    
    Module::Build       n/a     
    Module::Signature   n/a     
    Parse::CPAN::Meta   2.150010
    Test::Harness       3.44    
    Test::More          1.302204
    YAML                n/a     
    YAML::Syck          1.34    
    version             0.9929  


--

Summary of my perl5 (revision 5 version 36 subversion 3) configuration:
   
  Platform:
    osname=freebsd
    osvers=14.0-release-p9
    archname=arm64-freebsd-thread-multi
    uname='freebsd 140arm64-default-job-03 14.0-release-p9 freebsd 14.0-release-p9 arm64 '
    config_args='-Accflags=-DUSE_THREAD_SAFE_LOCALE -Darchlib=/usr/local/lib/perl5/5.36/mach -Dcc=cc -Dcf_by=mat -Dcf_email=mat@FreeBSD.org -Dcf_time=Wed Nov 29 16:10:26 UTC 2023 -Dinc_version_list=none -Dlibperl=libperl.so.5.36.3 -Dman1dir=/usr/local/lib/perl5/5.36/perl/man/man1 -Dman3dir=/usr/local/lib/perl5/5.36/perl/man/man3 -Dprefix=/usr/local -Dprivlib=/usr/local/lib/perl5/5.36 -Dscriptdir=/usr/local/bin -Dsitearch=/usr/local/lib/perl5/site_perl/mach/5.36 -Dsitelib=/usr/local/lib/perl5/site_perl -Dsiteman1dir=/usr/local/lib/perl5/site_perl/man/man1 -Dsiteman3dir=/usr/local/lib/perl5/site_perl/man/man3 -Dusenm=n -Duseshrplib -sde -Ui_iconv -Ui_malloc -Uinstallusrbinperl -Alddlflags=-L/wrkdirs/usr/ports/lang/perl5.36/work/perl-5.36.3 -L/usr/local/lib/perl5/5.36/mach/CORE -lperl -Dshrpldflags=$(LDDLFLAGS:N-L/wrkdirs/usr/ports/lang/perl5.36/work/perl-5.36.3:N-L/usr/local/lib/perl5/5.36/mach/CORE:N-lperl) -Wl,-soname,$(LIBPERL:R) -Doptimize=-O2 -pipe  -fstack-protector-strong -fno-strict-aliasing  -Uusedtrace -Ui_gdbm -Dusemultiplicity=y -Duse64bitint -Dusemymalloc=n -Dusethreads=y'
    hint=recommended
    useposix=true
    d_sigaction=define
    useithreads=define
    usemultiplicity=define
    use64bitint=define
    use64bitall=define
    uselongdouble=undef
    usemymalloc=n
    default_inc_excludes_dot=define
  Compiler:
    cc='cc'
    ccflags ='-DHAS_FPSETMASK -DHAS_FLOATINGPOINT_H -DUSE_THREAD_SAFE_LOCALE -fno-strict-aliasing -pipe -fstack-protector-strong -I/usr/local/include'
    optimize='-O2 -pipe -fstack-protector-strong -fno-strict-aliasing '
    cppflags='-DHAS_FPSETMASK -DHAS_FLOATINGPOINT_H -DUSE_THREAD_SAFE_LOCALE -fno-strict-aliasing -pipe -fstack-protector-strong -I/usr/local/include'
    ccversion=''
    gccversion='FreeBSD Clang 16.0.6 (https://github.com/llvm/llvm-project.git llvmorg-16.0.6-0-g7cbf1a259152)'
    gccosandvers=''
    intsize=4
    longsize=8
    ptrsize=8
    doublesize=8
    byteorder=12345678
    doublekind=3
    d_longlong=define
    longlongsize=8
    d_longdbl=define
    longdblsize=16
    longdblkind=1
    ivtype='long'
    ivsize=8
    nvtype='double'
    nvsize=8
    Off_t='off_t'
    lseeksize=8
    alignbytes=8
    prototype=define
  Linker and Libraries:
    ld='cc'
    ldflags ='-pthread -Wl,-E  -fstack-protector-strong -L/usr/local/lib'
    libpth=/usr/lib /usr/local/lib /usr/lib/clang/16/lib
    libs=-ldl -lm -lcrypt -lutil
    perllibs=-ldl -lm -lcrypt -lutil
    libc=
    so=so
    useshrplib=true
    libperl=libperl.so.5.36.3
    gnulibc_version=''
  Dynamic Linking:
    dlsrc=dl_dlopen.xs
    dlext=so
    d_dlsymun=undef
    ccdlflags='  -Wl,-R/usr/local/lib/perl5/5.36/mach/CORE'
    cccdlflags='-DPIC -fPIC'
    lddlflags='-shared  -L/usr/local/lib/perl5/5.36/mach/CORE -lperl -L/usr/local/lib -fstack-protector-strong'


Characteristics of this binary (from libperl): 
  Compile-time options:
    HAS_TIMES
    MULTIPLICITY
    PERLIO_LAYERS
    PERL_COPY_ON_WRITE
    PERL_DONT_CREATE_GVSV
    PERL_MALLOC_WRAP
    PERL_OP_PARENT
    PERL_PRESERVE_IVUV
    USE_64_BIT_ALL
    USE_64_BIT_INT
    USE_ITHREADS
    USE_LARGE_FILES
    USE_LOCALE
    USE_LOCALE_COLLATE
    USE_LOCALE_CTYPE
    USE_LOCALE_NUMERIC
    USE_LOCALE_TIME
    USE_PERLIO
    USE_PERL_ATOF
    USE_REENTRANT_API
    USE_THREAD_SAFE_LOCALE
  Built under freebsd
  %ENV:
    PERL5LIB=""
    PERL5OPT=""
    PERL5_CPANPLUS_IS_RUNNING="41375"
    PERL5_CPAN_IS_RUNNING="41375"
    PERL5_CPAN_IS_RUNNING_IN_RECURSION="41350,41375"
    PERL_BATCH="yes"
    PERL_CANARY_STABILITY_NOPROMPT="1"
    PERL_CPAN_REPORTER_CONFIG="/var/tmp/cpansmoker-1023/2024120602/cpanreporter_000_config.ini"
    PERL_EXTUTILS_AUTOINSTALL="--defaultdeps"
    PERL_USE_UNSAFE_INC="1"
  @INC:
    /usr/local/lib/perl5/site_perl/mach/5.36
    /usr/local/lib/perl5/site_perl
    /usr/local/lib/perl5/5.36/mach
    /usr/local/lib/perl5/5.36
    .