Acme-CPANAuthors-Malaysian v0.02 Perl 5 v5.10.1 amd64-freebsd
- Status
- Pass
- From
- Slaven Rezić (SREZIC)
- Dist
-
Acme-CPANAuthors-Malaysian v0.02
- Platform
- Perl 5 v5.10.1 amd64-freebsd
- Date
- 2019-05-06 22:59:45
- ID
- a46cee0c-7052-11e9-a753-d8701f24ea8f
This distribution has been tested as part of the CPAN Testers
project, supporting the Perl programming language. See
http://wiki.cpantesters.org/ for more information or email
questions to cpan-testers-discuss@perl.org
--
Dear Kian Meng, Ang,
This is a computer-generated report for Acme-CPANAuthors-Malaysian-0.02
on perl 5.10.1, created by CPAN-Reporter-1.2018.
Thank you for uploading your work to CPAN. Congratulations!
All tests were successful.
Sections of this report:
* Tester comments
* Program output
* Prerequisites
* Environment and other context
------------------------------
TESTER COMMENTS
------------------------------
Additional comments from tester:
none provided
------------------------------
PROGRAM OUTPUT
------------------------------
Output from './Build test':
t/00-compile.t .............. ok
# Testing with Perl 5.010001, /usr/perl5.10.1/bin/perl
# Acme::CPANAuthors version is 0.26
# File::Spec version is 3.75
# IO::Handle version is 1.39
# IPC::Open3 version is 1.04
# Module::Build::Tiny version is 0.039
# Pod::Coverage::TrustPod version is 0.100005
# Test::CPAN::Meta version is 0.25
# Test::HasVersion version is 0.014
# Test::More version is 1.302164
# Test::UseAllModules version is 0.17
t/000-report-versions.t ..... ok
t/00_load.t ................. ok
t/author-eol.t .............. skipped: these tests are for testing by the author
t/author-minimum-version.t .. skipped: these tests are for testing by the author
t/author-pod-coverage.t ..... skipped: these tests are for testing by the author
t/author-pod-syntax.t ....... skipped: these tests are for testing by the author
t/release-distmeta.t ........ skipped: these tests are for release candidate testing
t/release-has-version.t ..... skipped: these tests are for release candidate testing
t/release-kwalitee.t ........ skipped: these tests are for release candidate testing
t/release-unused-vars.t ..... skipped: these tests are for release candidate testing
All tests successful.
Files=11, Tests=12, 1 wallclock secs ( 0.01 usr 0.04 sys + 0.25 cusr 0.06 csys = 0.36 CPU)
Result: PASS
------------------------------
PREREQUISITES
------------------------------
Prerequisite modules loaded:
requires:
Module Need Have
----------------------- -------- --------
Acme::CPANAuthors 0.26 0.26
perl 5.008005 5.010001
build_requires:
Module Need Have
----------------------- -------- --------
File::Spec 0 3.75
IO::Handle 0 1.39
IPC::Open3 0 1.04
Pod::Coverage::TrustPod 0.100005 0.100005
Test::CPAN::Meta 0.25 0.25
Test::HasVersion 0.014 0.014
Test::Kwalitee 1.28 1.28
Test::More 0.96 1.302164
Test::Pod::Coverage 1.10 1.10
Test::UseAllModules 0.17 0.17
configure_requires:
Module Need Have
----------------------- -------- --------
Module::Build::Tiny 0.034 0.039
------------------------------
ENVIRONMENT AND OTHER CONTEXT
------------------------------
Environment variables:
LC_ALL = de_DE.ISO8859-1
PATH = /usr/local/bin:/usr/bin:/bin:/usr/local/sbin:/usr/sbin:/sbin:/home/cpansand/bin/freebsd9.3:/home/cpansand/bin/sh:/home/cpansand/bin:/usr/games:/home/cpansand/devel:/usr/home/eserte/src/srezic-misc/scripts
PERL5LIB = /home/cpansand/.cpan/build/2019050700/Test-Kwalitee-1.28-0/blib/arch:/home/cpansand/.cpan/build/2019050700/Test-Kwalitee-1.28-0/blib/lib:/home/cpansand/.cpan/build/2019050700/Test-HasVersion-0.014-4/blib/arch:/home/cpansand/.cpan/build/2019050700/Test-HasVersion-0.014-4/blib/lib
PERL5OPT =
PERL5_CPANPLUS_IS_RUNNING = 55421
PERL5_CPAN_IS_RUNNING = 55421
PERL5_CPAN_IS_RUNNING_IN_RECURSION = 37973,55421
PERLDOC = -MPod::Perldoc::ToTextOverstrike
PERL_BATCH = yes
PERL_CANARY_STABILITY_NOPROMPT = 1
PERL_CPAN_REPORTER_CONFIG = /var/tmp/cpansmoker-1023/2019050700/cpanreporter_000_config.ini
PERL_EXTUTILS_AUTOINSTALL = --defaultdeps
PERL_USE_UNSAFE_INC = 1
SHELL = /usr/local/bin/zsh
TERM = screen
TMPDIR = /var/tmp/cpansmoker-1023/2019050700
Perl special variables (and OS-specific diagnostics, for MSWin32):
$^X = /usr/perl5.10.1/bin/perl
$UID/$EUID = 1023 / 1023
$GID = 1023 1023
$EGID = 1023 1023
Perl module toolchain versions installed:
Module Have
------------------- --------
CPAN 2.22
CPAN::Meta 2.150010
Cwd 3.75
ExtUtils::CBuilder 0.280231
ExtUtils::Command 7.36
ExtUtils::Install 2.14
ExtUtils::MakeMaker 7.36
ExtUtils::Manifest 1.72
ExtUtils::ParseXS 3.35
File::Spec 3.75
JSON 4.02
JSON::PP 4.02
Module::Build 0.4224
Module::Signature 0.81
Parse::CPAN::Meta 2.150010
Test::Harness 3.41
Test::More 1.302164
YAML 1.27
YAML::Syck 1.31
version 0.9924
--
Summary of my perl5 (revision 5 version 10 subversion 1) configuration:
Platform:
osname=freebsd, osvers=9.2-release-p4, archname=amd64-freebsd
uname='freebsd cvrsnica-freebsd-92 9.2-release-p4 freebsd 9.2-release-p4 #0: tue apr 8 18:08:22 utc 2014 root@amd64-builder.daemonology.net:usrobjusrsrcsysgeneric amd64 '
config_args='-ds -e -Dprefix=/usr/perl5.10.1'
hint=recommended, useposix=true, d_sigaction=define
useithreads=undef, usemultiplicity=undef
useperlio=define, d_sfio=undef, uselargefiles=define, usesocks=undef
use64bitint=define, use64bitall=define, uselongdouble=undef
usemymalloc=n, bincompat5005=undef
Compiler:
cc='cc', ccflags ='-DHAS_FPSETMASK -DHAS_FLOATINGPOINT_H -fno-strict-aliasing -pipe -fstack-protector -I/usr/local/include',
optimize='-O',
cppflags='-DHAS_FPSETMASK -DHAS_FLOATINGPOINT_H -fno-strict-aliasing -pipe -fstack-protector -I/usr/local/include'
ccversion='', gccversion='4.2.1 20070831 patched [FreeBSD]', gccosandvers=''
intsize=4, longsize=8, ptrsize=8, doublesize=8, byteorder=12345678
d_longlong=define, longlongsize=8, d_longdbl=define, longdblsize=16
ivtype='long', ivsize=8, nvtype='double', nvsize=8, Off_t='off_t', lseeksize=8
alignbytes=8, prototype=define
Linker and Libraries:
ld='cc', ldflags ='-Wl,-E -fstack-protector -L/usr/local/lib'
libpth=/usr/lib /usr/local/lib
libs=-lgdbm -lm -lcrypt -lutil -lc
perllibs=-lm -lcrypt -lutil -lc
libc=, so=so, useshrplib=false, libperl=libperl.a
gnulibc_version=''
Dynamic Linking:
dlsrc=dl_dlopen.xs, dlext=so, d_dlsymun=undef, ccdlflags=' '
cccdlflags='-DPIC -fPIC', lddlflags='-shared -L/usr/local/lib -fstack-protector'
Characteristics of this binary (from libperl):
Compile-time options: PERL_DONT_CREATE_GVSV PERL_MALLOC_WRAP USE_64_BIT_ALL
USE_64_BIT_INT USE_LARGE_FILES USE_PERLIO
Built under freebsd
Compiled at May 15 2014 23:30:26
%ENV:
PERL5LIB="/home/cpansand/.cpan/build/2019050700/Test-Kwalitee-1.28-0/blib/arch:/home/cpansand/.cpan/build/2019050700/Test-Kwalitee-1.28-0/blib/lib:/home/cpansand/.cpan/build/2019050700/Test-HasVersion-0.014-4/blib/arch:/home/cpansand/.cpan/build/2019050700/Test-HasVersion-0.014-4/blib/lib"
PERL5OPT=""
PERL5_CPANPLUS_IS_RUNNING="55421"
PERL5_CPAN_IS_RUNNING="55421"
PERL5_CPAN_IS_RUNNING_IN_RECURSION="37973,55421"
PERLDOC="-MPod::Perldoc::ToTextOverstrike"
PERL_BATCH="yes"
PERL_CANARY_STABILITY_NOPROMPT="1"
PERL_CPAN_REPORTER_CONFIG="/var/tmp/cpansmoker-1023/2019050700/cpanreporter_000_config.ini"
PERL_EXTUTILS_AUTOINSTALL="--defaultdeps"
PERL_USE_UNSAFE_INC="1"
@INC:
/home/cpansand/.cpan/build/2019050700/Test-Kwalitee-1.28-0/blib/arch
/home/cpansand/.cpan/build/2019050700/Test-Kwalitee-1.28-0/blib/lib
/home/cpansand/.cpan/build/2019050700/Test-HasVersion-0.014-4/blib/arch
/home/cpansand/.cpan/build/2019050700/Test-HasVersion-0.014-4/blib/lib
/usr/perl5.10.1/lib/5.10.1/amd64-freebsd
/usr/perl5.10.1/lib/5.10.1
/usr/perl5.10.1/lib/site_perl/5.10.1/amd64-freebsd
/usr/perl5.10.1/lib/site_perl/5.10.1
.