Back
From: metabase:user:31e80ebe-2aae-11df-837a-5e0a49663a4f
Subject: PASS MooseX-Types-Structured-0.35 v5.18.1 Mac OS X
Date: 2016-06-15T04:21:33Z
This distribution has been tested as part of the CPAN Testers
project, supporting the Perl programming language. See
http://wiki.cpantesters.org/ for more information or email
questions to cpan-testers-discuss@perl.org
--
Dear Karen Etheridge,
This is a computer-generated report for MooseX-Types-Structured-0.35
on perl 5.18.1, created by CPAN-Reporter-1.2010.
Thank you for uploading your work to CPAN. Congratulations!
All tests were successful.
Sections of this report:
* Tester comments
* Program output
* Prerequisites
* Environment and other context
------------------------------
TESTER COMMENTS
------------------------------
Additional comments from tester:
none provided
------------------------------
PROGRAM OUTPUT
------------------------------
Output from './Build test':
t/00-load.t .................... ok
#
# Versions for all modules listed in MYMETA.json (including optional ones):
#
# === Configure Requires ===
#
# Module Want Have
# ------------------- ----- -----
# Module::Build::Tiny 0.034 0.039
#
# === Test Requires ===
#
# Module Want Have
# ----------------------- ---- --------
# Data::Dumper any 2.145
# DateTime any 1.03
# ExtUtils::MakeMaker any 7.02
# File::Spec any 3.40
# MooseX::Types::DateTime any 0.13
# MooseX::Types::Moose any 0.46
# Test::Fatal any 0.013
# Test::More 0.88 1.302026
# Test::Requires any 0.07
# strict any 1.07
# warnings any 1.18
#
# === Test Recommends ===
#
# Module Want Have
# ---------- -------- --------
# CPAN::Meta 2.120900 2.142690
#
# === Runtime Requires ===
#
# Module Want Have
# -------------------------------------------- ------- -------
# Devel::PartialDump 0.13 0.17
# JSON::PP 2.27300 2.27300
# Moose any 2.1804
# Moose::Meta::TypeCoercion any 2.1804
# Moose::Meta::TypeConstraint any 2.1804
# Moose::Meta::TypeConstraint::Parameterizable any 2.1804
# Moose::Util::TypeConstraints 1.06 2.1804
# MooseX::Types 0.22 0.46
# Scalar::Util any 1.45
# Sub::Exporter 0.982 0.986
# if any 0.0602
# namespace::clean 0.19 0.24
# overload any 1.22
#
t/00-report-prereqs.t .......... ok
t/01-basic.t ................... ok
t/02-tuple.t ................... ok
t/03-dict.t .................... ok
t/04-combined.t ................ ok
t/04-map.t ..................... ok
t/05-advanced.t ................ ok
t/06-api.t ..................... ok
t/07-coerce.t .................. ok
t/08-examples.t ................ ok
t/09-optional.t ................ ok
t/10-recursion.t ............... ok
t/11-overflow.t ................ ok
t/12-error.t ................... ok
t/13-deeper_error.t ............ ok
t/14-fully-qualified.t ......... ok
t/bug-incorrect-message.t ...... ok
t/bug-is-subtype.t ............. ok
t/bug-mixed-stringy.t .......... ok
t/bug-optional.t ............... ok
t/regressions/01-is_type_of.t .. ok
Use of uninitialized value $installed in string le at /Users/Glenn/perl5/perlbrew/perls/perl-5.18.1/lib/site_perl/5.18.1/Dist/CheckConflicts.pm line 188.
Use of uninitialized value in concatenation (.) or string at /Users/Glenn/perl5/perlbrew/perls/perl-5.18.1/lib/site_perl/5.18.1/Dist/CheckConflicts.pm line 161.
# Conflicts detected for Moose:
# Elasticsearch is version , but must be greater than version 1.00
t/zzz-check-breaks.t ........... ok
All tests successful.
Files=23, Tests=361, 7 wallclock secs ( 0.08 usr 0.05 sys + 6.14 cusr 0.40 csys = 6.67 CPU)
Result: PASS
------------------------------
PREREQUISITES
------------------------------
Prerequisite modules loaded:
requires:
Module Need Have
------------------- -------------------- --------
! build_requires HASH(0x7ff6ac241a68) n/a
! opt_build_requires HASH(0x7ff6ac272eb8) n/a
! opt_requires HASH(0x7ff6ac2976f0) n/a
! requires HASH(0x7ff6ac2650c0) n/a
configure_requires:
Module Need Have
------------------- -------------------- --------
Module::Build::Tiny 0.034 0.039
perl 5.008 5.018001
------------------------------
ENVIRONMENT AND OTHER CONTEXT
------------------------------
Environment variables:
LANG = en_AU.UTF-8
PATH = /usr/local/heroku/bin:/usr/local/bin:/Users/Glenn/opt/local/pinto/bin:/Users/Glenn/perl5/perlbrew/bin:/Users/Glenn/perl5/perlbrew/perls/perl-5.18.1/bin:/usr/local/bin:/usr/bin:/bin:/usr/sbin:/sbin:/opt/X11/bin:/Users/Glenn/gsutil
PERL5LIB =
PERL5OPT =
PERL5_CPANPLUS_IS_RUNNING = 35724
PERL5_CPAN_IS_RUNNING = 35724
PERLBREW_BASHRC_VERSION = 0.75
PERLBREW_HOME = /Users/Glenn/.perlbrew
PERLBREW_MANPATH = /Users/Glenn/perl5/perlbrew/perls/perl-5.18.1/man
PERLBREW_PATH = /Users/Glenn/perl5/perlbrew/bin:/Users/Glenn/perl5/perlbrew/perls/perl-5.18.1/bin
PERLBREW_PERL = perl-5.18.1
PERLBREW_ROOT = /Users/Glenn/perl5/perlbrew
PERLBREW_VERSION = 0.75
PERLCRITIC = /Users/Glenn/Documents/workspace/affinitylive/xt/perlcriticrc
SHELL = /bin/bash
TERM = xterm
TMPDIR = /var/folders/j6/xk96yl092xj9gz8zs892_fw00000gp/T/
Perl special variables (and OS-specific diagnostics, for MSWin32):
$^X = /Users/Glenn/perl5/perlbrew/perls/perl-5.18.1/bin/perl
$UID/$EUID = 502 / 502
$GID = 20 20 501 12 61 79 80 81 98 401 33 100 204 395 398 399
$EGID = 20 20 501 12 61 79 80 81 98 401 33 100 204 395 398 399
Perl module toolchain versions installed:
Module Have
------------------- --------
CPAN 2.10
CPAN::Meta 2.142690
Cwd 3.40
ExtUtils::CBuilder 0.280210
ExtUtils::Command 1.17
ExtUtils::Install 1.59
ExtUtils::MakeMaker 7.02
ExtUtils::Manifest 1.70
ExtUtils::ParseXS 3.18
File::Spec 3.40
JSON 2.90
JSON::PP 2.27300
Module::Build 0.4005
Module::Signature n/a
Parse::CPAN::Meta 1.4414
Test::Harness 3.29
Test::More 1.302026
YAML 0.84
YAML::Syck n/a
version 0.9902
--
Summary of my perl5 (revision 5 version 18 subversion 1) configuration:
Platform:
osname=darwin, osvers=12.5.0, archname=darwin-2level
uname='darwin glenns-macbook-pro.local 12.5.0 darwin kernel version 12.5.0: mon jul 29 16:33:49 pdt 2013; root:xnu-2050.48.11~1release_x86_64 x86_64 '
config_args='-de -Dprefix=/Users/Glenn/perl5/perlbrew/perls/perl-5.18.1 -Aeval:scriptdir=/Users/Glenn/perl5/perlbrew/perls/perl-5.18.1/bin'
hint=recommended, useposix=true, d_sigaction=define
useithreads=undef, usemultiplicity=undef
useperlio=define, d_sfio=undef, uselargefiles=define, usesocks=undef
use64bitint=define, use64bitall=define, uselongdouble=undef
usemymalloc=n, bincompat5005=undef
Compiler:
cc='cc', ccflags ='-fno-common -DPERL_DARWIN -fno-strict-aliasing -pipe -fstack-protector',
optimize='-O3',
cppflags='-fno-common -DPERL_DARWIN -fno-strict-aliasing -pipe -fstack-protector'
ccversion='', gccversion='4.2.1 Compatible Apple LLVM 5.0 (clang-500.2.75)', gccosandvers=''
intsize=4, longsize=8, ptrsize=8, doublesize=8, byteorder=12345678
d_longlong=define, longlongsize=8, d_longdbl=define, longdblsize=16
ivtype='long', ivsize=8, nvtype='double', nvsize=8, Off_t='off_t', lseeksize=8
alignbytes=8, prototype=define
Linker and Libraries:
ld='env MACOSX_DEPLOYMENT_TARGET=10.3 cc', ldflags =' -fstack-protector -L/usr/local/lib'
libpth=/usr/local/lib /usr/lib
libs=-ldbm -ldl -lm -lutil -lc
perllibs=-ldl -lm -lutil -lc
libc=, so=dylib, useshrplib=false, libperl=libperl.a
gnulibc_version=''
Dynamic Linking:
dlsrc=dl_dlopen.xs, dlext=bundle, d_dlsymun=undef, ccdlflags=' '
cccdlflags=' ', lddlflags=' -bundle -undefined dynamic_lookup -L/usr/local/lib -fstack-protector'
Characteristics of this binary (from libperl):
Compile-time options: HAS_TIMES PERLIO_LAYERS PERL_DONT_CREATE_GVSV
PERL_HASH_FUNC_ONE_AT_A_TIME_HARD PERL_MALLOC_WRAP
PERL_PRESERVE_IVUV PERL_SAWAMPERSAND USE_64_BIT_ALL
USE_64_BIT_INT USE_LARGE_FILES USE_LOCALE
USE_LOCALE_COLLATE USE_LOCALE_CTYPE
USE_LOCALE_NUMERIC USE_PERLIO USE_PERL_ATOF
Built under darwin
Compiled at Sep 25 2013 15:35:55
%ENV:
PERL5LIB=""
PERL5OPT=""
PERL5_CPANPLUS_IS_RUNNING="35724"
PERL5_CPAN_IS_RUNNING="35724"
PERLBREW_BASHRC_VERSION="0.75"
PERLBREW_HOME="/Users/Glenn/.perlbrew"
PERLBREW_MANPATH="/Users/Glenn/perl5/perlbrew/perls/perl-5.18.1/man"
PERLBREW_PATH="/Users/Glenn/perl5/perlbrew/bin:/Users/Glenn/perl5/perlbrew/perls/perl-5.18.1/bin"
PERLBREW_PERL="perl-5.18.1"
PERLBREW_ROOT="/Users/Glenn/perl5/perlbrew"
PERLBREW_VERSION="0.75"
PERLCRITIC="/Users/Glenn/Documents/workspace/affinitylive/xt/perlcriticrc"
@INC:
/Users/Glenn/perl5/perlbrew/perls/perl-5.18.1/lib/site_perl/5.18.1/darwin-2level
/Users/Glenn/perl5/perlbrew/perls/perl-5.18.1/lib/site_perl/5.18.1
/Users/Glenn/perl5/perlbrew/perls/perl-5.18.1/lib/5.18.1/darwin-2level
/Users/Glenn/perl5/perlbrew/perls/perl-5.18.1/lib/5.18.1
.