Report for MRS-Client-0.600100

Back
From: metabase:user:30ae4450-2aae-11df-837a-5e0a49663a4f
Subject: PASS MRS-Client-0.600100 v5.14.3 
Date: 2013-01-13T15:01:21Z

This distribution has been tested as part of the CPAN Testers
project, supporting the Perl programming language.  See
http://wiki.cpantesters.org/ for more information or email
questions to cpan-testers-discuss@perl.org


--
Dear Martin Senger,

This is a computer-generated report for MRS-Client-0.600100
on perl 5.14.3, created by CPAN-Reporter-1.2009.

Thank you for uploading your work to CPAN.  Congratulations!
All tests were successful.

Sections of this report:

    * Tester comments
    * Program output
    * Prerequisites
    * Environment and other context

------------------------------
TESTER COMMENTS
------------------------------

Additional comments from tester:

this report is from an automated smoke testing program
and was not reviewed by a human for accuracy

------------------------------
PROGRAM OUTPUT
------------------------------

Output from 'C:\strawberry5143\c\bin\dmake.exe test':

C:\strawberry5143\perl\bin\perl.exe "-MExtUtils::Command::MM" "-e" "test_harness(0, 'blib\lib', 'blib\arch')" t/*.t
t/00-compile.t .......... ok
# Testing MRS::Client 0.600100, Perl v5.14.3, C:\strawberry5143\perl\bin\perl.exe
t/00-load.t ............. ok
# Data manipulation
t/01-data.t ............. ok
# Setting host and endpoints
t/02-endpoint.t ......... ok
# Calling MRS services
t/03-network.t .......... ok
# Manipulation of hyperlinks
t/04-links.t ............ ok
t/author-critic.t ....... skipped: these tests are for testing by the author
t/author-pod-spell.t .... skipped: these tests are for testing by the author
t/release-distmeta.t .... skipped: these tests are for release candidate testing
t/release-eol.t ......... skipped: these tests are for release candidate testing
t/release-no-tabs.t ..... skipped: these tests are for release candidate testing
t/release-pod-syntax.t .. skipped: these tests are for release candidate testing
All tests successful.
Files=12, Tests=143,  9 wallclock secs ( 0.02 usr +  0.08 sys =  0.10 CPU)
Result: PASS

------------------------------
PREREQUISITES
------------------------------

Prerequisite modules loaded:

requires:

    Module                            Need Have 
    --------------------------------- ---- -----
    base                              0    2.18 
    Carp                              0    1.26 
    constant                          0    1.21 
    File::Basename                    0    2.82 
    FindBin                           0    1.50 
    Getopt::Std                       0    1.06 
    Math::BigInt                      0    1.997
    overload                          0    1.13 
    strict                            0    1.04 
    vars                              0    1.02 
    warnings                          0    1.12 
    XML::Compile::SOAP11              2.26 2.34 
    XML::Compile::Transport::SOAPHTTP 0    2.34 
    XML::Compile::WSDL11              0    2.34 

build_requires:

    Module                            Need Have 
    --------------------------------- ---- -----
    English                           0    1.04 
    File::Find                        0    1.19 
    File::Spec                        0    3.33 
    File::Temp                        0    0.22 
    Test::More                        0    0.98 
    Test::Requires                    0    0.06 

configure_requires:

    Module                            Need Have 
    --------------------------------- ---- -----
    ExtUtils::MakeMaker               6.30 6.62 


------------------------------
ENVIRONMENT AND OTHER CONTEXT
------------------------------

Environment variables:

    AUTOMATED_TESTING = 1
    COMSPEC = C:\WINDOWS\system32\cmd.exe
    NUMBER_OF_PROCESSORS = 1
    PATH = C:\Program Files\Far Manager\;C:\WINDOWS\system32;C:\WINDOWS;C:\WINDOWS\System32\Wbem;C:\strawberry5143\c\bin;C:\strawberry5143\perl\site\bin;C:\strawberry5143\perl\bin
    PERL5LIB = C:\strawberry5143\cpan\build\XML-Compile-SOAP-2.34-gh8XZy/blib/arch;C:\strawberry5143\cpan\build\XML-Compile-SOAP-2.34-gh8XZy/blib/lib;C:\strawberry5143\cpan\build\XML-Compile-Cache-0.992-ELTifd/blib/arch;C:\strawberry5143\cpan\build\XML-Compile-Cache-0.992-ELTifd/blib/lib;C:\strawberry5143\cpan\build\XML-LibXML-Simple-0.92-J917wz/blib/arch;C:\strawberry5143\cpan\build\XML-LibXML-Simple-0.92-J917wz/blib/lib;C:\strawberry5143\cpan\build\XML-Compile-1.30-MI8soY/blib/arch;C:\strawberry5143\cpan\build\XML-Compile-1.30-MI8soY/blib/lib;C:\strawberry5143\cpan\build\XML-Compile-Tester-0.90-E63hdG/blib/arch;C:\strawberry5143\cpan\build\XML-Compile-Tester-0.90-E63hdG/blib/lib;C:\strawberry5143\cpan\build\Log-Report-0.992-dItfCA/blib/arch;C:\strawberry5143\cpan\build\Log-Report-0.992-dItfCA/blib/lib
    PERL5OPT = 
    PERL5_CPANPLUS_IS_RUNNING = 1500
    PERL5_CPAN_IS_RUNNING = 1500
    PERL5_CPAN_IS_RUNNING_IN_RECURSION = 312,1500
    PERL_CR_SMOKER_CURRENT = MRS-Client-0.600100
    PERL_EXTUTILS_AUTOINSTALL = --defaultdeps
    PERL_MM_USE_DEFAULT = 1
    PROCESSOR_IDENTIFIER = x86 Family 16 Model 5 Stepping 3, AuthenticAMD
    TEMP = C:\DOCUME~1\c\LOCALS~1\Temp
    TERM = dumb

Perl special variables (and OS-specific diagnostics, for MSWin32):

    $^X = C:\strawberry5143\perl\bin\perl.exe
    $UID/$EUID = 0 / 0
    $GID = 0
    $EGID = 0
    Win32::GetOSName = WinXP/.Net
    Win32::GetOSVersion = Service Pack 3, 5, 1, 2600, 2, 3, 0, 256, 1
    Win32::FsType = NTFS
    Win32::IsAdminUser = 1

Perl module toolchain versions installed:

    Module              Have    
    ------------------- --------
    CPAN                1.9800  
    CPAN::Meta          2.120921
    Cwd                 3.36    
    ExtUtils::CBuilder  0.280205
    ExtUtils::Command   1.17    
    ExtUtils::Install   1.56    
    ExtUtils::MakeMaker 6.62    
    ExtUtils::Manifest  1.61    
    ExtUtils::ParseXS   3.15    
    File::Spec          3.33    
    JSON                2.53    
    JSON::PP            2.27200 
    Module::Build       0.4003  
    Module::Signature   0.68    
    Parse::CPAN::Meta   1.4404  
    Test::Harness       3.25    
    Test::More          0.98    
    YAML                0.84    
    YAML::Syck          1.22    
    version             0.9901  


--

Summary of my perl5 (revision 5 version 14 subversion 3) configuration:
   
  Platform:
    osname=MSWin32, osvers=4.0, archname=MSWin32-x86-multi-thread
    uname='Win32 strawberry-perl 5.14.3.1 #1 Wed Oct 17 22:51:55 2012 i386'
    config_args='undef'
    hint=recommended, useposix=true, d_sigaction=undef
    useithreads=define, usemultiplicity=define
    useperlio=define, d_sfio=undef, uselargefiles=define, usesocks=undef
    use64bitint=undef, use64bitall=undef, uselongdouble=undef
    usemymalloc=n, bincompat5005=undef
  Compiler:
    cc='gcc', ccflags =' -s -O2 -DWIN32  -DPERL_TEXTMODE_SCRIPTS -DPERL_IMPLICIT_CONTEXT -DPERL_IMPLICIT_SYS -fno-strict-aliasing -mms-bitfields',
    optimize='-s -O2',
    cppflags='-DWIN32'
    ccversion='', gccversion='4.6.3', gccosandvers=''
    intsize=4, longsize=4, ptrsize=4, doublesize=8, byteorder=1234
    d_longlong=undef, longlongsize=8, d_longdbl=define, longdblsize=12
    ivtype='long', ivsize=4, nvtype='double', nvsize=8, Off_t='long long', lseeksize=8
    alignbytes=8, prototype=define
  Linker and Libraries:
    ld='g++', ldflags ='-s -L"C:\strawberry5143\perl\lib\CORE" -L"C:\strawberry5143\c\lib"'
    libpth=C:\strawberry5143\c\lib C:\strawberry5143\c\i686-w64-mingw32\lib
    libs=-lmoldname -lkernel32 -luser32 -lgdi32 -lwinspool -lcomdlg32 -ladvapi32 -lshell32 -lole32 -loleaut32 -lnetapi32 -luuid -lws2_32 -lmpr -lwinmm -lversion -lodbc32 -lodbccp32 -lcomctl32
    perllibs=-lmoldname -lkernel32 -luser32 -lgdi32 -lwinspool -lcomdlg32 -ladvapi32 -lshell32 -lole32 -loleaut32 -lnetapi32 -luuid -lws2_32 -lmpr -lwinmm -lversion -lodbc32 -lodbccp32 -lcomctl32
    libc=, so=dll, useshrplib=true, libperl=libperl514.a
    gnulibc_version=''
  Dynamic Linking:
    dlsrc=dl_win32.xs, dlext=dll, d_dlsymun=undef, ccdlflags=' '
    cccdlflags=' ', lddlflags='-mdll -s -L"C:\strawberry5143\perl\lib\CORE" -L"C:\strawberry5143\c\lib"'


Characteristics of this binary (from libperl): 
  Compile-time options: MULTIPLICITY PERL_DONT_CREATE_GVSV
                        PERL_IMPLICIT_CONTEXT PERL_IMPLICIT_SYS
                        PERL_MALLOC_WRAP PERL_PRESERVE_IVUV PL_OP_SLAB_ALLOC
                        USE_ITHREADS USE_LARGE_FILES USE_PERLIO
                        USE_PERL_ATOF
  Built under MSWin32
  Compiled at Oct 17 2012 23:05:06
  %ENV:
    PERL5LIB="C:\strawberry5143\cpan\build\XML-Compile-SOAP-2.34-gh8XZy/blib/arch;C:\strawberry5143\cpan\build\XML-Compile-SOAP-2.34-gh8XZy/blib/lib;C:\strawberry5143\cpan\build\XML-Compile-Cache-0.992-ELTifd/blib/arch;C:\strawberry5143\cpan\build\XML-Compile-Cache-0.992-ELTifd/blib/lib;C:\strawberry5143\cpan\build\XML-LibXML-Simple-0.92-J917wz/blib/arch;C:\strawberry5143\cpan\build\XML-LibXML-Simple-0.92-J917wz/blib/lib;C:\strawberry5143\cpan\build\XML-Compile-1.30-MI8soY/blib/arch;C:\strawberry5143\cpan\build\XML-Compile-1.30-MI8soY/blib/lib;C:\strawberry5143\cpan\build\XML-Compile-Tester-0.90-E63hdG/blib/arch;C:\strawberry5143\cpan\build\XML-Compile-Tester-0.90-E63hdG/blib/lib;C:\strawberry5143\cpan\build\Log-Report-0.992-dItfCA/blib/arch;C:\strawberry5143\cpan\build\Log-Report-0.992-dItfCA/blib/lib"
    PERL5_CPANPLUS_IS_RUNNING="1500"
    PERL5_CPAN_IS_RUNNING="1500"
    PERL5_CPAN_IS_RUNNING_IN_RECURSION="312,1500"
    PERL_CR_SMOKER_CURRENT="MRS-Client-0.600100"
    PERL_EXTUTILS_AUTOINSTALL="--defaultdeps"
    PERL_MM_USE_DEFAULT="1"
  @INC:
    C:\strawberry5143\cpan\build\XML-Compile-SOAP-2.34-gh8XZy/blib/arch
    C:\strawberry5143\cpan\build\XML-Compile-SOAP-2.34-gh8XZy/blib/lib
    C:\strawberry5143\cpan\build\XML-Compile-Cache-0.992-ELTifd/blib/arch
    C:\strawberry5143\cpan\build\XML-Compile-Cache-0.992-ELTifd/blib/lib
    C:\strawberry5143\cpan\build\XML-LibXML-Simple-0.92-J917wz/blib/arch
    C:\strawberry5143\cpan\build\XML-LibXML-Simple-0.92-J917wz/blib/lib
    C:\strawberry5143\cpan\build\XML-Compile-1.30-MI8soY/blib/arch
    C:\strawberry5143\cpan\build\XML-Compile-1.30-MI8soY/blib/lib
    C:\strawberry5143\cpan\build\XML-Compile-Tester-0.90-E63hdG/blib/arch
    C:\strawberry5143\cpan\build\XML-Compile-Tester-0.90-E63hdG/blib/lib
    C:\strawberry5143\cpan\build\Log-Report-0.992-dItfCA/blib/arch
    C:\strawberry5143\cpan\build\Log-Report-0.992-dItfCA/blib/lib
    C:/strawberry5143/perl/site/lib
    C:/strawberry5143/perl/vendor/lib
    C:/strawberry5143/perl/lib
    .