Report for DBIx-QueryLog-0.41

Back
From: metabase:user:838e5b0a-2bb6-1016-a696-43a2537fa0c6
Subject: PASS DBIx-QueryLog-0.41 v5.23.0 OpenBSD
Date: 2015-08-01T03:23:13Z

This distribution has been tested as part of the CPAN Testers
project, supporting the Perl programming language.  See
http://wiki.cpantesters.org/ for more information or email
questions to cpan-testers-discuss@perl.org


--
Dear Yuji Shimada,

This is a computer-generated report for DBIx-QueryLog-0.41
on perl 5.23.0, created by CPAN-Reporter-1.2014.

Thank you for uploading your work to CPAN.  Congratulations!
All tests were successful.

Sections of this report:

    * Tester comments
    * Program output
    * Prerequisites
    * Environment and other context

------------------------------
TESTER COMMENTS
------------------------------

Additional comments from tester:

this report is from an automated smoke testing program
and was not reviewed by a human for accuracy

------------------------------
PROGRAM OUTPUT
------------------------------

Output from './Build test':

### starting mysqld...skip.
### starting postgresql...skip.
t/00_compile.t ................ ok
t/01_accessors.t .............. ok
t/10_simple.t ................. skipped: Test requires module 'DBD::SQLite' but it's not found
t/11_bind.t ................... skipped: Test requires module 'DBD::SQLite' but it's not found
t/12_skip_bind.t .............. skipped: Test requires module 'DBD::SQLite' but it's not found
t/13_threshold.t .............. skipped: Test requires module 'DBD::SQLite' but it's not found
t/14_probability.t ............ skipped: Test requires module 'DBD::SQLite' but it's not found
t/15_selectrow_array.t ........ skipped: Test requires module 'DBD::SQLite' but it's not found
t/16_multi_line.t ............. skipped: Test requires module 'DBD::SQLite' but it's not found
t/18_bind_param.t ............. skipped: Test requires module 'DBD::SQLite' but it's not found
t/20_localizetion.t ........... skipped: Test requires module 'DBD::SQLite' but it's not found
t/21_guard.t .................. skipped: Test requires module 'DBD::SQLite' but it's not found
t/22_ignore_trace.t ........... skipped: Test requires module 'DBD::SQLite' but it's not found
t/23_do_explain.t ............. skipped: Test requires module 'DBD::SQLite' but it's not found
t/30_logger.t ................. skipped: Test requires module 'DBD::SQLite' but it's not found
t/31_output.t ................. skipped: Test requires module 'DBD::SQLite' but it's not found
t/32_color.t .................. skipped: Test requires module 'DBD::SQLite' but it's not found
t/33_useqq.t .................. skipped: Test requires module 'DBD::SQLite' but it's not found
t/34_compact.t ................ skipped: Test requires module 'DBD::SQLite' but it's not found
t/35_useqq_and_compact.t ...... skipped: Test requires module 'DBD::SQLite' but it's not found
t/36_show_data_srouce.t ....... skipped: Test requires module 'DBD::SQLite' but it's not found
t/90_alias.t .................. ok
t/99_regression_sqlite_148.t .. skipped: Test requires module 'DBD::SQLite' but it's not found
t/mysql/01_simple.t ........... skipped: Test requires module 'DBD::mysql' but it's not found
t/mysql/02_bind.t ............. skipped: Test requires module 'DBD::mysql' but it's not found
t/mysql/10_do.t ............... skipped: Test requires module 'DBD::mysql' but it's not found
t/mysql/11_do_dind.t .......... skipped: Test requires module 'DBD::mysql' but it's not found
t/mysql/12_do_skip_bind.t ..... skipped: Test requires module 'DBD::mysql' but it's not found
t/mysql/13_do_probability.t ... skipped: Test requires module 'DBD::mysql' but it's not found
t/mysql/14_do_logger.t ........ skipped: Test requires module 'DBD::mysql' but it's not found
t/mysql/15_selectrow_array.t .. skipped: Test requires module 'DBD::mysql' but it's not found
t/mysql/16_multi_line.t ....... skipped: Test requires module 'DBD::mysql' but it's not found
t/mysql/17_limit.t ............ skipped: Test requires module 'DBD::mysql' but it's not found
t/mysql/18_bind_param.t ....... skipped: Test requires module 'DBD::mysql' but it's not found
t/mysql/19_bind_with_type.t ... skipped: Test requires module 'DBD::mysql' but it's not found
t/mysql/20_reuse_sql_type.t ... skipped: Test requires module 'DBD::mysql' but it's not found
t/mysql/21_do_explain.t ....... skipped: Test requires module 'DBD::mysql' but it's not found
t/pg/01_simple.t .............. skipped: Test requires module 'DBD::Pg' but it's not found
t/pg/02_bind.t ................ skipped: Test requires module 'DBD::Pg' but it's not found
t/pg/10_do.t .................. skipped: Test requires module 'DBD::Pg' but it's not found
t/pg/11_do_dind.t ............. skipped: Test requires module 'DBD::Pg' but it's not found
t/pg/12_do_skip_bind.t ........ skipped: Test requires module 'DBD::Pg' but it's not found
t/pg/13_do_probability.t ...... skipped: Test requires module 'DBD::Pg' but it's not found
t/pg/14_do_logger.t ........... skipped: Test requires module 'DBD::Pg' but it's not found
t/pg/15_selectrow_array.t ..... skipped: Test requires module 'DBD::Pg' but it's not found
t/pg/16_multi_line.t .......... skipped: Test requires module 'DBD::Pg' but it's not found
t/pg/17_limit.t ............... skipped: Test requires module 'DBD::Pg' but it's not found
t/pg/18_bind_param.t .......... skipped: Test requires module 'DBD::Pg' but it's not found
t/pg/19_bind_with_type.t ...... skipped: Test requires module 'DBD::Pg' but it's not found
t/pg/20_reuse_sql_type.t ...... skipped: Test requires module 'DBD::Pg' but it's not found
t/pg/21_do_explain.t .......... skipped: Test requires module 'DBD::Pg' but it's not found
All tests successful.
Files=51, Tests=12, 3.2778 wallclock secs ( 0.18 usr  0.44 sys +  1.66 cusr  0.73 csys =  3.01 CPU)
Result: PASS

------------------------------
PREREQUISITES
------------------------------

Prerequisite modules loaded:

requires:

    Module              Need     Have    
    ------------------- -------- --------
    Data::Dumper        0        2.158   
    DBI                 0        1.633   
    perl                5.008001 5.023000
    Term::ANSIColor     0        4.03    
    Text::ASCIITable    0        0.20    
    Time::HiRes         0        1.9726  

build_requires:

    Module              Need     Have    
    ------------------- -------- --------
    ExtUtils::MakeMaker 6.59     7.04_01 
    Test::More          0.96     1.001014
    Test::Requires      0        0.10    

configure_requires:

    Module              Need     Have    
    ------------------- -------- --------
    Module::Build       0.38     0.4214  


------------------------------
ENVIRONMENT AND OTHER CONTEXT
------------------------------

Environment variables:

    AUTOMATED_TESTING = 1
    PATH = /home/perluser/perl5/perlbrew/bin:/home/perluser/perl5/perlbrew/perls/perl-5.23.0/bin:/sbin:/usr/sbin:/bin:/usr/bin:/usr/X11R6/bin:/usr/local/sbin:/usr/local/bin
    PERL5LIB = /home/perluser/.cpan/build/DBI-1.633-YwKV_e/blib/arch:/home/perluser/.cpan/build/DBI-1.633-YwKV_e/blib/lib:/home/perluser/.cpan/build/Text-ASCIITable-0.20-w1HhXz/blib/arch:/home/perluser/.cpan/build/Text-ASCIITable-0.20-w1HhXz/blib/lib:/home/perluser/.cpan/build/Test-Requires-0.10-VAu8Sn/blib/arch:/home/perluser/.cpan/build/Test-Requires-0.10-VAu8Sn/blib/lib
    PERL5OPT = 
    PERL5_CPANPLUS_IS_RUNNING = 30381
    PERL5_CPAN_IS_RUNNING = 30381
    PERL5_CPAN_IS_RUNNING_IN_RECURSION = 2307,30381
    PERLBREW_BASHRC_VERSION = 0.71
    PERLBREW_HOME = /home/perluser/.perlbrew
    PERLBREW_MANPATH = /home/perluser/perl5/perlbrew/perls/perl-5.23.0/man
    PERLBREW_PATH = /home/perluser/perl5/perlbrew/bin:/home/perluser/perl5/perlbrew/perls/perl-5.23.0/bin
    PERLBREW_PERL = perl-5.23.0
    PERLBREW_ROOT = /home/perluser/perl5/perlbrew
    PERLBREW_VERSION = 0.71
    PERL_CR_SMOKER_CURRENT = DBIx-QueryLog-0.41
    PERL_EXTUTILS_AUTOINSTALL = --defaultdeps
    PERL_MM_USE_DEFAULT = 1
    SHELL = /bin/ksh
    TERM = vt220

Perl special variables (and OS-specific diagnostics, for MSWin32):

    $^X = /home/perluser/perl5/perlbrew/perls/perl-5.23.0/bin/perl5.23.0
    $UID/$EUID = 1000 / 1000
    $GID = 1000 1000
    $EGID = 1000 1000

Perl module toolchain versions installed:

    Module              Have    
    ------------------- --------
    CPAN                2.11    
    CPAN::Meta          2.150005
    Cwd                 3.56    
    ExtUtils::CBuilder  0.280223
    ExtUtils::Command   1.20    
    ExtUtils::Install   2.04    
    ExtUtils::MakeMaker 7.04_01 
    ExtUtils::Manifest  1.70    
    ExtUtils::ParseXS   3.28    
    File::Spec          3.56    
    JSON                2.90    
    JSON::PP            2.27300 
    Module::Build       0.4214  
    Module::Signature   n/a     
    Parse::CPAN::Meta   1.4417  
    Test::Harness       3.35    
    Test::More          1.001014
    YAML                1.15    
    YAML::Syck          1.29    
    version             0.9909  


--

Summary of my perl5 (revision 5 version 23 subversion 0) configuration:
   
  Platform:
    osname=openbsd, osvers=5.5, archname=OpenBSD.amd64-openbsd
    uname='openbsd openbsd-test.manor.solimano.org 5.5 generic#271 amd64 '
    config_args='-de -Dprefix=/home/perluser/perl5/perlbrew/perls/perl-5.23.0 -Dusedevel -Aeval:scriptdir=/home/perluser/perl5/perlbrew/perls/perl-5.23.0/bin'
    hint=recommended, useposix=true, d_sigaction=define
    useithreads=undef, usemultiplicity=undef
    use64bitint=define, use64bitall=define, uselongdouble=undef
    usemymalloc=n, bincompat5005=undef
  Compiler:
    cc='cc', ccflags ='-fno-strict-aliasing -pipe -fstack-protector-strong -I/usr/local/include -D_FORTIFY_SOURCE=2',
    optimize='-O2',
    cppflags='-fno-strict-aliasing -pipe -fstack-protector-strong -I/usr/local/include'
    ccversion='', gccversion='4.2.1 20070719 ', gccosandvers='openbsd5.5'
    intsize=4, longsize=8, ptrsize=8, doublesize=8, byteorder=12345678, doublekind=3
    d_longlong=define, longlongsize=8, d_longdbl=define, longdblsize=16, longdblkind=3
    ivtype='long', ivsize=8, nvtype='double', nvsize=8, Off_t='off_t', lseeksize=8
    alignbytes=8, prototype=define
  Linker and Libraries:
    ld='cc', ldflags ='-Wl,-E  -fstack-protector-strong -L/usr/local/lib'
    libpth=/usr/lib /usr/local/lib
    libs=-lpthread -lm -lutil -lc
    perllibs=-lpthread -lm -lutil -lc
    libc=/usr/lib/libc.so.73.1, so=so, useshrplib=false, libperl=libperl.a
    gnulibc_version=''
  Dynamic Linking:
    dlsrc=dl_dlopen.xs, dlext=so, d_dlsymun=undef, ccdlflags=' '
    cccdlflags='-DPIC -fPIC ', lddlflags='-shared -fPIC  -L/usr/local/lib -fstack-protector-strong'


Characteristics of this binary (from libperl): 
  Compile-time options: HAS_TIMES PERLIO_LAYERS PERL_DONT_CREATE_GVSV
                        PERL_HASH_FUNC_ONE_AT_A_TIME_HARD PERL_MALLOC_WRAP
                        PERL_NEW_COPY_ON_WRITE PERL_PRESERVE_IVUV
                        PERL_USE_DEVEL USE_64_BIT_ALL USE_64_BIT_INT
                        USE_LARGE_FILES USE_LOCALE USE_LOCALE_COLLATE
                        USE_LOCALE_CTYPE USE_LOCALE_NUMERIC USE_LOCALE_TIME
                        USE_PERLIO USE_PERL_ATOF
  Locally applied patches:
	Devel::PatchPerl 1.30
  Built under openbsd
  Compiled at Jul  4 2015 00:40:29
  %ENV:
    PERL5LIB="/home/perluser/.cpan/build/DBI-1.633-YwKV_e/blib/arch:/home/perluser/.cpan/build/DBI-1.633-YwKV_e/blib/lib:/home/perluser/.cpan/build/Text-ASCIITable-0.20-w1HhXz/blib/arch:/home/perluser/.cpan/build/Text-ASCIITable-0.20-w1HhXz/blib/lib:/home/perluser/.cpan/build/Test-Requires-0.10-VAu8Sn/blib/arch:/home/perluser/.cpan/build/Test-Requires-0.10-VAu8Sn/blib/lib"
    PERL5OPT=""
    PERL5_CPANPLUS_IS_RUNNING="30381"
    PERL5_CPAN_IS_RUNNING="30381"
    PERL5_CPAN_IS_RUNNING_IN_RECURSION="2307,30381"
    PERLBREW_BASHRC_VERSION="0.71"
    PERLBREW_HOME="/home/perluser/.perlbrew"
    PERLBREW_MANPATH="/home/perluser/perl5/perlbrew/perls/perl-5.23.0/man"
    PERLBREW_PATH="/home/perluser/perl5/perlbrew/bin:/home/perluser/perl5/perlbrew/perls/perl-5.23.0/bin"
    PERLBREW_PERL="perl-5.23.0"
    PERLBREW_ROOT="/home/perluser/perl5/perlbrew"
    PERLBREW_VERSION="0.71"
    PERL_CR_SMOKER_CURRENT="DBIx-QueryLog-0.41"
    PERL_EXTUTILS_AUTOINSTALL="--defaultdeps"
    PERL_MM_USE_DEFAULT="1"
  @INC:
    /home/perluser/.cpan/build/DBI-1.633-YwKV_e/blib/arch
    /home/perluser/.cpan/build/DBI-1.633-YwKV_e/blib/lib
    /home/perluser/.cpan/build/Text-ASCIITable-0.20-w1HhXz/blib/arch
    /home/perluser/.cpan/build/Text-ASCIITable-0.20-w1HhXz/blib/lib
    /home/perluser/.cpan/build/Test-Requires-0.10-VAu8Sn/blib/arch
    /home/perluser/.cpan/build/Test-Requires-0.10-VAu8Sn/blib/lib
    /home/perluser/perl5/perlbrew/perls/perl-5.23.0/lib/site_perl/5.23.0/OpenBSD.amd64-openbsd
    /home/perluser/perl5/perlbrew/perls/perl-5.23.0/lib/site_perl/5.23.0
    /home/perluser/perl5/perlbrew/perls/perl-5.23.0/lib/5.23.0/OpenBSD.amd64-openbsd
    /home/perluser/perl5/perlbrew/perls/perl-5.23.0/lib/5.23.0
    .