Catalyst-Model-LDAP v0.17 Perl 5 v5.13.3 x86_64-linux-thread-multi-ld
- Status
- Pass
- From
- Andreas J. König (ANDK)
- Dist
-
Catalyst-Model-LDAP v0.17
- Platform
- Perl 5 v5.13.3 x86_64-linux-thread-multi-ld
- Date
- 2010-08-13 15:30:03
- ID
- a49b7f96-a6ef-11df-a7c5-db1e984c9764
This distribution has been tested as part of the CPAN Testers
project, supporting the Perl programming language. See
http://wiki.cpantesters.org/ for more information or email
questions to cpan-testers-discuss@perl.org
--
Dear Daniel Westermann-Clark,
This is a computer-generated report for Catalyst-Model-LDAP-0.17
on perl 5.13.3, created by CPAN-Reporter-1.18.
Thank you for uploading your work to CPAN. Congratulations!
All tests were successful.
Sections of this report:
* Tester comments
* Program output
* Prerequisites
* Environment and other context
------------------------------
TESTER COMMENTS
------------------------------
Additional comments from tester:
this report is from an automated smoke testing program
and was not reviewed by a human for accuracy
------------------------------
PROGRAM OUTPUT
------------------------------
Output from '/usr/bin/make test':
PERL_DL_NONLAZY=1 /home/src/perl/repoperls/installed-perls/perl/v5.13.3-164-g45f6403/bin/perl "-MExtUtils::Command::MM" "-e" "test_harness(0, 'inc', 'blib/lib', 'blib/arch')" t/*.t
t/01use.t ......................... ok
t/02pod.t ......................... skipped: set TEST_POD to enable this test
t/03podcoverage.t ................. skipped: set TEST_POD to enable this test
t/live_inherited_component.t ...... skipped: set TEST_AUTHOR to enable this test
t/live_search.t ................... skipped: set TEST_AUTHOR to enable this test
t/unit_Connection.t ............... skipped: set TEST_AUTHOR to enable this test
t/unit_Connection_bind.t .......... skipped: set TEST_AUTHOR, LDAP_BINDDN, and LDAP_PASSWORD to enable this test
t/unit_Connection_search.t ........ skipped: set TEST_AUTHOR to enable this test
t/unit_Connection_search_limit.t .. skipped: set TEST_AUTHOR to enable this test
t/unit_Entry.t .................... ok
All tests successful.
Files=10, Tests=8, 3 wallclock secs ( 0.03 usr 0.03 sys + 2.65 cusr 0.16 csys = 2.87 CPU)
Result: PASS
------------------------------
PREREQUISITES
------------------------------
Prerequisite modules loaded:
requires:
Module Need Have
------------------------ ---- -------
Carp 0 1.18
Catalyst 5.62 5.80025
Catalyst::Model 0 0
Catalyst::Test 0 0
Class::Accessor::Fast 0 0.34
Data::Dumper 0 2.126
Data::Page 0 2.02
ExtUtils::MakeMaker 6.42 6.5601
FindBin 0 1.50
MRO::Compat 0 0.11
Net::LDAP 0.34 0.4001
Net::LDAP::Constant 0 0.08
Net::LDAP::Control::Sort 0 0.02
Net::LDAP::Control::VLV 0 0.03
Net::LDAP::Entry 0 0.24
Net::LDAP::Search 0 0.13
Test::More 0 0.96
configure_requires:
Module Need Have
------------------------ ---- -------
ExtUtils::MakeMaker 6.42 6.5601
------------------------------
ENVIRONMENT AND OTHER CONTEXT
------------------------------
Environment variables:
AUTOMATED_TESTING = 1
LANG = en_US.UTF-8
PATH = /home/sand/bin:/usr/local/bin:/usr/bin:/bin:/usr/bin/X11:/usr/games:/usr/local/perl/bin:/usr/X11/bin:/sbin:/usr/sbin
PERL5LIB =
PERL5OPT =
PERL5_CPANPLUS_IS_RUNNING = 2853
PERL5_CPAN_IS_RUNNING = 2853
PERL_MM_USE_DEFAULT = 1
SHELL = /usr/bin/zsh
TERM = screen
Perl special variables (and OS-specific diagnostics, for MSWin32):
$^X = /home/src/perl/repoperls/installed-perls/perl/v5.13.3-164-g45f6403/bin/perl
$UID/$EUID = 1001 / 1001
$GID = 1001 1001
$EGID = 1001 1001
Perl module toolchain versions installed:
Module Have
------------------- -------
CPAN 1.94_57
Cwd 3.31
ExtUtils::CBuilder 0.2703
ExtUtils::Command 1.16
ExtUtils::Install 1.55
ExtUtils::MakeMaker 6.5601
ExtUtils::Manifest 1.58
ExtUtils::ParseXS 2.2207
File::Spec 3.31_01
Module::Build 0.3607
Module::Signature 0.64
Test::Harness 3.21
Test::More 0.96
YAML 0.71
YAML::Syck 1.12
version 0.82
--
Summary of my perl5 (revision 5 version 13 subversion 3) configuration:
Commit id: 45f6403b40da58011eab17ad0159b353c7d92509
Platform:
osname=linux, osvers=2.6.32-2-amd64, archname=x86_64-linux-thread-multi-ld
uname='linux k81 2.6.32-2-amd64 #1 smp fri feb 12 00:01:47 utc 2010 x86_64 gnulinux '
config_args='-Dprefix=/home/src/perl/repoperls/installed-perls/perl/v5.13.3-164-g45f6403 -Dinstallusrbinperl=n -Uversiononly -Dusedevel -des -Ui_db -Duseithreads -Duselongdouble'
hint=recommended, useposix=true, d_sigaction=define
useithreads=define, usemultiplicity=define
useperlio=define, d_sfio=undef, uselargefiles=define, usesocks=undef
use64bitint=define, use64bitall=define, uselongdouble=define
usemymalloc=n, bincompat5005=undef
Compiler:
cc='cc', ccflags ='-D_REENTRANT -D_GNU_SOURCE -fno-strict-aliasing -pipe -fstack-protector -I/usr/local/include -D_LARGEFILE_SOURCE -D_FILE_OFFSET_BITS=64',
optimize='-O2',
cppflags='-D_REENTRANT -D_GNU_SOURCE -fno-strict-aliasing -pipe -fstack-protector -I/usr/local/include'
ccversion='', gccversion='4.4.4', gccosandvers=''
intsize=4, longsize=8, ptrsize=8, doublesize=8, byteorder=12345678
d_longlong=define, longlongsize=8, d_longdbl=define, longdblsize=16
ivtype='long', ivsize=8, nvtype='long double', nvsize=16, Off_t='off_t', lseeksize=8
alignbytes=16, prototype=define
Linker and Libraries:
ld='cc', ldflags =' -fstack-protector -L/usr/local/lib'
libpth=/usr/local/lib /lib /usr/lib /lib64 /usr/lib64
libs=-lnsl -lgdbm -ldb -ldl -lm -lcrypt -lutil -lpthread -lc -lgdbm_compat
perllibs=-lnsl -ldl -lm -lcrypt -lutil -lpthread -lc
libc=/lib/libc-2.11.2.so, so=so, useshrplib=false, libperl=libperl.a
gnulibc_version='2.11.2'
Dynamic Linking:
dlsrc=dl_dlopen.xs, dlext=so, d_dlsymun=undef, ccdlflags='-Wl,-E'
cccdlflags='-fPIC', lddlflags='-shared -O2 -L/usr/local/lib -fstack-protector'
Characteristics of this binary (from libperl):
Compile-time options: MULTIPLICITY PERL_DONT_CREATE_GVSV
PERL_IMPLICIT_CONTEXT PERL_MALLOC_WRAP PERL_USE_DEVEL
USE_64_BIT_ALL USE_64_BIT_INT USE_ITHREADS
USE_LARGE_FILES USE_LONG_DOUBLE USE_PERLIO
USE_PERL_ATOF USE_REENTRANT_API
Built under linux
Compiled at Aug 7 2010 08:48:19
%ENV:
PERL5LIB=""
PERL5OPT=""
PERL5_CPANPLUS_IS_RUNNING="2853"
PERL5_CPAN_IS_RUNNING="2853"
PERL_MM_USE_DEFAULT="1"
@INC:
/home/src/perl/repoperls/installed-perls/perl/v5.13.3-164-g45f6403/lib/site_perl/5.13.3/x86_64-linux-thread-multi-ld
/home/src/perl/repoperls/installed-perls/perl/v5.13.3-164-g45f6403/lib/site_perl/5.13.3
/home/src/perl/repoperls/installed-perls/perl/v5.13.3-164-g45f6403/lib/5.13.3/x86_64-linux-thread-multi-ld
/home/src/perl/repoperls/installed-perls/perl/v5.13.3-164-g45f6403/lib/5.13.3
.