Report for Apache-Admin-Config-0.95

Back
From: metabase:user:e7f7dec2-b051-11df-bd1d-025b7965fceb
Subject: PASS Apache-Admin-Config-0.95 v5.12.2 Mac OS X
Date: 2011-12-10T13:27:01Z

This distribution has been tested as part of the CPAN Testers
project, supporting the Perl programming language.  See
http://wiki.cpantesters.org/ for more information or email
questions to cpan-testers-discuss@perl.org


--
Dear Mark Whittington,

This is a computer-generated report for Apache-Admin-Config-0.95
on perl 5.12.2, created by CPAN-Reporter-1.1902.

Thank you for uploading your work to CPAN.  Congratulations!
All tests were successful.

Sections of this report:

    * Tester comments
    * Program output
    * Prerequisites
    * Environment and other context

------------------------------
TESTER COMMENTS
------------------------------

Additional comments from tester:

none provided

------------------------------
PROGRAM OUTPUT
------------------------------

Output from '/usr/bin/make test':

PERL_DL_NONLAZY=1 /alt/local/bin/perl "-MExtUtils::Command::MM" "-e" "test_harness(0, 'blib/lib', 'blib/arch')" t/*.t
t/comment.t ........... ok
t/comment_delete.t .... ok
t/comment_insert.t .... ok
t/directive.t ......... ok
t/directive_delete.t .. ok
t/directive_insert.t .. ok
t/handle.t ............ ok
t/isin.t .............. ok
t/save.t .............. ok
t/section.t ........... ok
t/section_delete.t .... ok
t/section_insert.t .... ok
t/value.t ............. ok
All tests successful.
Files=13, Tests=1042,  1 wallclock secs ( 0.15 usr  0.05 sys +  0.61 cusr  0.10 csys =  0.91 CPU)
Result: PASS

------------------------------
PREREQUISITES
------------------------------

Prerequisite modules loaded:

requires:

    Module              Need Have
    ------------------- ---- ----
    FileHandle          2    2.02

build_requires:

    Module              Need Have
    ------------------- ---- ----
    ExtUtils::MakeMaker 0    6.58


------------------------------
ENVIRONMENT AND OTHER CONTEXT
------------------------------

Environment variables:

    LANG = en_GB.UTF-8
    LC_CTYPE = en_US.UTF-8
    PATH = /Users/andy/bin/Darwin:/Users/andy/bin:/Users/andy/Dropbox/bin:/alt/local/bin:/opt/local/bin:/opt/local/lib/postgresql90/bin:/usr/local/apache2/bin:/usr/local/apache2/php/bin:/usr/local/bin:/usr/bin:/bin:/usr/sbin:/sbin:/usr/X11/bin:/Developer/usr/bin
    PERL5LIB = 
    PERL5OPT = 
    PERL5_CPANPLUS_IS_RUNNING = 38492
    PERL5_CPAN_IS_RUNNING = 38492
    SHELL = /bin/bash
    TERM = xterm-256color
    TMPDIR = /var/folders/m5/269pl1lx4v745ppgrqngt4080000gr/T/

Perl special variables (and OS-specific diagnostics, for MSWin32):

    $^X = /alt/local/bin/perl
    $UID/$EUID = 504 / 504
    $GID = 20 20 402 405 12 33 61 79 80 81 98 100 204 401 404
    $EGID = 20 20 402 405 12 33 61 79 80 81 98 100 204 401 404

Perl module toolchain versions installed:

    Module              Have    
    ------------------- --------
    CPAN                1.9600  
    Cwd                 3.33    
    ExtUtils::CBuilder  0.280202
    ExtUtils::Command   1.16    
    ExtUtils::Install   1.55    
    ExtUtils::MakeMaker 6.58    
    ExtUtils::Manifest  1.58    
    ExtUtils::ParseXS   2.2206  
    File::Spec          3.33    
    Module::Build       0.3800  
    Module::Signature   0.68    
    Test::Harness       3.23    
    Test::More          0.98    
    YAML                0.73    
    YAML::Syck          1.17    
    version             0.88    


--

Summary of my perl5 (revision 5 version 12 subversion 2) configuration:
   
  Platform:
    osname=darwin, osvers=10.4.0, archname=darwin-thread-multi-2level
    uname='darwin voodoo 10.4.0 darwin kernel version 10.4.0: fri apr 23 18:28:53 pdt 2010; root:xnu-1504.7.4~1release_i386 i386 '
    config_args='-de -Dusedevel -Dinc_version_list=none -Dprefix=/alt/local -Dldflags=-Dman3ext=3pm -Duseithreads -Duseshrplib -Uversiononly -Dusedtrace'
    hint=recommended, useposix=true, d_sigaction=define
    useithreads=define, usemultiplicity=define
    useperlio=define, d_sfio=undef, uselargefiles=define, usesocks=undef
    use64bitint=define, use64bitall=define, uselongdouble=undef
    usemymalloc=n, bincompat5005=undef
  Compiler:
    cc='cc', ccflags ='-fno-common -DPERL_DARWIN -no-cpp-precomp -fno-strict-aliasing -pipe -fstack-protector -I/usr/local/include -I/opt/local/include',
    optimize='-O3',
    cppflags='-no-cpp-precomp -fno-common -DPERL_DARWIN -no-cpp-precomp -fno-strict-aliasing -pipe -fstack-protector -I/usr/local/include -I/opt/local/include'
    ccversion='', gccversion='4.2.1 (Apple Inc. build 5659)', gccosandvers=''
    intsize=4, longsize=8, ptrsize=8, doublesize=8, byteorder=12345678
    d_longlong=define, longlongsize=8, d_longdbl=define, longdblsize=16
    ivtype='long', ivsize=8, nvtype='double', nvsize=8, Off_t='off_t', lseeksize=8
    alignbytes=8, prototype=define
  Linker and Libraries:
    ld='env MACOSX_DEPLOYMENT_TARGET=10.3 cc', ldflags ='-Dman3ext=3pm -fstack-protector -L/usr/local/lib -L/opt/local/lib'
    libpth=/usr/local/lib /opt/local/lib /usr/lib
    libs=-lgdbm -ldbm -ldl -lm -lutil -lc
    perllibs=-ldl -lm -lutil -lc
    libc=/usr/lib/libc.dylib, so=dylib, useshrplib=true, libperl=libperl.dylib
    gnulibc_version=''
  Dynamic Linking:
    dlsrc=dl_dlopen.xs, dlext=bundle, d_dlsymun=undef, ccdlflags=' '
    cccdlflags=' ', lddlflags='-Dman3ext=3pm -bundle -undefined dynamic_lookup -L/usr/local/lib -L/opt/local/lib -fstack-protector'


Characteristics of this binary (from libperl): 
  Compile-time options: MULTIPLICITY PERL_DONT_CREATE_GVSV
                        PERL_IMPLICIT_CONTEXT PERL_MALLOC_WRAP PERL_USE_DEVEL
                        USE_64_BIT_ALL USE_64_BIT_INT USE_ITHREADS
                        USE_LARGE_FILES USE_PERLIO USE_PERL_ATOF
                        USE_REENTRANT_API
  Built under darwin
  Compiled at Sep 19 2010 15:23:58
  %ENV:
    PERL5LIB=""
    PERL5OPT=""
    PERL5_CPANPLUS_IS_RUNNING="38492"
    PERL5_CPAN_IS_RUNNING="38492"
  @INC:
    /alt/local/lib/perl5/site_perl/5.12.2/darwin-thread-multi-2level
    /alt/local/lib/perl5/site_perl/5.12.2
    /alt/local/lib/perl5/5.12.2/darwin-thread-multi-2level
    /alt/local/lib/perl5/5.12.2
    .