Scalar-Does v0.203 Perl 5 v5.33.3 cygwin-thread-multi
- Status
- Pass
- From
- Carlos Guevara
- Dist
-
Scalar-Does v0.203
- Platform
- Perl 5 v5.33.3 cygwin-thread-multi
- Date
- 2020-09-21 22:32:14
- ID
- a4c11fd5-6c44-1014-9285-0b44e381af51
This distribution has been tested as part of the CPAN Testers
project, supporting the Perl programming language. See
http://wiki.cpantesters.org/ for more information or email
questions to cpan-testers-discuss@perl.org
--
Dear Toby Inkster,
This is a computer-generated report for Scalar-Does-0.203
on perl 5.33.3, created by CPAN-Reporter-1.2018.
Thank you for uploading your work to CPAN. Congratulations!
All tests were successful.
Sections of this report:
* Tester comments
* Program output
* Prerequisites
* Environment and other context
------------------------------
TESTER COMMENTS
------------------------------
Additional comments from tester:
this report is from an automated smoke testing program
and was not reviewed by a human for accuracy
------------------------------
PROGRAM OUTPUT
------------------------------
Output from '/usr/bin/make test':
PERL_DL_NONLAZY=1 "/home/cpan/bin/perl-blead/bin/perl5.33.3.exe" "-MExtUtils::Command::MM" "-MTest::Harness" "-e" "undef *Test::Harness::Switches; test_harness(0, 'blib/lib', 'blib/arch')" t/*.t
t/01basic.t ............ ok
t/02does.t ............. ok
t/03moosey.t ........... skipped: Test requires module 'Moose' but it's not found
t/04cleanliness.t ...... ok
t/05custom.t ........... ok
t/06constants.t ........ ok
t/07makerole.t ......... ok
t/08mooselike.t ........ ok
t/09warnings.t ......... ok
t/10underscore.t ....... skipped: skipping lexical $_ test in Perl >= 5.17
t/11givenwhen.t ........ skipped: skipping given/when test in Perl >= 5.17
t/iod-01basic.t ........ ok
t/iod-02filehandles.t .. skipped: only works on Linux
t/iod-03filenames.t .... ok
t/iod-04fileuris.t ..... ok
t/iod-05ducktype.t ..... ok
t/iod-06asfh.t ......... ok
t/iod-11ioall.t ........ skipped: Test requires module 'IO::All' but it's not found
t/iod-12pathclass.t .... skipped: Test requires module 'Path::Class' but it's not found
t/iod-13pathtiny.t ..... ok
All tests successful.
Files=20, Tests=223, 11 wallclock secs ( 0.20 usr 0.12 sys + 3.97 cusr 5.00 csys = 9.30 CPU)
Result: PASS
------------------------------
PREREQUISITES
------------------------------
Prerequisite modules loaded:
requires:
Module Need Have
------------------- ----- --------
Exporter::Tiny 0.026 1.002002
lexical::underscore 0 0.004
namespace::clean 0.19 0.27
perl 5.008 5.033003
Scalar::Util 1.24 1.55
Type::Tiny 0.004 1.010006
URI::file 0 4.21
build_requires:
Module Need Have
------------------- ----- --------
Test::More 0.96 1.302181
Test::NoWarnings 0 1.04
Test::Requires 0.06 0.11
URI 0 1.76
configure_requires:
Module Need Have
------------------- ----- --------
ExtUtils::MakeMaker 6.17 7.44
------------------------------
ENVIRONMENT AND OTHER CONTEXT
------------------------------
Environment variables:
AUTOMATED_TESTING = 1
COMSPEC = C:\Windows\system32\cmd.exe
DATE_MANIP_TEST_DM5 = 1
LANG = en_US.UTF-8
LC_ALL = C
NONINTERACTIVE_TESTING = 1
NUMBER_OF_PROCESSORS = 1
PATH = /home/cpan/bin/perl-blead/bin:/home/cpan/bin:/usr/local/bin:/usr/bin:/cygdrive/c/Windows/system32:/cygdrive/c/Windows:/cygdrive/c/Windows/System32/Wbem:/cygdrive/c/Windows/System32/WindowsPowerShell/v1.0:/cygdrive/c/Users/cpan/AppData/Local/Microsoft/WindowsApps
PERL5LIB =
PERL5OPT =
PERL5_CPANPLUS_IS_RUNNING = 39596
PERL5_CPAN_IS_RUNNING = 39596
PERL_MM_USE_DEFAULT = 1
PERL_USE_UNSAFE_INC = 1
PERL_VERSION = blead
PROCESSOR_IDENTIFIER = Intel64 Family 6 Model 61 Stepping 2, GenuineIntel
SHELL = /bin/bash
TEMP = /tmp
TERM = xterm
TMPDIR = /home/cpan/tmp
Perl special variables (and OS-specific diagnostics, for MSWin32):
$^X = /home/cpan/bin/perl-blead/bin/perl5.33.3
$UID/$EUID = 197609 / 197609
$GID = 197121 197121 555 545 14 4 11 15 113 4095 66048 262154 401408
$EGID = 197121 197121 555 545 14 4 11 15 113 4095 66048 262154 401408
Perl module toolchain versions installed:
Module Have
------------------- --------
CPAN 2.27
CPAN::Meta 2.150010
Cwd 3.78
ExtUtils::CBuilder 0.280234
ExtUtils::Command 7.44
ExtUtils::Install 2.18
ExtUtils::MakeMaker 7.44
ExtUtils::Manifest 1.72
ExtUtils::ParseXS 3.41
File::Spec 3.78
JSON n/a
JSON::PP 4.05
Module::Build 0.4231
Module::Signature n/a
Parse::CPAN::Meta 2.150010
Test::Harness 3.42
Test::More 1.302181
YAML n/a
YAML::Syck n/a
version 0.9924
--
Summary of my perl5 (revision 5 version 33 subversion 3) configuration:
Commit id: 2adfde9e14b336c8266d84ba513fb119f028c1ab
Platform:
osname=cygwin
osvers=3.1.7(0.34053)
archname=cygwin-thread-multi
uname='cygwin_nt-10.0 cjg-cygwin 3.1.7(0.34053) 2020-08-22 17:48 x86_64 cygwin '
config_args='-des -Dprefix=~/bin/perl-blead -Dscriptdir=~/bin/perl-blead/bin -Dusedevel -Duse64bitall'
hint=recommended
useposix=true
d_sigaction=define
useithreads=define
usemultiplicity=define
use64bitint=define
use64bitall=define
uselongdouble=undef
usemymalloc=n
default_inc_excludes_dot=define
Compiler:
cc='gcc'
ccflags ='-DPERL_USE_SAFE_PUTENV -U__STRICT_ANSI__ -D_GNU_SOURCE -fwrapv -fno-strict-aliasing -pipe -fstack-protector-strong -D_FORTIFY_SOURCE=2'
optimize='-O3'
cppflags='-DPERL_USE_SAFE_PUTENV -U__STRICT_ANSI__ -D_GNU_SOURCE -fwrapv -fno-strict-aliasing -pipe -fstack-protector-strong'
ccversion=''
gccversion='10.2.0'
gccosandvers=''
intsize=4
longsize=8
ptrsize=8
doublesize=8
byteorder=12345678
doublekind=3
d_longlong=define
longlongsize=8
d_longdbl=define
longdblsize=16
longdblkind=3
ivtype='long'
ivsize=8
nvtype='double'
nvsize=8
Off_t='off_t'
lseeksize=8
alignbytes=8
prototype=define
Linker and Libraries:
ld='g++'
ldflags =' -Wl,--enable-auto-import -Wl,--export-all-symbols -Wl,--enable-auto-image-base -fstack-protector-strong -L/usr/local/lib'
libpth=/usr/lib /usr/lib/gcc/x86_64-pc-cygwin/10/../../../../lib/../include/w32api /usr/local/lib /lib
libs=-lpthread -ldl
perllibs=-lpthread -ldl
libc=/usr/lib/libc.a
so=dll
useshrplib=true
libperl=cygperl5_33_3.dll
gnulibc_version=''
Dynamic Linking:
dlsrc=dl_dlopen.xs
dlext=dll
d_dlsymun=undef
ccdlflags=' '
cccdlflags=' '
lddlflags=' --shared -Wl,--enable-auto-import -Wl,--export-all-symbols -Wl,--enable-auto-image-base -L/usr/local/lib -fstack-protector-strong'
Characteristics of this binary (from libperl):
Compile-time options:
HAS_TIMES
MULTIPLICITY
PERLIO_LAYERS
PERL_COPY_ON_WRITE
PERL_DONT_CREATE_GVSV
PERL_IMPLICIT_CONTEXT
PERL_MALLOC_WRAP
PERL_OP_PARENT
PERL_PRESERVE_IVUV
PERL_USE_DEVEL
PERL_USE_SAFE_PUTENV
USE_64_BIT_ALL
USE_64_BIT_INT
USE_ITHREADS
USE_LARGE_FILES
USE_LOCALE
USE_LOCALE_COLLATE
USE_LOCALE_CTYPE
USE_LOCALE_NUMERIC
USE_LOCALE_TIME
USE_PERLIO
USE_PERL_ATOF
USE_REENTRANT_API
USE_THREAD_SAFE_LOCALE
Built under cygwin
Compiled at Sep 21 2020 16:32:00
%ENV:
PERL5LIB=""
PERL5OPT=""
PERL5_CPANPLUS_IS_RUNNING="39596"
PERL5_CPAN_IS_RUNNING="39596"
PERL_MM_USE_DEFAULT="1"
PERL_USE_UNSAFE_INC="1"
PERL_VERSION="blead"
@INC:
/home/cpan/bin/perl-blead/lib/site_perl/5.33.3/cygwin-thread-multi
/home/cpan/bin/perl-blead/lib/site_perl/5.33.3
/home/cpan/bin/perl-blead/lib/5.33.3/cygwin-thread-multi
/home/cpan/bin/perl-blead/lib/5.33.3
.