Report for Net-SFTP-Foreign-Exceptional-0.011

Back
From: metabase:user:9820532a-708b-1014-9a05-b18a96298da1
Subject: PASS Net-SFTP-Foreign-Exceptional-0.011 v5.15.2 GNU/Linux
Date: 2011-08-27T18:01:52Z

This distribution has been tested as part of the CPAN Testers
project, supporting the Perl programming language.  See
http://wiki.cpantesters.org/ for more information or email
questions to cpan-testers-discuss@perl.org


--

Dear MJGARDNER,

This is a computer-generated error report created automatically by
CPANPLUS, version 0.9109. Testers personal comments may appear
at the end of this report.

MAKE TEST passed: PERL_DL_NONLAZY=1 /home/bri/perl5/perlbrew/perls/perl-5.15.2/bin/perl5.15.2 "-MExtUtils::Command::MM" "-e" "test_harness(0, 'blib/lib', 'blib/arch')" t/*.t
t/00-compile.t ............... ok
# Testing with Perl 5.015002, /home/bri/perl5/perlbrew/perls/perl-5.15.2/bin/perl5.15.2
#     Any::Moose version is 0.15
#     Carp version is 1.21
#     English version is 1.04
#     ExtUtils::MakeMaker version is 6.59
#     File::Find version is 1.20
#     File::Temp version is 0.22
#     Net::SFTP::Foreign version is 1.67
#     Package::DeprecationManager version is 0.11
#     Scalar::Util version is 1.23
#     Test::Deep version is 0.108
#     Test::More version is 0.98
#     Test::Most version is 0.25
#     strict version is 1.04
#     utf8 version is 1.09
#     warnings version is 1.12
t/000-report-versions.t ...... ok
t/api.t ...................... ok
t/author-critic.t ............ skipped: these tests are for testing by the author
ssh: Could not resolve hostname sftp.invalid: Name or service not known
t/deprecation.t .............. ok
Use the autodie parameter to Net::SFTP::Foreign directly. at /home/bri/.cpanplus/5.15.2/build/Net-SFTP-Foreign-Exceptional-0.011/blib/lib/Net/SFTP/Foreign/Exceptional.pm line 32
	Net::SFTP::Foreign::Exceptional::__ANON__() called at /home/bri/perl5/perlbrew/perls/perl-5.15.2/lib/site_perl/5.15.2/i686-linux/Mouse/Meta/Class.pm line 381
	Mouse::Meta::Class::__ANON__() called at /home/bri/perl5/perlbrew/perls/perl-5.15.2/lib/site_perl/5.15.2/i686-linux/Mouse/Meta/Class.pm line 334
	Net::SFTP::Foreign::Exceptional::BUILDARGS() called at t/exception.t line 12
	eval {...} called at t/exception.t line 12
	Test::Exception::dies_ok() called at t/exception.t line 13
ssh: Could not resolve hostname sftp.invalid: Name or service not known
t/exception.t ................ ok
t/release-cpan-changes.t ..... skipped: these tests are for release candidate testing
t/release-dist-manifest.t .... skipped: these tests are for release candidate testing
t/release-distmeta.t ......... skipped: these tests are for release candidate testing
t/release-eol.t .............. skipped: these tests are for release candidate testing
t/release-kwalitee.t ......... skipped: these tests are for release candidate testing
t/release-meta-json.t ........ skipped: these tests are for release candidate testing
t/release-minimum-version.t .. skipped: these tests are for release candidate testing
t/release-mojibake.t ......... skipped: these tests are for release candidate testing
t/release-no-tabs.t .......... skipped: these tests are for release candidate testing
t/release-pod-coverage.t ..... skipped: these tests are for release candidate testing
t/release-pod-linkcheck.t .... skipped: these tests are for release candidate testing
t/release-pod-syntax.t ....... skipped: these tests are for release candidate testing
t/release-portability.t ...... skipped: these tests are for release candidate testing
t/release-synopsis.t ......... skipped: these tests are for release candidate testing
t/release-test-version.t ..... skipped: these tests are for release candidate testing
t/release-unused-vars.t ...... skipped: these tests are for release candidate testing
All tests successful.
Files=22, Tests=20,  3 wallclock secs ( 0.08 usr  0.02 sys +  2.55 cusr  0.18 csys =  2.83 CPU)
Result: PASS

[MSG] [Sat Aug 27 19:01:52 2011] Sending test report for 'Net-SFTP-Foreign-Exceptional-0.011'

This report was machine-generated by CPANPLUS::Dist::YACSmoke 0.64.
Powered by minismokebox version 0.54

------------------------------
ENVIRONMENT AND OTHER CONTEXT
------------------------------

Environment variables:

    AUTOMATED_TESTING = 1
    LANG = C
    LANGUAGE = en_GB:en
    LC_ALL = C
    PATH = /home/bri/perl5/perlbrew/bin:/home/bri/perl5/perlbrew/perls/perl-5.12.4/bin:~/bin:/usr/local/sbin:/usr/local/bin:/usr/sbin:/usr/bin:/sbin:/bin:/usr/games
    PATH_WITHOUT_PERLBREW = ~/bin:/usr/local/sbin:/usr/local/bin:/usr/sbin:/usr/bin:/sbin:/bin:/usr/games
    PERL5LIB = :/home/bri/.cpanplus/5.15.2/build/Net-SFTP-Foreign-1.67/blib/lib:/home/bri/.cpanplus/5.15.2/build/Net-SFTP-Foreign-1.67/blib/arch:/home/bri/.cpanplus/5.15.2/build/Net-SFTP-Foreign-Exceptional-0.011/blib/lib:/home/bri/.cpanplus/5.15.2/build/Net-SFTP-Foreign-Exceptional-0.011/blib/arch
    PERL5_CPANPLUS_IS_RUNNING = 21927
    PERL5_CPANPLUS_IS_VERSION = 0.9109
    PERL5_MINISMOKEBOX = 0.54
    PERLBREW_HOME = /home/bri/.perlbrew
    PERLBREW_PATH = /home/bri/perl5/perlbrew/bin:/home/bri/perl5/perlbrew/perls/perl-5.12.4/bin
    PERLBREW_PERL = perl-5.12.4
    PERLBREW_ROOT = /home/bri/perl5/perlbrew
    PERLBREW_VERSION = 0.28
    PERL_CPANM_OPT = --prompt --mirror http://172.16.1.3/cpan/
    PERL_EXTUTILS_AUTOINSTALL = --defaultdeps
    PERL_MM_USE_DEFAULT = 1
    SHELL = /bin/bash
    TERM = linux

Perl special variables (and OS-specific diagnostics, for MSWin32):

    Perl: $^X = /home/bri/perl5/perlbrew/perls/perl-5.15.2/bin/perl5.15.2
    UID:  $<  = 1000
    EUID: $>  = 1000
    GID:  $(  = 1000 4 20 24 46 112 120 122 1000
    EGID: $)  = 1000 4 20 24 46 112 120 122 1000


-------------------------------


--

Summary of my perl5 (revision 5 version 15 subversion 2) configuration:
   
  Platform:
    osname=linux, osvers=2.6.38-11-generic, archname=i686-linux
    uname='linux lappy 2.6.38-11-generic #48-ubuntu smp fri jul 29 19:05:14 utc 2011 i686 i686 i386 gnulinux '
    config_args='-de -Dprefix=/home/bri/perl5/perlbrew/perls/perl-5.15.2 -Dusedevel'
    hint=recommended, useposix=true, d_sigaction=define
    useithreads=undef, usemultiplicity=undef
    useperlio=define, d_sfio=undef, uselargefiles=define, usesocks=undef
    use64bitint=undef, use64bitall=undef, uselongdouble=undef
    usemymalloc=n, bincompat5005=undef
  Compiler:
    cc='cc', ccflags ='-fno-strict-aliasing -pipe -fstack-protector -I/usr/local/include -D_LARGEFILE_SOURCE -D_FILE_OFFSET_BITS=64',
    optimize='-O2',
    cppflags='-fno-strict-aliasing -pipe -fstack-protector -I/usr/local/include'
    ccversion='', gccversion='4.5.2', gccosandvers=''
    intsize=4, longsize=4, ptrsize=4, doublesize=8, byteorder=1234
    d_longlong=define, longlongsize=8, d_longdbl=define, longdblsize=12
    ivtype='long', ivsize=4, nvtype='double', nvsize=8, Off_t='off_t', lseeksize=8
    alignbytes=4, prototype=define
  Linker and Libraries:
    ld='cc', ldflags =' -fstack-protector -L/usr/local/lib'
    libpth=/usr/local/lib /lib /usr/lib /usr/lib/i386-linux-gnu /usr/lib64
    libs=-lnsl -ldl -lm -lcrypt -lutil -lc
    perllibs=-lnsl -ldl -lm -lcrypt -lutil -lc
    libc=, so=so, useshrplib=false, libperl=libperl.a
    gnulibc_version='2.13'
  Dynamic Linking:
    dlsrc=dl_dlopen.xs, dlext=so, d_dlsymun=undef, ccdlflags='-Wl,-E'
    cccdlflags='-fPIC', lddlflags='-shared -O2 -L/usr/local/lib -fstack-protector'


Characteristics of this binary (from libperl): 
  Compile-time options: HAS_TIMES PERLIO_LAYERS PERL_DONT_CREATE_GVSV
                        PERL_MALLOC_WRAP PERL_PRESERVE_IVUV PERL_USE_DEVEL
                        USE_LARGE_FILES USE_LOCALE USE_LOCALE_COLLATE
                        USE_LOCALE_CTYPE USE_LOCALE_NUMERIC USE_PERLIO
                        USE_PERL_ATOF
  Built under linux
  Compiled at Aug 26 2011 17:14:20
  %ENV:
    PERL5LIB=":/home/bri/.cpanplus/5.15.2/build/Net-SFTP-Foreign-1.67/blib/lib:/home/bri/.cpanplus/5.15.2/build/Net-SFTP-Foreign-1.67/blib/arch:/home/bri/.cpanplus/5.15.2/build/Net-SFTP-Foreign-Exceptional-0.011/blib/lib:/home/bri/.cpanplus/5.15.2/build/Net-SFTP-Foreign-Exceptional-0.011/blib/arch"
    PERL5_CPANPLUS_IS_RUNNING="21927"
    PERL5_CPANPLUS_IS_VERSION="0.9109"
    PERL5_MINISMOKEBOX="0.54"
    PERLBREW_HOME="/home/bri/.perlbrew"
    PERLBREW_PATH="/home/bri/perl5/perlbrew/bin:/home/bri/perl5/perlbrew/perls/perl-5.12.4/bin"
    PERLBREW_PERL="perl-5.12.4"
    PERLBREW_ROOT="/home/bri/perl5/perlbrew"
    PERLBREW_VERSION="0.28"
    PERL_CPANM_OPT="--prompt --mirror http://172.16.1.3/cpan/"
    PERL_EXTUTILS_AUTOINSTALL="--defaultdeps"
    PERL_MM_USE_DEFAULT="1"
  @INC:
    /home/bri/.cpanplus/5.15.2/build/Net-SFTP-Foreign-1.67/blib/lib
    /home/bri/.cpanplus/5.15.2/build/Net-SFTP-Foreign-1.67/blib/arch
    /home/bri/.cpanplus/5.15.2/build/Net-SFTP-Foreign-Exceptional-0.011/blib/lib
    /home/bri/.cpanplus/5.15.2/build/Net-SFTP-Foreign-Exceptional-0.011/blib/arch
    /home/bri/perl5/perlbrew/perls/perl-5.15.2/lib/site_perl/5.15.2/i686-linux
    /home/bri/perl5/perlbrew/perls/perl-5.15.2/lib/site_perl/5.15.2
    /home/bri/perl5/perlbrew/perls/perl-5.15.2/lib/5.15.2/i686-linux
    /home/bri/perl5/perlbrew/perls/perl-5.15.2/lib/5.15.2
    .