XS-Framework v1.6.0 Perl 5 v5.40.0 x86_64-linux-thread-multi-ld

Status
Pass
From
Andreas J. König (ANDK)
Dist
XS-Framework v1.6.0
Platform
Perl 5 v5.40.0 x86_64-linux-thread-multi-ld
Date
2025-03-29 09:53:19
ID
a4fddd26-0c83-11f0-a84f-f9f94d37bcf9
This distribution has been tested as part of the CPAN Testers
project, supporting the Perl programming language.  See
http://wiki.cpantesters.org/ for more information or email
questions to cpan-testers-discuss@perl.org


--
Dear Oleg Pronin,

This is a computer-generated report for XS-Framework-1.6.0
on perl 5.40.0, created by CPAN-Reporter-1.2020.

Thank you for uploading your work to CPAN.  Congratulations!
All tests were successful.

Sections of this report:

    * Tester comments
    * Program output
    * Prerequisites
    * Environment and other context

------------------------------
TESTER COMMENTS
------------------------------

Additional comments from tester:

this report is from an automated smoke testing program
and was not reviewed by a human for accuracy

------------------------------
PROGRAM OUTPUT
------------------------------

Output from '/usr/bin/make test':

"/home/sand/src/perl/repoperls/installed-perls/host/k93msid/v5.40.0/ac75/bin/perl" -MExtUtils::Command::MM -e 'cp_nonempty' -- Framework.bs blib/arch/auto/XS/Framework/Framework.bs 644
c++ -c  -Isrc -I/home/sand/src/perl/repoperls/installed-perls/host/k93msid/v5.40.0/ac75/lib/site_perl/5.40.0/XS/Install.x/i -I/home/sand/src/perl/repoperls/installed-perls/host/k93msid/v5.40.0/ac75/lib/site_perl/5.40.0/x86_64-linux-thread-multi-ld/next/XS.x/i -I/home/sand/src/perl/repoperls/installed-perls/host/k93msid/v5.40.0/ac75/lib/site_perl/5.40.0/x86_64-linux-thread-multi-ld/XS/libpanda.x/i -I/home/sand/src/perl/repoperls/installed-perls/host/k93msid/v5.40.0/ac75/lib/site_perl/5.40.0/x86_64-linux-thread-multi-ld/XS/libcatch.x/i -Wall -Wextra  -std=c++14 -D_REENTRANT -D_GNU_SOURCE -fwrapv -DDEBUGGING -fno-strict-aliasing -pipe -fstack-protector-strong -I/usr/local/include -D_LARGEFILE_SOURCE -D_FILE_OFFSET_BITS=64 -D_FORTIFY_SOURCE=2 -o t/typemap/function.o -g -O0   -DVERSION=\"0.0.0\" -DXS_VERSION=\"0.0.0\" -fPIC "-I/home/sand/src/perl/repoperls/installed-perls/host/k93msid/v5.40.0/ac75/lib/5.40.0/x86_64-linux-thread-multi-ld/CORE"   t/typemap/function.cc
c++ -c  -Isrc -I/home/sand/src/perl/repoperls/installed-perls/host/k93msid/v5.40.0/ac75/lib/site_perl/5.40.0/XS/Install.x/i -I/home/sand/src/perl/repoperls/installed-perls/host/k93msid/v5.40.0/ac75/lib/site_perl/5.40.0/x86_64-linux-thread-multi-ld/next/XS.x/i -I/home/sand/src/perl/repoperls/installed-perls/host/k93msid/v5.40.0/ac75/lib/site_perl/5.40.0/x86_64-linux-thread-multi-ld/XS/libpanda.x/i -I/home/sand/src/perl/repoperls/installed-perls/host/k93msid/v5.40.0/ac75/lib/site_perl/5.40.0/x86_64-linux-thread-multi-ld/XS/libcatch.x/i -Wall -Wextra  -std=c++14 -D_REENTRANT -D_GNU_SOURCE -fwrapv -DDEBUGGING -fno-strict-aliasing -pipe -fstack-protector-strong -I/usr/local/include -D_LARGEFILE_SOURCE -D_FILE_OFFSET_BITS=64 -D_FORTIFY_SOURCE=2 -o t/typemap/ref.o -g -O0   -DVERSION=\"0.0.0\" -DXS_VERSION=\"0.0.0\" -fPIC "-I/home/sand/src/perl/repoperls/installed-perls/host/k93msid/v5.40.0/ac75/lib/5.40.0/x86_64-linux-thread-multi-ld/CORE"   t/typemap/ref.cc
c++ -c  -Isrc -I/home/sand/src/perl/repoperls/installed-perls/host/k93msid/v5.40.0/ac75/lib/site_perl/5.40.0/XS/Install.x/i -I/home/sand/src/perl/repoperls/installed-perls/host/k93msid/v5.40.0/ac75/lib/site_perl/5.40.0/x86_64-linux-thread-multi-ld/next/XS.x/i -I/home/sand/src/perl/repoperls/installed-perls/host/k93msid/v5.40.0/ac75/lib/site_perl/5.40.0/x86_64-linux-thread-multi-ld/XS/libpanda.x/i -I/home/sand/src/perl/repoperls/installed-perls/host/k93msid/v5.40.0/ac75/lib/site_perl/5.40.0/x86_64-linux-thread-multi-ld/XS/libcatch.x/i -Wall -Wextra  -std=c++14 -D_REENTRANT -D_GNU_SOURCE -fwrapv -DDEBUGGING -fno-strict-aliasing -pipe -fstack-protector-strong -I/usr/local/include -D_LARGEFILE_SOURCE -D_FILE_OFFSET_BITS=64 -D_FORTIFY_SOURCE=2 -o t/svapi/array.o -g -O0   -DVERSION=\"0.0.0\" -DXS_VERSION=\"0.0.0\" -fPIC "-I/home/sand/src/perl/repoperls/installed-perls/host/k93msid/v5.40.0/ac75/lib/5.40.0/x86_64-linux-thread-multi-ld/CORE"   t/svapi/array.cc
c++ -c  -Isrc -I/home/sand/src/perl/repoperls/installed-perls/host/k93msid/v5.40.0/ac75/lib/site_perl/5.40.0/XS/Install.x/i -I/home/sand/src/perl/repoperls/installed-perls/host/k93msid/v5.40.0/ac75/lib/site_perl/5.40.0/x86_64-linux-thread-multi-ld/next/XS.x/i -I/home/sand/src/perl/repoperls/installed-perls/host/k93msid/v5.40.0/ac75/lib/site_perl/5.40.0/x86_64-linux-thread-multi-ld/XS/libpanda.x/i -I/home/sand/src/perl/repoperls/installed-perls/host/k93msid/v5.40.0/ac75/lib/site_perl/5.40.0/x86_64-linux-thread-multi-ld/XS/libcatch.x/i -Wall -Wextra  -std=c++14 -D_REENTRANT -D_GNU_SOURCE -fwrapv -DDEBUGGING -fno-strict-aliasing -pipe -fstack-protector-strong -I/usr/local/include -D_LARGEFILE_SOURCE -D_FILE_OFFSET_BITS=64 -D_FORTIFY_SOURCE=2 -o t/svapi/glob.o -g -O0   -DVERSION=\"0.0.0\" -DXS_VERSION=\"0.0.0\" -fPIC "-I/home/sand/src/perl/repoperls/installed-perls/host/k93msid/v5.40.0/ac75/lib/5.40.0/x86_64-linux-thread-multi-ld/CORE"   t/svapi/glob.cc
c++ -c  -Isrc -I/home/sand/src/perl/repoperls/installed-perls/host/k93msid/v5.40.0/ac75/lib/site_perl/5.40.0/XS/Install.x/i -I/home/sand/src/perl/repoperls/installed-perls/host/k93msid/v5.40.0/ac75/lib/site_perl/5.40.0/x86_64-linux-thread-multi-ld/next/XS.x/i -I/home/sand/src/perl/repoperls/installed-perls/host/k93msid/v5.40.0/ac75/lib/site_perl/5.40.0/x86_64-linux-thread-multi-ld/XS/libpanda.x/i -I/home/sand/src/perl/repoperls/installed-perls/host/k93msid/v5.40.0/ac75/lib/site_perl/5.40.0/x86_64-linux-thread-multi-ld/XS/libcatch.x/i -Wall -Wextra  -std=c++14 -D_REENTRANT -D_GNU_SOURCE -fwrapv -DDEBUGGING -fno-strict-aliasing -pipe -fstack-protector-strong -I/usr/local/include -D_LARGEFILE_SOURCE -D_FILE_OFFSET_BITS=64 -D_FORTIFY_SOURCE=2 -o t/svapi/hash.o -g -O0   -DVERSION=\"0.0.0\" -DXS_VERSION=\"0.0.0\" -fPIC "-I/home/sand/src/perl/repoperls/installed-perls/host/k93msid/v5.40.0/ac75/lib/5.40.0/x86_64-linux-thread-multi-ld/CORE"   t/svapi/hash.cc
c++ -c  -Isrc -I/home/sand/src/perl/repoperls/installed-perls/host/k93msid/v5.40.0/ac75/lib/site_perl/5.40.0/XS/Install.x/i -I/home/sand/src/perl/repoperls/installed-perls/host/k93msid/v5.40.0/ac75/lib/site_perl/5.40.0/x86_64-linux-thread-multi-ld/next/XS.x/i -I/home/sand/src/perl/repoperls/installed-perls/host/k93msid/v5.40.0/ac75/lib/site_perl/5.40.0/x86_64-linux-thread-multi-ld/XS/libpanda.x/i -I/home/sand/src/perl/repoperls/installed-perls/host/k93msid/v5.40.0/ac75/lib/site_perl/5.40.0/x86_64-linux-thread-multi-ld/XS/libcatch.x/i -Wall -Wextra  -std=c++14 -D_REENTRANT -D_GNU_SOURCE -fwrapv -DDEBUGGING -fno-strict-aliasing -pipe -fstack-protector-strong -I/usr/local/include -D_LARGEFILE_SOURCE -D_FILE_OFFSET_BITS=64 -D_FORTIFY_SOURCE=2 -o t/svapi/io.o -g -O0   -DVERSION=\"0.0.0\" -DXS_VERSION=\"0.0.0\" -fPIC "-I/home/sand/src/perl/repoperls/installed-perls/host/k93msid/v5.40.0/ac75/lib/5.40.0/x86_64-linux-thread-multi-ld/CORE"   t/svapi/io.cc
c++ -c  -Isrc -I/home/sand/src/perl/repoperls/installed-perls/host/k93msid/v5.40.0/ac75/lib/site_perl/5.40.0/XS/Install.x/i -I/home/sand/src/perl/repoperls/installed-perls/host/k93msid/v5.40.0/ac75/lib/site_perl/5.40.0/x86_64-linux-thread-multi-ld/next/XS.x/i -I/home/sand/src/perl/repoperls/installed-perls/host/k93msid/v5.40.0/ac75/lib/site_perl/5.40.0/x86_64-linux-thread-multi-ld/XS/libpanda.x/i -I/home/sand/src/perl/repoperls/installed-perls/host/k93msid/v5.40.0/ac75/lib/site_perl/5.40.0/x86_64-linux-thread-multi-ld/XS/libcatch.x/i -Wall -Wextra  -std=c++14 -D_REENTRANT -D_GNU_SOURCE -fwrapv -DDEBUGGING -fno-strict-aliasing -pipe -fstack-protector-strong -I/usr/local/include -D_LARGEFILE_SOURCE -D_FILE_OFFSET_BITS=64 -D_FORTIFY_SOURCE=2 -o t/svapi/object.o -g -O0   -DVERSION=\"0.0.0\" -DXS_VERSION=\"0.0.0\" -fPIC "-I/home/sand/src/perl/repoperls/installed-perls/host/k93msid/v5.40.0/ac75/lib/5.40.0/x86_64-linux-thread-multi-ld/CORE"   t/svapi/object.cc
c++ -c  -Isrc -I/home/sand/src/perl/repoperls/installed-perls/host/k93msid/v5.40.0/ac75/lib/site_perl/5.40.0/XS/Install.x/i -I/home/sand/src/perl/repoperls/installed-perls/host/k93msid/v5.40.0/ac75/lib/site_perl/5.40.0/x86_64-linux-thread-multi-ld/next/XS.x/i -I/home/sand/src/perl/repoperls/installed-perls/host/k93msid/v5.40.0/ac75/lib/site_perl/5.40.0/x86_64-linux-thread-multi-ld/XS/libpanda.x/i -I/home/sand/src/perl/repoperls/installed-perls/host/k93msid/v5.40.0/ac75/lib/site_perl/5.40.0/x86_64-linux-thread-multi-ld/XS/libcatch.x/i -Wall -Wextra  -std=c++14 -D_REENTRANT -D_GNU_SOURCE -fwrapv -DDEBUGGING -fno-strict-aliasing -pipe -fstack-protector-strong -I/usr/local/include -D_LARGEFILE_SOURCE -D_FILE_OFFSET_BITS=64 -D_FORTIFY_SOURCE=2 -o t/svapi/ref.o -g -O0   -DVERSION=\"0.0.0\" -DXS_VERSION=\"0.0.0\" -fPIC "-I/home/sand/src/perl/repoperls/installed-perls/host/k93msid/v5.40.0/ac75/lib/5.40.0/x86_64-linux-thread-multi-ld/CORE"   t/svapi/ref.cc
c++ -c  -Isrc -I/home/sand/src/perl/repoperls/installed-perls/host/k93msid/v5.40.0/ac75/lib/site_perl/5.40.0/XS/Install.x/i -I/home/sand/src/perl/repoperls/installed-perls/host/k93msid/v5.40.0/ac75/lib/site_perl/5.40.0/x86_64-linux-thread-multi-ld/next/XS.x/i -I/home/sand/src/perl/repoperls/installed-perls/host/k93msid/v5.40.0/ac75/lib/site_perl/5.40.0/x86_64-linux-thread-multi-ld/XS/libpanda.x/i -I/home/sand/src/perl/repoperls/installed-perls/host/k93msid/v5.40.0/ac75/lib/site_perl/5.40.0/x86_64-linux-thread-multi-ld/XS/libcatch.x/i -Wall -Wextra  -std=c++14 -D_REENTRANT -D_GNU_SOURCE -fwrapv -DDEBUGGING -fno-strict-aliasing -pipe -fstack-protector-strong -I/usr/local/include -D_LARGEFILE_SOURCE -D_FILE_OFFSET_BITS=64 -D_FORTIFY_SOURCE=2 -o t/svapi/scalar.o -g -O0   -DVERSION=\"0.0.0\" -DXS_VERSION=\"0.0.0\" -fPIC "-I/home/sand/src/perl/repoperls/installed-perls/host/k93msid/v5.40.0/ac75/lib/5.40.0/x86_64-linux-thread-multi-ld/CORE"   t/svapi/scalar.cc
c++ -c  -Isrc -I/home/sand/src/perl/repoperls/installed-perls/host/k93msid/v5.40.0/ac75/lib/site_perl/5.40.0/XS/Install.x/i -I/home/sand/src/perl/repoperls/installed-perls/host/k93msid/v5.40.0/ac75/lib/site_perl/5.40.0/x86_64-linux-thread-multi-ld/next/XS.x/i -I/home/sand/src/perl/repoperls/installed-perls/host/k93msid/v5.40.0/ac75/lib/site_perl/5.40.0/x86_64-linux-thread-multi-ld/XS/libpanda.x/i -I/home/sand/src/perl/repoperls/installed-perls/host/k93msid/v5.40.0/ac75/lib/site_perl/5.40.0/x86_64-linux-thread-multi-ld/XS/libcatch.x/i -Wall -Wextra  -std=c++14 -D_REENTRANT -D_GNU_SOURCE -fwrapv -DDEBUGGING -fno-strict-aliasing -pipe -fstack-protector-strong -I/usr/local/include -D_LARGEFILE_SOURCE -D_FILE_OFFSET_BITS=64 -D_FORTIFY_SOURCE=2 -o t/svapi/scope.o -g -O0   -DVERSION=\"0.0.0\" -DXS_VERSION=\"0.0.0\" -fPIC "-I/home/sand/src/perl/repoperls/installed-perls/host/k93msid/v5.40.0/ac75/lib/5.40.0/x86_64-linux-thread-multi-ld/CORE"   t/svapi/scope.cc
c++ -c  -Isrc -I/home/sand/src/perl/repoperls/installed-perls/host/k93msid/v5.40.0/ac75/lib/site_perl/5.40.0/XS/Install.x/i -I/home/sand/src/perl/repoperls/installed-perls/host/k93msid/v5.40.0/ac75/lib/site_perl/5.40.0/x86_64-linux-thread-multi-ld/next/XS.x/i -I/home/sand/src/perl/repoperls/installed-perls/host/k93msid/v5.40.0/ac75/lib/site_perl/5.40.0/x86_64-linux-thread-multi-ld/XS/libpanda.x/i -I/home/sand/src/perl/repoperls/installed-perls/host/k93msid/v5.40.0/ac75/lib/site_perl/5.40.0/x86_64-linux-thread-multi-ld/XS/libcatch.x/i -Wall -Wextra  -std=c++14 -D_REENTRANT -D_GNU_SOURCE -fwrapv -DDEBUGGING -fno-strict-aliasing -pipe -fstack-protector-strong -I/usr/local/include -D_LARGEFILE_SOURCE -D_FILE_OFFSET_BITS=64 -D_FORTIFY_SOURCE=2 -o t/svapi/simple.o -g -O0   -DVERSION=\"0.0.0\" -DXS_VERSION=\"0.0.0\" -fPIC "-I/home/sand/src/perl/repoperls/installed-perls/host/k93msid/v5.40.0/ac75/lib/5.40.0/x86_64-linux-thread-multi-ld/CORE"   t/svapi/simple.cc
c++ -c  -Isrc -I/home/sand/src/perl/repoperls/installed-perls/host/k93msid/v5.40.0/ac75/lib/site_perl/5.40.0/XS/Install.x/i -I/home/sand/src/perl/repoperls/installed-perls/host/k93msid/v5.40.0/ac75/lib/site_perl/5.40.0/x86_64-linux-thread-multi-ld/next/XS.x/i -I/home/sand/src/perl/repoperls/installed-perls/host/k93msid/v5.40.0/ac75/lib/site_perl/5.40.0/x86_64-linux-thread-multi-ld/XS/libpanda.x/i -I/home/sand/src/perl/repoperls/installed-perls/host/k93msid/v5.40.0/ac75/lib/site_perl/5.40.0/x86_64-linux-thread-multi-ld/XS/libcatch.x/i -Wall -Wextra  -std=c++14 -D_REENTRANT -D_GNU_SOURCE -fwrapv -DDEBUGGING -fno-strict-aliasing -pipe -fstack-protector-strong -I/usr/local/include -D_LARGEFILE_SOURCE -D_FILE_OFFSET_BITS=64 -D_FORTIFY_SOURCE=2 -o t/svapi/stash.o -g -O0   -DVERSION=\"0.0.0\" -DXS_VERSION=\"0.0.0\" -fPIC "-I/home/sand/src/perl/repoperls/installed-perls/host/k93msid/v5.40.0/ac75/lib/5.40.0/x86_64-linux-thread-multi-ld/CORE"   t/svapi/stash.cc
c++ -c  -Isrc -I/home/sand/src/perl/repoperls/installed-perls/host/k93msid/v5.40.0/ac75/lib/site_perl/5.40.0/XS/Install.x/i -I/home/sand/src/perl/repoperls/installed-perls/host/k93msid/v5.40.0/ac75/lib/site_perl/5.40.0/x86_64-linux-thread-multi-ld/next/XS.x/i -I/home/sand/src/perl/repoperls/installed-perls/host/k93msid/v5.40.0/ac75/lib/site_perl/5.40.0/x86_64-linux-thread-multi-ld/XS/libpanda.x/i -I/home/sand/src/perl/repoperls/installed-perls/host/k93msid/v5.40.0/ac75/lib/site_perl/5.40.0/x86_64-linux-thread-multi-ld/XS/libcatch.x/i -Wall -Wextra  -std=c++14 -D_REENTRANT -D_GNU_SOURCE -fwrapv -DDEBUGGING -fno-strict-aliasing -pipe -fstack-protector-strong -I/usr/local/include -D_LARGEFILE_SOURCE -D_FILE_OFFSET_BITS=64 -D_FORTIFY_SOURCE=2 -o t/svapi/sub.o -g -O0   -DVERSION=\"0.0.0\" -DXS_VERSION=\"0.0.0\" -fPIC "-I/home/sand/src/perl/repoperls/installed-perls/host/k93msid/v5.40.0/ac75/lib/5.40.0/x86_64-linux-thread-multi-ld/CORE"   t/svapi/sub.cc
c++ -c  -Isrc -I/home/sand/src/perl/repoperls/installed-perls/host/k93msid/v5.40.0/ac75/lib/site_perl/5.40.0/XS/Install.x/i -I/home/sand/src/perl/repoperls/installed-perls/host/k93msid/v5.40.0/ac75/lib/site_perl/5.40.0/x86_64-linux-thread-multi-ld/next/XS.x/i -I/home/sand/src/perl/repoperls/installed-perls/host/k93msid/v5.40.0/ac75/lib/site_perl/5.40.0/x86_64-linux-thread-multi-ld/XS/libpanda.x/i -I/home/sand/src/perl/repoperls/installed-perls/host/k93msid/v5.40.0/ac75/lib/site_perl/5.40.0/x86_64-linux-thread-multi-ld/XS/libcatch.x/i -Wall -Wextra  -std=c++14 -D_REENTRANT -D_GNU_SOURCE -fwrapv -DDEBUGGING -fno-strict-aliasing -pipe -fstack-protector-strong -I/usr/local/include -D_LARGEFILE_SOURCE -D_FILE_OFFSET_BITS=64 -D_FORTIFY_SOURCE=2 -o t/svapi/sv.o -g -O0   -DVERSION=\"0.0.0\" -DXS_VERSION=\"0.0.0\" -fPIC "-I/home/sand/src/perl/repoperls/installed-perls/host/k93msid/v5.40.0/ac75/lib/5.40.0/x86_64-linux-thread-multi-ld/CORE"   t/svapi/sv.cc
"/home/sand/src/perl/repoperls/installed-perls/host/k93msid/v5.40.0/ac75/bin/perl" -Ilib -MXS::Framework::ParseXS -MXS::Install::ParseXS "/home/sand/src/perl/repoperls/installed-perls/host/k93msid/v5.40.0/ac75/lib/5.40.0/ExtUtils/xsubpp"  -hiertype -C++ -hiertype -C++ -typemap '/home/sand/src/perl/repoperls/installed-perls/host/k93msid/v5.40.0/ac75/lib/5.40.0/ExtUtils/typemap' -typemap '/home/sand/src/perl/repoperls/installed-perls/host/k93msid/v5.40.0/ac75/lib/site_perl/5.40.0/XS/Install.x/tm/typemap' -typemap '/home/sand/src/perl/repoperls/installed-perls/host/k93msid/v5.40.0/ac75/lib/site_perl/5.40.0/XS/Install.x/tm/typemap' -typemap '/tmp/loop_over_bdir-2639088-9NM2yU/XS-Framework-1.6.0-0/typemap' -typemap '/tmp/loop_over_bdir-2639088-9NM2yU/XS-Framework-1.6.0-0/typemap64' -typemap '/tmp/loop_over_bdir-2639088-9NM2yU/XS-Framework-1.6.0-0/typemap' -csuffix _xsgen.cc  t/MyTest.xs > t/MyTest.xsc
mv t/MyTest.xsc t/MyTest_xsgen.cc
c++ -c  -Isrc -I/home/sand/src/perl/repoperls/installed-perls/host/k93msid/v5.40.0/ac75/lib/site_perl/5.40.0/XS/Install.x/i -I/home/sand/src/perl/repoperls/installed-perls/host/k93msid/v5.40.0/ac75/lib/site_perl/5.40.0/x86_64-linux-thread-multi-ld/next/XS.x/i -I/home/sand/src/perl/repoperls/installed-perls/host/k93msid/v5.40.0/ac75/lib/site_perl/5.40.0/x86_64-linux-thread-multi-ld/XS/libpanda.x/i -I/home/sand/src/perl/repoperls/installed-perls/host/k93msid/v5.40.0/ac75/lib/site_perl/5.40.0/x86_64-linux-thread-multi-ld/XS/libcatch.x/i -Wall -Wextra  -std=c++14 -D_REENTRANT -D_GNU_SOURCE -fwrapv -DDEBUGGING -fno-strict-aliasing -pipe -fstack-protector-strong -I/usr/local/include -D_LARGEFILE_SOURCE -D_FILE_OFFSET_BITS=64 -D_FORTIFY_SOURCE=2 -o t/MyTest_xsgen.o -g -O0   -DVERSION=\"0.0.0\" -DXS_VERSION=\"0.0.0\" -fPIC "-I/home/sand/src/perl/repoperls/installed-perls/host/k93msid/v5.40.0/ac75/lib/5.40.0/x86_64-linux-thread-multi-ld/CORE"   t/MyTest_xsgen.cc
"/home/sand/src/perl/repoperls/installed-perls/host/k93msid/v5.40.0/ac75/bin/perl" -Ilib -MXS::Framework::ParseXS -MXS::Install::ParseXS "/home/sand/src/perl/repoperls/installed-perls/host/k93msid/v5.40.0/ac75/lib/5.40.0/ExtUtils/xsubpp"  -hiertype -C++ -hiertype -C++ -typemap '/home/sand/src/perl/repoperls/installed-perls/host/k93msid/v5.40.0/ac75/lib/5.40.0/ExtUtils/typemap' -typemap '/home/sand/src/perl/repoperls/installed-perls/host/k93msid/v5.40.0/ac75/lib/site_perl/5.40.0/XS/Install.x/tm/typemap' -typemap '/home/sand/src/perl/repoperls/installed-perls/host/k93msid/v5.40.0/ac75/lib/site_perl/5.40.0/XS/Install.x/tm/typemap' -typemap '/tmp/loop_over_bdir-2639088-9NM2yU/XS-Framework-1.6.0-0/typemap' -typemap '/tmp/loop_over_bdir-2639088-9NM2yU/XS-Framework-1.6.0-0/typemap64' -typemap '/tmp/loop_over_bdir-2639088-9NM2yU/XS-Framework-1.6.0-0/typemap' -csuffix _xsgen.cc  t/typemap/typemap.xs > t/typemap/typemap.xsc
mv t/typemap/typemap.xsc t/typemap/typemap_xsgen.cc
c++ -c  -Isrc -I/home/sand/src/perl/repoperls/installed-perls/host/k93msid/v5.40.0/ac75/lib/site_perl/5.40.0/XS/Install.x/i -I/home/sand/src/perl/repoperls/installed-perls/host/k93msid/v5.40.0/ac75/lib/site_perl/5.40.0/x86_64-linux-thread-multi-ld/next/XS.x/i -I/home/sand/src/perl/repoperls/installed-perls/host/k93msid/v5.40.0/ac75/lib/site_perl/5.40.0/x86_64-linux-thread-multi-ld/XS/libpanda.x/i -I/home/sand/src/perl/repoperls/installed-perls/host/k93msid/v5.40.0/ac75/lib/site_perl/5.40.0/x86_64-linux-thread-multi-ld/XS/libcatch.x/i -Wall -Wextra  -std=c++14 -D_REENTRANT -D_GNU_SOURCE -fwrapv -DDEBUGGING -fno-strict-aliasing -pipe -fstack-protector-strong -I/usr/local/include -D_LARGEFILE_SOURCE -D_FILE_OFFSET_BITS=64 -D_FORTIFY_SOURCE=2 -o t/typemap/typemap_xsgen.o -g -O0   -DVERSION=\"0.0.0\" -DXS_VERSION=\"0.0.0\" -fPIC "-I/home/sand/src/perl/repoperls/installed-perls/host/k93msid/v5.40.0/ac75/lib/5.40.0/x86_64-linux-thread-multi-ld/CORE"   t/typemap/typemap_xsgen.cc
"/home/sand/src/perl/repoperls/installed-perls/host/k93msid/v5.40.0/ac75/bin/perl" -Ilib -MXS::Framework::ParseXS -MXS::Install::ParseXS "/home/sand/src/perl/repoperls/installed-perls/host/k93msid/v5.40.0/ac75/lib/5.40.0/ExtUtils/xsubpp"  -hiertype -C++ -hiertype -C++ -typemap '/home/sand/src/perl/repoperls/installed-perls/host/k93msid/v5.40.0/ac75/lib/5.40.0/ExtUtils/typemap' -typemap '/home/sand/src/perl/repoperls/installed-perls/host/k93msid/v5.40.0/ac75/lib/site_perl/5.40.0/XS/Install.x/tm/typemap' -typemap '/home/sand/src/perl/repoperls/installed-perls/host/k93msid/v5.40.0/ac75/lib/site_perl/5.40.0/XS/Install.x/tm/typemap' -typemap '/tmp/loop_over_bdir-2639088-9NM2yU/XS-Framework-1.6.0-0/typemap' -typemap '/tmp/loop_over_bdir-2639088-9NM2yU/XS-Framework-1.6.0-0/typemap64' -typemap '/tmp/loop_over_bdir-2639088-9NM2yU/XS-Framework-1.6.0-0/typemap' -csuffix _xsgen.cc  t/typemap/callback_dispatcher.xs > t/typemap/callback_dispatcher.xsc
mv t/typemap/callback_dispatcher.xsc t/typemap/callback_dispatcher_xsgen.cc
c++ -c  -Isrc -I/home/sand/src/perl/repoperls/installed-perls/host/k93msid/v5.40.0/ac75/lib/site_perl/5.40.0/XS/Install.x/i -I/home/sand/src/perl/repoperls/installed-perls/host/k93msid/v5.40.0/ac75/lib/site_perl/5.40.0/x86_64-linux-thread-multi-ld/next/XS.x/i -I/home/sand/src/perl/repoperls/installed-perls/host/k93msid/v5.40.0/ac75/lib/site_perl/5.40.0/x86_64-linux-thread-multi-ld/XS/libpanda.x/i -I/home/sand/src/perl/repoperls/installed-perls/host/k93msid/v5.40.0/ac75/lib/site_perl/5.40.0/x86_64-linux-thread-multi-ld/XS/libcatch.x/i -Wall -Wextra  -std=c++14 -D_REENTRANT -D_GNU_SOURCE -fwrapv -DDEBUGGING -fno-strict-aliasing -pipe -fstack-protector-strong -I/usr/local/include -D_LARGEFILE_SOURCE -D_FILE_OFFSET_BITS=64 -D_FORTIFY_SOURCE=2 -o t/typemap/callback_dispatcher_xsgen.o -g -O0   -DVERSION=\"0.0.0\" -DXS_VERSION=\"0.0.0\" -fPIC "-I/home/sand/src/perl/repoperls/installed-perls/host/k93msid/v5.40.0/ac75/lib/5.40.0/x86_64-linux-thread-multi-ld/CORE"   t/typemap/callback_dispatcher_xsgen.cc
"/home/sand/src/perl/repoperls/installed-perls/host/k93msid/v5.40.0/ac75/bin/perl" -Ilib -MXS::Framework::ParseXS -MXS::Install::ParseXS "/home/sand/src/perl/repoperls/installed-perls/host/k93msid/v5.40.0/ac75/lib/5.40.0/ExtUtils/xsubpp"  -hiertype -C++ -hiertype -C++ -typemap '/home/sand/src/perl/repoperls/installed-perls/host/k93msid/v5.40.0/ac75/lib/5.40.0/ExtUtils/typemap' -typemap '/home/sand/src/perl/repoperls/installed-perls/host/k93msid/v5.40.0/ac75/lib/site_perl/5.40.0/XS/Install.x/tm/typemap' -typemap '/home/sand/src/perl/repoperls/installed-perls/host/k93msid/v5.40.0/ac75/lib/site_perl/5.40.0/XS/Install.x/tm/typemap' -typemap '/tmp/loop_over_bdir-2639088-9NM2yU/XS-Framework-1.6.0-0/typemap' -typemap '/tmp/loop_over_bdir-2639088-9NM2yU/XS-Framework-1.6.0-0/typemap64' -typemap '/tmp/loop_over_bdir-2639088-9NM2yU/XS-Framework-1.6.0-0/typemap' -csuffix _xsgen.cc  t/cookbook/cookbook.xs > t/cookbook/cookbook.xsc
mv t/cookbook/cookbook.xsc t/cookbook/cookbook_xsgen.cc
c++ -c  -Isrc -I/home/sand/src/perl/repoperls/installed-perls/host/k93msid/v5.40.0/ac75/lib/site_perl/5.40.0/XS/Install.x/i -I/home/sand/src/perl/repoperls/installed-perls/host/k93msid/v5.40.0/ac75/lib/site_perl/5.40.0/x86_64-linux-thread-multi-ld/next/XS.x/i -I/home/sand/src/perl/repoperls/installed-perls/host/k93msid/v5.40.0/ac75/lib/site_perl/5.40.0/x86_64-linux-thread-multi-ld/XS/libpanda.x/i -I/home/sand/src/perl/repoperls/installed-perls/host/k93msid/v5.40.0/ac75/lib/site_perl/5.40.0/x86_64-linux-thread-multi-ld/XS/libcatch.x/i -Wall -Wextra  -std=c++14 -D_REENTRANT -D_GNU_SOURCE -fwrapv -DDEBUGGING -fno-strict-aliasing -pipe -fstack-protector-strong -I/usr/local/include -D_LARGEFILE_SOURCE -D_FILE_OFFSET_BITS=64 -D_FORTIFY_SOURCE=2 -o t/cookbook/cookbook_xsgen.o -g -O0   -DVERSION=\"0.0.0\" -DXS_VERSION=\"0.0.0\" -fPIC "-I/home/sand/src/perl/repoperls/installed-perls/host/k93msid/v5.40.0/ac75/lib/5.40.0/x86_64-linux-thread-multi-ld/CORE"   t/cookbook/cookbook_xsgen.cc
"/home/sand/src/perl/repoperls/installed-perls/host/k93msid/v5.40.0/ac75/bin/perl" -Ilib -MXS::Framework::ParseXS -MXS::Install::ParseXS "/home/sand/src/perl/repoperls/installed-perls/host/k93msid/v5.40.0/ac75/lib/5.40.0/ExtUtils/xsubpp"  -hiertype -C++ -hiertype -C++ -typemap '/home/sand/src/perl/repoperls/installed-perls/host/k93msid/v5.40.0/ac75/lib/5.40.0/ExtUtils/typemap' -typemap '/home/sand/src/perl/repoperls/installed-perls/host/k93msid/v5.40.0/ac75/lib/site_perl/5.40.0/XS/Install.x/tm/typemap' -typemap '/home/sand/src/perl/repoperls/installed-perls/host/k93msid/v5.40.0/ac75/lib/site_perl/5.40.0/XS/Install.x/tm/typemap' -typemap '/tmp/loop_over_bdir-2639088-9NM2yU/XS-Framework-1.6.0-0/typemap' -typemap '/tmp/loop_over_bdir-2639088-9NM2yU/XS-Framework-1.6.0-0/typemap64' -typemap '/tmp/loop_over_bdir-2639088-9NM2yU/XS-Framework-1.6.0-0/typemap' -csuffix _xsgen.cc  t/typemap/object/object.xs > t/typemap/object/object.xsc
mv t/typemap/object/object.xsc t/typemap/object/object_xsgen.cc
c++ -c  -Isrc -I/home/sand/src/perl/repoperls/installed-perls/host/k93msid/v5.40.0/ac75/lib/site_perl/5.40.0/XS/Install.x/i -I/home/sand/src/perl/repoperls/installed-perls/host/k93msid/v5.40.0/ac75/lib/site_perl/5.40.0/x86_64-linux-thread-multi-ld/next/XS.x/i -I/home/sand/src/perl/repoperls/installed-perls/host/k93msid/v5.40.0/ac75/lib/site_perl/5.40.0/x86_64-linux-thread-multi-ld/XS/libpanda.x/i -I/home/sand/src/perl/repoperls/installed-perls/host/k93msid/v5.40.0/ac75/lib/site_perl/5.40.0/x86_64-linux-thread-multi-ld/XS/libcatch.x/i -Wall -Wextra  -std=c++14 -D_REENTRANT -D_GNU_SOURCE -fwrapv -DDEBUGGING -fno-strict-aliasing -pipe -fstack-protector-strong -I/usr/local/include -D_LARGEFILE_SOURCE -D_FILE_OFFSET_BITS=64 -D_FORTIFY_SOURCE=2 -o t/typemap/object/object_xsgen.o -g -O0   -DVERSION=\"0.0.0\" -DXS_VERSION=\"0.0.0\" -fPIC "-I/home/sand/src/perl/repoperls/installed-perls/host/k93msid/v5.40.0/ac75/lib/5.40.0/x86_64-linux-thread-multi-ld/CORE"   t/typemap/object/object_xsgen.cc
Running Mkbootstrap for MyTest ()
chmod 644 "MyTest.bs"
"/home/sand/src/perl/repoperls/installed-perls/host/k93msid/v5.40.0/ac75/bin/perl" -MExtUtils::Command::MM -e 'cp_nonempty' -- MyTest.bs blib/arch/auto/MyTest/MyTest.bs 644
rm -f blib/arch/auto/MyTest/MyTest.so
c++  -shared -O2 -g -L/usr/local/lib -fstack-protector-strong  t/typemap/function.o t/typemap/ref.o t/svapi/array.o t/svapi/glob.o t/svapi/hash.o t/svapi/io.o t/svapi/object.o t/svapi/ref.o t/svapi/scalar.o t/svapi/scope.o t/svapi/simple.o t/svapi/stash.o t/svapi/sub.o t/svapi/sv.o t/MyTest_xsgen.o t/typemap/typemap_xsgen.o t/typemap/callback_dispatcher_xsgen.o t/cookbook/cookbook_xsgen.o t/typemap/object/object_xsgen.o blib/arch/auto/XS/Framework/Framework.so -lunwind -o blib/arch/auto/MyTest/MyTest.so  \
      \
  
chmod 755 blib/arch/auto/MyTest/MyTest.so
Manifying 27 pod documents
Manifying 10 pod documents
PERL_DL_NONLAZY=1 "/home/sand/src/perl/repoperls/installed-perls/host/k93msid/v5.40.0/ac75/bin/perl" "-MExtUtils::Command::MM" "-MTest::Harness" "-e" "undef *Test::Harness::Switches; test_harness(0, 'blib/lib', 'blib/arch')" t/*.t t/*/*.t t/*/*/*.t
t/cookbook/recipe01.t ............... skipped: set TEST_FULL=1 to enable this test
t/cookbook/recipe02.t ............... skipped: set TEST_FULL=1 to enable this test
t/cookbook/recipe03.t ............... skipped: set TEST_FULL=1 to enable this test
t/cookbook/recipe04.t ............... skipped: set TEST_FULL=1 to enable this test
t/cookbook/recipe05.t ............... skipped: set TEST_FULL=1 to enable this test
t/cookbook/recipe06.t ............... skipped: set TEST_FULL=1 to enable this test
t/cookbook/recipe07.t ............... skipped: set TEST_FULL=1 to enable this test
t/cookbook/recipe08.t ............... skipped: set TEST_FULL=1 to enable this test
t/cookbook/recipe09.t ............... skipped: set TEST_FULL=1 to enable this test
t/cookbook/recipe10.t ............... skipped: set TEST_FULL=1 to enable this test
t/cookbook/recipe11.t ............... skipped: set TEST_FULL=1 to enable this test
t/cookbook/recipe12.t ............... skipped: set TEST_FULL=1 to enable this test
t/cookbook/recipe13.t ............... skipped: set TEST_FULL=1 to enable this test
t/payload.t ......................... ok
t/svapi/array.t ..................... ok
t/svapi/glob.t ...................... ok
t/svapi/hash.t ...................... ok
t/svapi/io.t ........................ ok
t/svapi/object.t .................... ok
t/svapi/ref.t ....................... ok
t/svapi/scalar.t .................... ok
t/svapi/scope.t ..................... ok
t/svapi/simple.t .................... ok
t/svapi/stash.t ..................... ok
t/svapi/sub.t ....................... ok
t/svapi/sv.t ........................ ok
t/typemap/callback_dispatcher.t ..... ok
t/typemap/const.t ................... ok
t/typemap/container.t ............... ok
t/typemap/error.t ................... ok
t/typemap/expected.t ................ ok
t/typemap/function.t ................ ok
t/typemap/not_null.t ................ ok
t/typemap/object/avhv.t ............. ok
t/typemap/object/backref-threads.t .. ok
t/typemap/object/backref.t .......... ok
t/typemap/object/casting.t .......... ok
t/typemap/object/child.t ............ ok
t/typemap/object/foreign.t .......... ok
t/typemap/object/join.t ............. ok
t/typemap/object/mixin.t ............ ok
t/typemap/object/refcnt.t ........... ok
t/typemap/object/single.t ........... ok
t/typemap/object/static_cast.t ...... ok
t/typemap/object/threads.t .......... ok
t/typemap/primitives.t .............. ok
t/typemap/ref.t ..................... ok
t/typemap/svapi.t ................... ok
t/typemap/svrefs.t .................. ok
t/upgrade.t ......................... ok
All tests successful.
Files=50, Tests=330, 14 wallclock secs ( 0.47 usr  0.11 sys +  6.28 cusr  1.41 csys =  8.27 CPU)
Result: PASS

------------------------------
PREREQUISITES
------------------------------

Prerequisite modules loaded:

requires:

    Module          Need     Have    
    --------------- -------- --------
    next::XS        v1.0.8   1.0.8   
    perl            5.022000 5.040000
    XS::Install     v1.4.0   1.4.0   
    XS::libpanda    v1.5.11  1.5.11  

build_requires:

    Module          Need     Have    
    --------------- -------- --------
    next::XS        v1.0.8   1.0.8   
    Test::Catch     v2.0.2   2.0.2   
    Test::Deep      0        1.204   
    Test::Exception 0        0.43    
    Test::More      0        1.302209
    Test::Simple    0.96     1.302209
    XS::libcatch    v3.7.1.1 3.7.1.1 
    XS::libpanda    v1.5.11  1.5.11  

configure_requires:

    Module          Need     Have    
    --------------- -------- --------
    next::XS        v1.0.8   1.0.8   
    Test::Catch     v2.0.2   2.0.2   
    XS::Install     v1.4.0   1.4.0   
    XS::libcatch    v3.7.1   3.7.1.1 
    XS::libpanda    v1.5.11  1.5.11  


------------------------------
ENVIRONMENT AND OTHER CONTEXT
------------------------------

Environment variables:

    AUTOMATED_TESTING = 1
    LANG = en_US.UTF-8
    LANGUAGE = en_US:en
    PATH = /home/sand/bin:/usr/local/bin:/usr/bin:/bin:/usr/games:/usr/local/perl/bin:/usr/X11/bin:/sbin:/usr/sbin
    PERL5LIB = 
    PERL5OPT = 
    PERL5_CPANPLUS_IS_RUNNING = 696364
    PERL5_CPAN_IS_RUNNING = 696364
    PERL_CANARY_STABILITY_NOPROMPT = 1
    PERL_MM_USE_DEFAULT = 1
    PERL_USE_UNSAFE_INC = 1
    SHELL = /usr/bin/zsh
    TERM = screen

Perl special variables (and OS-specific diagnostics, for MSWin32):

    $^X = /home/sand/src/perl/repoperls/installed-perls/host/k93msid/v5.40.0/ac75/bin/perl
    $UID/$EUID = 1005 / 1005
    $GID = 1005 1005
    $EGID = 1005 1005

Perl module toolchain versions installed:

    Module              Have    
    ------------------- --------
    CPAN                2.36    
    CPAN::Meta          2.150010
    Cwd                 3.90    
    ExtUtils::CBuilder  0.280240
    ExtUtils::Command   7.72    
    ExtUtils::Install   2.22    
    ExtUtils::MakeMaker 7.72    
    ExtUtils::Manifest  1.75    
    ExtUtils::ParseXS   3.51    
    File::Spec          3.90    
    JSON                4.10    
    JSON::PP            4.16    
    Module::Build       0.4234  
    Module::Signature   0.88    
    Parse::CPAN::Meta   2.150010
    Test2               1.302209
    Test::Harness       3.48    
    Test::More          1.302209
    YAML                1.31    
    YAML::Syck          1.34    
    version             0.9932  


--

Summary of my perl5 (revision 5 version 40 subversion 0) configuration:
  Commit id: f22a16ecf4821b7e93d2569f630817a2631fddd9
  Platform:
    osname=linux
    osvers=6.8.9-amd64
    archname=x86_64-linux-thread-multi-ld
    uname='linux k93msid 6.8.9-amd64 #1 smp preempt_dynamic debian 6.8.9-1 (2024-05-15) x86_64 gnulinux '
    config_args='-Dprefix=/home/sand/src/perl/repoperls/installed-perls/host/k93msid/v5.40.0/ac75 -Dmyhostname=k93msid -Dinstallusrbinperl=n -Uversiononly -Dusedevel -des -Ui_db -Dlibswanted=cl pthread socket inet nsl gdbm dbm malloc dl ld sun m crypt sec util c cposix posix ucb BSD gdbm_compat -Duseithreads -Duselongdouble -DEBUGGING=both'
    hint=recommended
    useposix=true
    d_sigaction=define
    useithreads=define
    usemultiplicity=define
    use64bitint=define
    use64bitall=define
    uselongdouble=define
    usemymalloc=n
    default_inc_excludes_dot=define
  Compiler:
    cc='cc'
    ccflags ='-D_REENTRANT -D_GNU_SOURCE -fwrapv -DDEBUGGING -fno-strict-aliasing -pipe -fstack-protector-strong -I/usr/local/include -D_LARGEFILE_SOURCE -D_FILE_OFFSET_BITS=64 -D_FORTIFY_SOURCE=2'
    optimize='-O2 -g'
    cppflags='-D_REENTRANT -D_GNU_SOURCE -fwrapv -DDEBUGGING -fno-strict-aliasing -pipe -fstack-protector-strong -I/usr/local/include'
    ccversion=''
    gccversion='13.2.0'
    gccosandvers=''
    intsize=4
    longsize=8
    ptrsize=8
    doublesize=8
    byteorder=12345678
    doublekind=3
    d_longlong=define
    longlongsize=8
    d_longdbl=define
    longdblsize=16
    longdblkind=3
    ivtype='long'
    ivsize=8
    nvtype='long double'
    nvsize=16
    Off_t='off_t'
    lseeksize=8
    alignbytes=16
    prototype=define
  Linker and Libraries:
    ld='cc'
    ldflags =' -fstack-protector-strong -L/usr/local/lib'
    libpth=/usr/local/lib /usr/lib/x86_64-linux-gnu /usr/lib /usr/lib64
    libs=-lpthread -ldl -lm -lcrypt -lutil -lc
    perllibs=-lpthread -ldl -lm -lcrypt -lutil -lc
    libc=/lib/x86_64-linux-gnu/libc.so.6
    so=so
    useshrplib=false
    libperl=libperl.a
    gnulibc_version='2.38'
  Dynamic Linking:
    dlsrc=dl_dlopen.xs
    dlext=so
    d_dlsymun=undef
    ccdlflags='-Wl,-E'
    cccdlflags='-fPIC'
    lddlflags='-shared -O2 -g -L/usr/local/lib -fstack-protector-strong'


Characteristics of this binary (from libperl): 
  Compile-time options:
    DEBUGGING
    HAS_LONG_DOUBLE
    HAS_STRTOLD
    HAS_TIMES
    MULTIPLICITY
    PERLIO_LAYERS
    PERL_COPY_ON_WRITE
    PERL_DONT_CREATE_GVSV
    PERL_HASH_FUNC_SIPHASH13
    PERL_HASH_USE_SBOX32
    PERL_MALLOC_WRAP
    PERL_OP_PARENT
    PERL_PRESERVE_IVUV
    PERL_TRACK_MEMPOOL
    PERL_USE_DEVEL
    PERL_USE_SAFE_PUTENV
    USE_64_BIT_ALL
    USE_64_BIT_INT
    USE_ITHREADS
    USE_LARGE_FILES
    USE_LOCALE
    USE_LOCALE_COLLATE
    USE_LOCALE_CTYPE
    USE_LOCALE_NUMERIC
    USE_LOCALE_TIME
    USE_LONG_DOUBLE
    USE_PERLIO
    USE_PERL_ATOF
    USE_REENTRANT_API
    USE_THREAD_SAFE_LOCALE
  Built under linux
  Compiled at Jun 10 2024 08:02:04
  %ENV:
    PERL5LIB=""
    PERL5OPT=""
    PERL5_CPANPLUS_IS_RUNNING="696364"
    PERL5_CPAN_IS_RUNNING="696364"
    PERL_CANARY_STABILITY_NOPROMPT="1"
    PERL_MM_USE_DEFAULT="1"
    PERL_USE_UNSAFE_INC="1"
  @INC:
    /home/sand/src/perl/repoperls/installed-perls/host/k93msid/v5.40.0/ac75/lib/site_perl/5.40.0/x86_64-linux-thread-multi-ld
    /home/sand/src/perl/repoperls/installed-perls/host/k93msid/v5.40.0/ac75/lib/site_perl/5.40.0
    /home/sand/src/perl/repoperls/installed-perls/host/k93msid/v5.40.0/ac75/lib/5.40.0/x86_64-linux-thread-multi-ld
    /home/sand/src/perl/repoperls/installed-perls/host/k93msid/v5.40.0/ac75/lib/5.40.0
    .